Workbook

Sheet OVERALL SUMMARY
A1: Appendix C
A2: OVERALL BUDGET SUMMARY
A4: =SUMMARY!A4:F4 -> (Insert Vendor Name)
A5: =SUMMARY!A5:F5 -> (Insert SAP #)
A6: (Insert Overall Project Period)
A8: CATEGORIES | D8: =SUMMARY!$D$8 -> Original Budget | E8: Amendment (If Applicable) | F8: =SUMMARY!$F$8 -> Total Budget
A9: I. PERSONNEL SERVICES | D9: =SUMMARY!D9+'SUMMARY - Year 2'!D9+'SUMMARY - Year 3'!D9+'SUMMARY - Year 4'!D9+'SUMMARY - Year 5'!D9+'SUMMARY - Year 6'!D9 -> 0 | E9: =SUMMARY!E9+'SUMMARY - Year 2'!E9+'SUMMARY - Year 3'!E9+'SUMMARY - Year 4'!E9+'SUMMARY - Year 5'!E9+'SUMMARY - Year 6'!E9 -> 0 | F9: =D9+E9 -> 0
A10: II. CONSULTANT SERVICES | D10: =SUMMARY!D10+'SUMMARY - Year 2'!D10+'SUMMARY - Year 3'!D10+'SUMMARY - Year 4'!D10+'SUMMARY - Year 5'!D10+'SUMMARY - Year 6'!D10 -> 0 | E10: =SUMMARY!E10+'SUMMARY - Year 2'!E10+'SUMMARY - Year 3'!E10+'SUMMARY - Year 4'!E10+'SUMMARY - Year 5'!E10+'SUMMARY - Year 6'!E10 -> 0 | F10: =D10+E10 -> 0
A11: III. SUBCONTRACT SERVICES | D11: =SUMMARY!D11+'SUMMARY - Year 2'!D11+'SUMMARY - Year 3'!D11+'SUMMARY - Year 4'!D11+'SUMMARY - Year 5'!D11+'SUMMARY - Year 6'!D11 -> 0 | E11: =SUMMARY!E11+'SUMMARY - Year 2'!E11+'SUMMARY - Year 3'!E11+'SUMMARY - Year 4'!E11+'SUMMARY - Year 5'!E11+'SUMMARY - Year 6'!E11 -> 0 | F11: =D11+E11 -> 0
A12: IV. PATIENT SERVICES | D12: =SUMMARY!D12+'SUMMARY - Year 2'!D12+'SUMMARY - Year 3'!D12+'SUMMARY - Year 4'!D12+'SUMMARY - Year 5'!D12+'SUMMARY - Year 6'!D12 -> 0 | E12: =SUMMARY!E12+'SUMMARY - Year 2'!E12+'SUMMARY - Year 3'!E12+'SUMMARY - Year 4'!E12+'SUMMARY - Year 5'!E12+'SUMMARY - Year 6'!E12 -> 0 | F12: =D12+E12 -> 0
A13: V. EQUIPMENT | D13: =SUMMARY!D13+'SUMMARY - Year 2'!D13+'SUMMARY - Year 3'!D13+'SUMMARY - Year 4'!D13+'SUMMARY - Year 5'!D13+'SUMMARY - Year 6'!D13 -> 0 | E13: =SUMMARY!E13+'SUMMARY - Year 2'!E13+'SUMMARY - Year 3'!E13+'SUMMARY - Year 4'!E13+'SUMMARY - Year 5'!E13+'SUMMARY - Year 6'!E13 -> 0 | F13: =D13+E13 -> 0
A14: VI. SUPPLIES | D14: =SUMMARY!D14+'SUMMARY - Year 2'!D14+'SUMMARY - Year 3'!D14+'SUMMARY - Year 4'!D14+'SUMMARY - Year 5'!D14+'SUMMARY - Year 6'!D14 -> 0 | E14: =SUMMARY!E14+'SUMMARY - Year 2'!E14+'SUMMARY - Year 3'!E14+'SUMMARY - Year 4'!E14+'SUMMARY - Year 5'!E14+'SUMMARY - Year 6'!E14 -> 0 | F14: =D14+E14 -> 0
A15: VII. TRAVEL | D15: =SUMMARY!D15+'SUMMARY - Year 2'!D15+'SUMMARY - Year 3'!D15+'SUMMARY - Year 4'!D15+'SUMMARY - Year 5'!D15+'SUMMARY - Year 6'!D15 -> 0 | E15: =SUMMARY!E15+'SUMMARY - Year 2'!E15+'SUMMARY - Year 3'!E15+'SUMMARY - Year 4'!E15+'SUMMARY - Year 5'!E15+'SUMMARY - Year 6'!E15 -> 0 | F15: =D15+E15 -> 0
A16: VIII. OTHER COSTS / LABORATORY OR BUILDING CONSTRUCTION OR RENOVATION | D16: =SUMMARY!D16+'SUMMARY - Year 2'!D16+'SUMMARY - Year 3'!D16+'SUMMARY - Year 4'!D16+'SUMMARY - Year 5'!D16+'SUMMARY - Year 6'!D16 -> 0 | E16: =SUMMARY!E16+'SUMMARY - Year 2'!E16+'SUMMARY - Year 3'!E16+'SUMMARY - Year 4'!E16+'SUMMARY - Year 5'!E16+'SUMMARY - Year 6'!E16 -> 0 | F16: =D16+E16 -> 0
A17: TOTAL | D17: =SUM(D9:D16) -> 0 | E17: =SUM(E9:E16) -> 0 | F17: =SUM(F9:F16) -> 0
A19: -1-

Sheet SUMMARY
A1: ='BUDGET DETAILS '!$A$1 -> Appendix C
A2: BUDGET SUMMARY
A4: ='BUDGET DETAILS '!A2:T2 -> (Insert Vendor Name)
A5: ='BUDGET DETAILS '!A3:T3 -> (Insert SAP #)
A6: ='BUDGET DETAILS '!A4:T4 -> (Insert Budget Period)
A8: CATEGORIES | D8: ='BUDGET DETAILS '!D6 -> Original Budget | E8: ='BUDGET DETAILS '!L6 -> Amendment Type & Number | F8: ='BUDGET DETAILS '!T6 -> Total Budget
A9: I. PERSONNEL SERVICES | D9: =SUM('BUDGET DETAILS '!D80:K80) -> 0 | E9: =SUM('BUDGET DETAILS '!L80:S80) -> 0 | F9: =D9+E9 -> 0 | G9: =IF(F9='BUDGET DETAILS '!T80,"","ERROR")
A10: II. CONSULTANT SERVICES | D10: =SUM('BUDGET DETAILS '!D100:K100) -> 0 | E10: =SUM('BUDGET DETAILS '!L100:S100) -> 0 | F10: =D10+E10 -> 0 | G10: =IF(F10='BUDGET DETAILS '!T100,"","ERROR")
A11: III. SUBCONTRACT SERVICES | D11: =SUM('BUDGET DETAILS '!D116:K116) -> 0 | E11: =SUM('BUDGET DETAILS '!L116:S116) -> 0 | F11: =D11+E11 -> 0 | G11: =IF(F11='BUDGET DETAILS '!T116,"","ERROR")
A12: IV. PATIENT SERVICES | D12: =SUM('BUDGET DETAILS '!D135:K135) -> 0 | E12: =SUM('BUDGET DETAILS '!L135:S135) -> 0 | F12: =D12+E12 -> 0 | G12: =IF(F12='BUDGET DETAILS '!T135,"","ERROR")
A13: V. EQUIPMENT | D13: =SUM('BUDGET DETAILS '!D151:K151) -> 0 | E13: =SUM('BUDGET DETAILS '!L151:S151) -> 0 | F13: =D13+E13 -> 0 | G13: =IF(F13='BUDGET DETAILS '!T151,"","ERROR")
A14: VI. SUPPLIES | D14: =SUM('BUDGET DETAILS '!D167:K167) -> 0 | E14: =SUM('BUDGET DETAILS '!L167:S167) -> 0 | F14: =D14+E14 -> 0 | G14: =IF(F14='BUDGET DETAILS '!T167,"","ERROR")
A15: VII. TRAVEL | D15: =SUM('BUDGET DETAILS '!D187:K187) -> 0 | E15: =SUM('BUDGET DETAILS '!L187:S187) -> 0 | F15: =D15+E15 -> 0 | G15: =IF(F15='BUDGET DETAILS '!T187,"","ERROR")
A16: VIII. OTHER COSTS / LABORATORY OR BUILDING CONSTRUCTION OR RENOVATION | D16: =SUM('BUDGET DETAILS '!D219:K219) -> 0 | E16: =SUM('BUDGET DETAILS '!L219:S219) -> 0 | F16: =D16+E16 -> 0 | G16: =IF(F16='BUDGET DETAILS '!T219,"","ERROR")
A17: TOTAL | D17: =SUM(D9:D16) -> 0 | E17: =SUM(E9:E16) -> 0 | F17: =SUM(F9:F16) -> 0 | G17: =IF(F17='BUDGET DETAILS '!T221,"","ERROR")
A19: -1-

Sheet BUDGET DETAILS 
A1: Appendix C
A2: (Insert Vendor Name)
A3: (Insert SAP #)
A4: (Insert Budget Period)
A6: Categories | D6: Original Budget | E6: Original Budget | F6: Original Budget | G6: Original Budget | H6: Original Budget | I6: Original Budget | J6: Original Budget | K6: Original Budget | L6: Amendment Type & Number | M6: Amendment Type & Number | N6: Amendment Type & Number | O6: Amendment Type & Number | P6: Amendment Type & Number | Q6: Amendment Type & Number | R6: Amendment Type & Number | S6: Amendment Type & Number | T6: Total Budget
D7: Infrastructure | E7: Non-Infrastructure | F7: Infrastructure | G7: Non-Infrastructure | H7: (Enter Funding Source) | I7: (Enter Funding Source) | J7: (Enter Funding Source) | K7: (Enter Funding Source) | L7: Infrastructure | M7: Non-Infrastructure | N7: (Enter Funding Source) | O7: (Enter Funding Source) | P7: (Enter Funding Source) | Q7: (Enter Funding Source) | R7: (Enter Funding Source) | S7: (Enter Funding Source)
A8: I. PERSONNEL SERVICES (Infrastructure is nonprofessional personnel. Non-Infrastructure is all other positions. See budget instructions tab.)
A9: A. Staff Personnel | B9: Hourly | C9: Number
B10: Rate | C10: of Hours
T11: =ROUND(B11*C11,2) -> 0 | U11: =IF((SUM(D11:S11))=T11, "", "ERROR")
T12: =ROUND(B12*C12,2) -> 0 | U12: =IF((SUM(D12:S12))=T12, "", "ERROR")
T13: =ROUND(B13*C13,2) -> 0 | U13: =IF((SUM(D13:S13))=T13, "", "ERROR")
T14: =ROUND(B14*C14,2) -> 0 | U14: =IF((SUM(D14:S14))=T14, "", "ERROR")
T15: =ROUND(B15*C15,2) -> 0 | U15: =IF((SUM(D15:S15))=T15, "", "ERROR")
T16: =ROUND(B16*C16,2) -> 0 | U16: =IF((SUM(D16:S16))=T16, "", "ERROR")
T17: =ROUND(B17*C17,2) -> 0 | U17: =IF((SUM(D17:S17))=T17, "", "ERROR")
T18: =ROUND(B18*C18,2) -> 0 | U18: =IF((SUM(D18:S18))=T18, "", "ERROR")
T19: =ROUND(B19*C19,2) -> 0 | U19: =IF((SUM(D19:S19))=T19, "", "ERROR")
T20: =ROUND(B20*C20,2) -> 0 | U20: =IF((SUM(D20:S20))=T20, "", "ERROR")
T21: =ROUND(B21*C21,2) -> 0 | U21: =IF((SUM(D21:S21))=T21, "", "ERROR")
T22: =ROUND(B22*C22,2) -> 0 | U22: =IF((SUM(D22:S22))=T22, "", "ERROR")
... T39: =ROUND(B39*C39,2) -> 0 | U39: =IF((SUM(D39:S39))=T39, "", "ERROR")
A40: Sub-Total | D40: =SUM(D11:D39) -> 0 | E40: =SUM(E9:E39) -> 0 | F40: =SUM(F9:F39) -> 0 | G40: =SUM(G9:G39) -> 0 | H40: =SUM(H9:H39) -> 0 | I40: =SUM(I9:I39) -> 0 | J40: =SUM(J9:J39) -> 0 | K40: =SUM(K9:K39) -> 0 | L40: =SUM(L9:L39) -> 0 | ... N40: =SUM(N9:N39) -> 0 | O40: =SUM(O11:O39) -> 0 | P40: =SUM(P11:P39) -> 0 | Q40: =SUM(Q11:Q39) -> 0 | R40: =SUM(R11:R39) -> 0 | S40: =SUM(S11:S39) -> 0 | T40: =SUM(T11:T39) -> 0
A41: -2-
A43: B. Fringe Benefits
B44: Salary | C44: Rate
A45: =IF(A11="","",+A11) | B45: =+T11 -> 0 | T45: =ROUND(B45*C45,2) -> 0 | U45: =IF((SUM(D45:S45))=T45, "", "ERROR")
A46: =IF(A12="","",+A12) | B46: =+T12 -> 0 | T46: =ROUND(B46*C46,2) -> 0 | U46: =IF((SUM(D46:S46))=T46, "", "ERROR")
A47: =IF(A13="","",+A13) | B47: =+T13 -> 0 | T47: =ROUND(B47*C47,2) -> 0 | U47: =IF((SUM(D47:S47))=T47, "", "ERROR")
A48: =IF(A14="","",+A14) | B48: =+T14 -> 0 | T48: =ROUND(B48*C48,2) -> 0 | U48: =IF((SUM(D48:S48))=T48, "", "ERROR")
A49: =IF(A15="","",+A15) | B49: =+T15 -> 0 | T49: =ROUND(B49*C49,2) -> 0 | U49: =IF((SUM(D49:S49))=T49, "", "ERROR")
A50: =IF(A16="","",+A16) | B50: =+T16 -> 0 | T50: =ROUND(B50*C50,2) -> 0 | U50: =IF((SUM(D50:S50))=T50, "", "ERROR")
A51: =IF(A17="","",+A17) | B51: =+T17 -> 0 | T51: =ROUND(B51*C51,2) -> 0 | U51: =IF((SUM(D51:S51))=T51, "", "ERROR")
A52: =IF(A18="","",+A18) | B52: =+T18 -> 0 | T52: =ROUND(B52*C52,2) -> 0 | U52: =IF((SUM(D52:S52))=T52, "", "ERROR")
A53: =IF(A19="","",+A19) | B53: =+T19 -> 0 | T53: =ROUND(B53*C53,2) -> 0 | U53: =IF((SUM(D53:S53))=T53, "", "ERROR")
A54: =IF(A20="","",+A20) | B54: =+T20 -> 0 | T54: =ROUND(B54*C54,2) -> 0 | U54: =IF((SUM(D54:S54))=T54, "", "ERROR")
A55: =IF(A21="","",+A21) | B55: =+T21 -> 0 | T55: =ROUND(B55*C55,2) -> 0 | U55: =IF((SUM(D55:S55))=T55, "", "ERROR")
A56: =IF(A22="","",+A22) | B56: =+T22 -> 0 | T56: =ROUND(B56*C56,2) -> 0 | U56: =IF((SUM(D56:S56))=T56, "", "ERROR")
... A73: =IF(A39="","",+A39) | B73: =+T39 -> 0 | T73: =ROUND(B73*C73,2) -> 0 | U73: =IF((SUM(D73:S73))=T73, "", "ERROR")
A74: Specify the benefits included in this rate:
...

Sheet SUMMARY - Year 2
A1: ='BUDGET DETAILS - Year 2'!$A$1 -> Appendix C
A2: BUDGET SUMMARY
A4: ='BUDGET DETAILS - Year 2'!$A$2 -> (Insert Vendor Name)
A5: ='BUDGET DETAILS - Year 2'!$A$3 -> (Insert SAP #)
A6: ='BUDGET DETAILS - Year 2'!$A$4 -> (Insert Budget Period)
A8: CATEGORIES | D8: ='BUDGET DETAILS - Year 2'!D6 -> Original Budget | E8: ='BUDGET DETAILS - Year 2'!L6 -> Amendment Type & Number | F8: ='BUDGET DETAILS - Year 2'!T6 -> Total Budget
A9: I. PERSONNEL SERVICES | D9: =SUM('BUDGET DETAILS - Year 2'!D80:K80) -> 0 | E9: =SUM('BUDGET DETAILS - Year 2'!L80:S80) -> 0 | F9: =D9+E9 -> 0 | G9: =IF(F9='BUDGET DETAILS - Year 2'!T80,"","ERROR")
A10: II. CONSULTANT SERVICES | D10: =SUM('BUDGET DETAILS - Year 2'!D100:K100) -> 0 | E10: =SUM('BUDGET DETAILS - Year 2'!L100:S100) -> 0 | F10: =D10+E10 -> 0 | G10: =IF(F10='BUDGET DETAILS - Year 2'!T100,"","ERROR")
A11: III. SUBCONTRACT SERVICES | D11: =SUM('BUDGET DETAILS - Year 2'!D116:K116) -> 0 | E11: =SUM('BUDGET DETAILS - Year 2'!L116:S116) -> 0 | F11: =D11+E11 -> 0 | G11: =IF(F11='BUDGET DETAILS - Year 2'!T116,"","ERROR")
A12: IV. PATIENT SERVICES | D12: =SUM('BUDGET DETAILS - Year 2'!D135:K135) -> 0 | E12: =SUM('BUDGET DETAILS - Year 2'!L135:S135) -> 0 | F12: =D12+E12 -> 0 | G12: =IF(F12='BUDGET DETAILS - Year 2'!T135,"","ERROR")
A13: V. EQUIPMENT | D13: =SUM('BUDGET DETAILS - Year 2'!D151:K151) -> 0 | E13: =SUM('BUDGET DETAILS - Year 2'!L151:S151) -> 0 | F13: =D13+E13 -> 0 | G13: =IF(F13='BUDGET DETAILS - Year 2'!T151,"","ERROR")
A14: VI. SUPPLIES | D14: =SUM('BUDGET DETAILS - Year 2'!D167:K167) -> 0 | E14: =SUM('BUDGET DETAILS - Year 2'!L167:S167) -> 0 | F14: =D14+E14 -> 0 | G14: =IF(F14='BUDGET DETAILS - Year 2'!T167,"","ERROR")
A15: VII. TRAVEL | D15: =SUM('BUDGET DETAILS - Year 2'!D187:K187) -> 0 | E15: =SUM('BUDGET DETAILS - Year 2'!L187:S187) -> 0 | F15: =D15+E15 -> 0 | G15: =IF(F15='BUDGET DETAILS - Year 2'!T187,"","ERROR")
A16: VIII. OTHER COSTS / LABORATORY OR BUILDING CONSTRUCTION OR RENOVATION | D16: =SUM('BUDGET DETAILS - Year 2'!D219:K219) -> 0 | E16: =SUM('BUDGET DETAILS - Year 2'!L219:S219) -> 0 | F16: =D16+E16 -> 0 | G16: =IF(F16='BUDGET DETAILS - Year 2'!T219,"","ERROR")
A17: TOTAL | D17: =SUM(D9:D16) -> 0 | E17: =SUM(E9:E16) -> 0 | F17: =SUM(F9:F16) -> 0 | G17: =IF(F17='BUDGET DETAILS - Year 2'!T221,"","ERROR")
A19: -9-

Sheet BUDGET DETAILS - Year 2
A1: Appendix C
A2: ='BUDGET DETAILS '!A2:T2 -> (Insert Vendor Name)
A3: ='BUDGET DETAILS '!A3:T3 -> (Insert SAP #)
A4: (Insert Budget Period)
A6: Categories | D6: Original Budget | E6: Original Budget | F6: Original Budget | G6: Original Budget | H6: Original Budget | I6: Original Budget | J6: Original Budget | K6: Original Budget | L6: Amendment Type & Number | M6: Amendment Type & Number | N6: Amendment Type & Number | O6: Amendment Type & Number | P6: Amendment Type & Number | Q6: Amendment Type & Number | R6: Amendment Type & Number | S6: Amendment Type & Number | T6: Total Budget
D7: Infrastructure | E7: Non-Infrastructure | F7: Infrastructure | G7: Non-Infrastructure | H7: (Enter Funding Source) | I7: (Enter Funding Source) | J7: (Enter Funding Source) | K7: (Enter Funding Source) | L7: Infrastructure | M7: Non-Infrastructure | N7: (Enter Funding Source) | O7: (Enter Funding Source) | P7: (Enter Funding Source) | Q7: (Enter Funding Source) | R7: (Enter Funding Source) | S7: (Enter Funding Source)
A8: I. PERSONNEL SERVICES (Infrastructure is clerical, secretarial and administrative assistants positions. Non-Infrastructure is all other positions. See budget instructions tab.)
A9: A. Staff Personnel | B9: Hourly | C9: Number
B10: Rate | C10: of Hours
T11: =ROUND(B11*C11,2) -> 0 | U11: =IF((SUM(D11:S11))=T11, "", "ERROR")
T12: =ROUND(B12*C12,2) -> 0 | U12: =IF((SUM(D12:S12))=T12, "", "ERROR")
T13: =ROUND(B13*C13,2) -> 0 | U13: =IF((SUM(D13:S13))=T13, "", "ERROR")
T14: =ROUND(B14*C14,2) -> 0 | U14: =IF((SUM(D14:S14))=T14, "", "ERROR")
T15: =ROUND(B15*C15,2) -> 0 | U15: =IF((SUM(D15:S15))=T15, "", "ERROR")
T16: =ROUND(B16*C16,2) -> 0 | U16: =IF((SUM(D16:S16))=T16, "", "ERROR")
T17: =ROUND(B17*C17,2) -> 0 | U17: =IF((SUM(D17:S17))=T17, "", "ERROR")
T18: =ROUND(B18*C18,2) -> 0 | U18: =IF((SUM(D18:S18))=T18, "", "ERROR")
T19: =ROUND(B19*C19,2) -> 0 | U19: =IF((SUM(D19:S19))=T19, "", "ERROR")
T20: =ROUND(B20*C20,2) -> 0 | U20: =IF((SUM(D20:S20))=T20, "", "ERROR")
T21: =ROUND(B21*C21,2) -> 0 | U21: =IF((SUM(D21:S21))=T21, "", "ERROR")
T22: =ROUND(B22*C22,2) -> 0 | U22: =IF((SUM(D22:S22))=T22, "", "ERROR")
... T39: =ROUND(B39*C39,2) -> 0 | U39: =IF((SUM(D39:S39))=T39, "", "ERROR")
A40: Sub-Total | D40: =SUM(D11:D39) -> 0 | E40: =SUM(E9:E39) -> 0 | F40: =SUM(F9:F39) -> 0 | G40: =SUM(G9:G39) -> 0 | H40: =SUM(H9:H39) -> 0 | I40: =SUM(I9:I39) -> 0 | J40: =SUM(J9:J39) -> 0 | K40: =SUM(K9:K39) -> 0 | L40: =SUM(L9:L39) -> 0 | ... N40: =SUM(N9:N39) -> 0 | O40: =SUM(O11:O39) -> 0 | P40: =SUM(P11:P39) -> 0 | Q40: =SUM(Q11:Q39) -> 0 | R40: =SUM(R11:R39) -> 0 | S40: =SUM(S11:S39) -> 0 | T40: =SUM(T11:T39) -> 0
A41: -10-
A43: B. Fringe Benefits
B44: Salary | C44: Rate
A45: =IF(A11="","",+A11) | B45: =+T11 -> 0 | T45: =ROUND(B45*C45,2) -> 0 | U45: =IF((SUM(D45:S45))=T45, "", "ERROR")
A46: =IF(A12="","",+A12) | B46: =+T12 -> 0 | T46: =ROUND(B46*C46,2) -> 0 | U46: =IF((SUM(D46:S46))=T46, "", "ERROR")
A47: =IF(A13="","",+A13) | B47: =+T13 -> 0 | T47: =ROUND(B47*C47,2) -> 0 | U47: =IF((SUM(D47:S47))=T47, "", "ERROR")
A48: =IF(A14="","",+A14) | B48: =+T14 -> 0 | T48: =ROUND(B48*C48,2) -> 0 | U48: =IF((SUM(D48:S48))=T48, "", "ERROR")
A49: =IF(A15="","",+A15) | B49: =+T15 -> 0 | T49: =ROUND(B49*C49,2) -> 0 | U49: =IF((SUM(D49:S49))=T49, "", "ERROR")
A50: =IF(A16="","",+A16) | B50: =+T16 -> 0 | T50: =ROUND(B50*C50,2) -> 0 | U50: =IF((SUM(D50:S50))=T50, "", "ERROR")
A51: =IF(A17="","",+A17) | B51: =+T17 -> 0 | T51: =ROUND(B51*C51,2) -> 0 | U51: =IF((SUM(D51:S51))=T51, "", "ERROR")
A52: =IF(A18="","",+A18) | B52: =+T18 -> 0 | T52: =ROUND(B52*C52,2) -> 0 | U52: =IF((SUM(D52:S52))=T52, "", "ERROR")
A53: =IF(A19="","",+A19) | B53: =+T19 -> 0 | T53: =ROUND(B53*C53,2) -> 0 | U53: =IF((SUM(D53:S53))=T53, "", "ERROR")
A54: =IF(A20="","",+A20) | B54: =+T20 -> 0 | T54: =ROUND(B54*C54,2) -> 0 | U54: =IF((SUM(D54:S54))=T54, "", "ERROR")
A55: =IF(A21="","",+A21) | B55: =+T21 -> 0 | T55: =ROUND(B55*C55,2) -> 0 | U55: =IF((SUM(D55:S55))=T55, "", "ERROR")
A56: =IF(A22="","",+A22) | B56: =+T22 -> 0 | T56: =ROUND(B56*C56,2) -> 0 | U56: =IF((SUM(D56:S56))=T56, "", "ERROR")
... A73: =IF(A39="","",+A39) | B73: =+T39 -> 0 | T73: =ROUND(B73*C73,2) -> 0 | U73: =IF((SUM(D73:S73))=T73, "", "ERROR")
A74: Specify the benefits included in this rate:
...

Sheet SUMMARY - Year 3
A1: ='BUDGET DETAILS - Year 3'!$A$1 -> Appendix C
A2: BUDGET SUMMARY
A4: ='BUDGET DETAILS - Year 3'!$A$2 -> (Insert Vendor Name)
A5: ='BUDGET DETAILS - Year 3'!$A$3 -> (Insert SAP #)
A6: ='BUDGET DETAILS - Year 3'!$A$4 -> (Insert Budget Period)
A8: CATEGORIES | D8: ='BUDGET DETAILS - Year 3'!D6 -> Original Budget | E8: ='BUDGET DETAILS - Year 3'!L6 -> Amendment Type & Number | F8: ='BUDGET DETAILS - Year 3'!T6 -> Total Budget
A9: I. PERSONNEL SERVICES | D9: =SUM('BUDGET DETAILS - Year 3'!D80:K80) -> 0 | E9: =SUM('BUDGET DETAILS - Year 3'!L80:S80) -> 0 | F9: =D9+E9 -> 0 | G9: =IF(F9='BUDGET DETAILS - Year 3'!T80,"","ERROR")
A10: II. CONSULTANT SERVICES | D10: =SUM('BUDGET DETAILS - Year 3'!D100:K100) -> 0 | E10: =SUM('BUDGET DETAILS - Year 3'!L100:S100) -> 0 | F10: =D10+E10 -> 0 | G10: =IF(F10='BUDGET DETAILS - Year 3'!T100,"","ERROR")
A11: III. SUBCONTRACT SERVICES | D11: =SUM('BUDGET DETAILS - Year 3'!D116:K116) -> 0 | E11: =SUM('BUDGET DETAILS - Year 3'!L116:S116) -> 0 | F11: =D11+E11 -> 0 | G11: =IF(F11='BUDGET DETAILS - Year 3'!T116,"","ERROR")
A12: IV. PATIENT SERVICES | D12: =SUM('BUDGET DETAILS - Year 3'!D135:K135) -> 0 | E12: =SUM('BUDGET DETAILS - Year 3'!L135:S135) -> 0 | F12: =D12+E12 -> 0 | G12: =IF(F12='BUDGET DETAILS - Year 3'!T135,"","ERROR")
A13: V. EQUIPMENT | D13: =SUM('BUDGET DETAILS - Year 3'!D151:K151) -> 0 | E13: =SUM('BUDGET DETAILS - Year 3'!L151:S151) -> 0 | F13: =D13+E13 -> 0 | G13: =IF(F13='BUDGET DETAILS - Year 3'!T151,"","ERROR")
A14: VI. SUPPLIES | D14: =SUM('BUDGET DETAILS - Year 3'!D167:K167) -> 0 | E14: =SUM('BUDGET DETAILS - Year 3'!L167:S167) -> 0 | F14: =D14+E14 -> 0 | G14: =IF(F14='BUDGET DETAILS - Year 3'!T167,"","ERROR")
A15: VII. TRAVEL | D15: =SUM('BUDGET DETAILS - Year 3'!D187:K187) -> 0 | E15: =SUM('BUDGET DETAILS - Year 3'!L187:S187) -> 0 | F15: =D15+E15 -> 0 | G15: =IF(F15='BUDGET DETAILS - Year 3'!T187,"","ERROR")
A16: VIII. OTHER COSTS / LABORATORY OR BUILDING CONSTRUCTION OR RENOVATION | D16: =SUM('BUDGET DETAILS - Year 3'!D219:K219) -> 0 | E16: =SUM('BUDGET DETAILS - Year 3'!L219:S219) -> 0 | F16: =D16+E16 -> 0 | G16: =IF(F16='BUDGET DETAILS - Year 3'!T219,"","ERROR")
A17: TOTAL | D17: =SUM(D9:D16) -> 0 | E17: =SUM(E9:E16) -> 0 | F17: =SUM(F9:F16) -> 0 | G17: =IF(F17='BUDGET DETAILS - Year 3'!T221,"","ERROR")
A19: -16-

Sheet BUDGET DETAILS - Year 3
A1: Appendix C
A2: ='BUDGET DETAILS '!A2:T2 -> (Insert Vendor Name)
A3: ='BUDGET DETAILS '!A3:T3 -> (Insert SAP #)
A4: (Insert Budget Period)
A6: Categories | D6: Original Budget | E6: Original Budget | F6: Original Budget | G6: Original Budget | H6: Original Budget | I6: Original Budget | J6: Original Budget | K6: Original Budget | L6: Amendment Type & Number | M6: Amendment Type & Number | N6: Amendment Type & Number | O6: Amendment Type & Number | P6: Amendment Type & Number | Q6: Amendment Type & Number | R6: Amendment Type & Number | S6: Amendment Type & Number | T6: Total Budget
D7: Infrastructure | E7: Non-Infrastructure | F7: Infrastructure | G7: Non-Infrastructure | H7: (Enter Funding Source) | I7: (Enter Funding Source) | J7: (Enter Funding Source) | K7: (Enter Funding Source) | L7: Infrastructure | M7: Non-Infrastructure | N7: (Enter Funding Source) | O7: (Enter Funding Source) | P7: (Enter Funding Source) | Q7: (Enter Funding Source) | R7: (Enter Funding Source) | S7: (Enter Funding Source)
A8: I. PERSONNEL SERVICES (Infrastructure is clerical, secretarial and administrative assistants positions. Non-Infrastructure is all other positions. See budget instructions tab.)
A9: A. Staff Personnel | B9: Hourly | C9: Number
B10: Rate | C10: of Hours
T11: =ROUND(B11*C11,2) -> 0 | U11: =IF((SUM(D11:S11))=T11, "", "ERROR")
T12: =ROUND(B12*C12,2) -> 0 | U12: =IF((SUM(D12:S12))=T12, "", "ERROR")
T13: =ROUND(B13*C13,2) -> 0 | U13: =IF((SUM(D13:S13))=T13, "", "ERROR")
T14: =ROUND(B14*C14,2) -> 0 | U14: =IF((SUM(D14:S14))=T14, "", "ERROR")
T15: =ROUND(B15*C15,2) -> 0 | U15: =IF((SUM(D15:S15))=T15, "", "ERROR")
T16: =ROUND(B16*C16,2) -> 0 | U16: =IF((SUM(D16:S16))=T16, "", "ERROR")
T17: =ROUND(B17*C17,2) -> 0 | U17: =IF((SUM(D17:S17))=T17, "", "ERROR")
T18: =ROUND(B18*C18,2) -> 0 | U18: =IF((SUM(D18:S18))=T18, "", "ERROR")
T19: =ROUND(B19*C19,2) -> 0 | U19: =IF((SUM(D19:S19))=T19, "", "ERROR")
T20: =ROUND(B20*C20,2) -> 0 | U20: =IF((SUM(D20:S20))=T20, "", "ERROR")
T21: =ROUND(B21*C21,2) -> 0 | U21: =IF((SUM(D21:S21))=T21, "", "ERROR")
T22: =ROUND(B22*C22,2) -> 0 | U22: =IF((SUM(D22:S22))=T22, "", "ERROR")
... T39: =ROUND(B39*C39,2) -> 0 | U39: =IF((SUM(D39:S39))=T39, "", "ERROR")
A40: Sub-Total | D40: =SUM(D11:D39) -> 0 | E40: =SUM(E9:E39) -> 0 | F40: =SUM(F9:F39) -> 0 | G40: =SUM(G9:G39) -> 0 | H40: =SUM(H9:H39) -> 0 | I40: =SUM(I9:I39) -> 0 | J40: =SUM(J9:J39) -> 0 | K40: =SUM(K9:K39) -> 0 | L40: =SUM(L9:L39) -> 0 | ... N40: =SUM(N9:N39) -> 0 | O40: =SUM(O11:O39) -> 0 | P40: =SUM(P11:P39) -> 0 | Q40: =SUM(Q11:Q39) -> 0 | R40: =SUM(R11:R39) -> 0 | S40: =SUM(S11:S39) -> 0 | T40: =SUM(T11:T39) -> 0
A41: -17-
A43: B. Fringe Benefits
B44: Salary | C44: Rate
A45: =IF(A11="","",+A11) | B45: =+T11 -> 0 | T45: =ROUND(B45*C45,2) -> 0 | U45: =IF((SUM(D45:S45))=T45, "", "ERROR")
A46: =IF(A12="","",+A12) | B46: =+T12 -> 0 | T46: =ROUND(B46*C46,2) -> 0 | U46: =IF((SUM(D46:S46))=T46, "", "ERROR")
A47: =IF(A13="","",+A13) | B47: =+T13 -> 0 | T47: =ROUND(B47*C47,2) -> 0 | U47: =IF((SUM(D47:S47))=T47, "", "ERROR")
A48: =IF(A14="","",+A14) | B48: =+T14 -> 0 | T48: =ROUND(B48*C48,2) -> 0 | U48: =IF((SUM(D48:S48))=T48, "", "ERROR")
A49: =IF(A15="","",+A15) | B49: =+T15 -> 0 | T49: =ROUND(B49*C49,2) -> 0 | U49: =IF((SUM(D49:S49))=T49, "", "ERROR")
A50: =IF(A16="","",+A16) | B50: =+T16 -> 0 | T50: =ROUND(B50*C50,2) -> 0 | U50: =IF((SUM(D50:S50))=T50, "", "ERROR")
A51: =IF(A17="","",+A17) | B51: =+T17 -> 0 | T51: =ROUND(B51*C51,2) -> 0 | U51: =IF((SUM(D51:S51))=T51, "", "ERROR")
A52: =IF(A18="","",+A18) | B52: =+T18 -> 0 | T52: =ROUND(B52*C52,2) -> 0 | U52: =IF((SUM(D52:S52))=T52, "", "ERROR")
A53: =IF(A19="","",+A19) | B53: =+T19 -> 0 | T53: =ROUND(B53*C53,2) -> 0 | U53: =IF((SUM(D53:S53))=T53, "", "ERROR")
A54: =IF(A20="","",+A20) | B54: =+T20 -> 0 | T54: =ROUND(B54*C54,2) -> 0 | U54: =IF((SUM(D54:S54))=T54, "", "ERROR")
A55: =IF(A21="","",+A21) | B55: =+T21 -> 0 | T55: =ROUND(B55*C55,2) -> 0 | U55: =IF((SUM(D55:S55))=T55, "", "ERROR")
A56: =IF(A22="","",+A22) | B56: =+T22 -> 0 | T56: =ROUND(B56*C56,2) -> 0 | U56: =IF((SUM(D56:S56))=T56, "", "ERROR")
... A73: =IF(A39="","",+A39) | B73: =+T39 -> 0 | T73: =ROUND(B73*C73,2) -> 0 | U73: =IF((SUM(D73:S73))=T73, "", "ERROR")
A74: Specify the benefits included in this rate:
...

Sheet SUMMARY - Year 4
A1: ='BUDGET DETAILS - Year 4'!$A$1 -> Appendix C
A2: BUDGET SUMMARY
A4: ='BUDGET DETAILS - Year 4'!$A$2 -> (Insert Vendor Name)
A5: ='BUDGET DETAILS - Year 4'!$A$3 -> (Insert SAP #)
A6: ='BUDGET DETAILS - Year 4'!$A$4 -> (Insert Budget Period)
A8: CATEGORIES | D8: ='BUDGET DETAILS - Year 4'!D6 -> Original Budget | E8: ='BUDGET DETAILS - Year 4'!L6 -> Amendment Type & Number | F8: ='BUDGET DETAILS - Year 4'!T6 -> Total Budget
A9: I. PERSONNEL SERVICES | D9: =SUM('BUDGET DETAILS - Year 4'!D80:K80) -> 0 | E9: =SUM('BUDGET DETAILS - Year 4'!L80:S80) -> 0 | F9: =D9+E9 -> 0 | G9: =IF(F9='BUDGET DETAILS - Year 4'!T80,"","ERROR")
A10: II. CONSULTANT SERVICES | D10: =SUM('BUDGET DETAILS - Year 4'!D100:K100) -> 0 | E10: =SUM('BUDGET DETAILS - Year 4'!L100:S100) -> 0 | F10: =D10+E10 -> 0 | G10: =IF(F10='BUDGET DETAILS - Year 4'!T100,"","ERROR")
A11: III. SUBCONTRACT SERVICES | D11: =SUM('BUDGET DETAILS - Year 4'!D116:K116) -> 0 | E11: =SUM('BUDGET DETAILS - Year 4'!L116:S116) -> 0 | F11: =D11+E11 -> 0 | G11: =IF(F11='BUDGET DETAILS - Year 4'!T116,"","ERROR")
A12: IV. PATIENT SERVICES | D12: =SUM('BUDGET DETAILS - Year 4'!D135:K135) -> 0 | E12: =SUM('BUDGET DETAILS - Year 4'!L135:S135) -> 0 | F12: =D12+E12 -> 0 | G12: =IF(F12='BUDGET DETAILS - Year 4'!T135,"","ERROR")
A13: V. EQUIPMENT | D13: =SUM('BUDGET DETAILS - Year 4'!D151:K151) -> 0 | E13: =SUM('BUDGET DETAILS - Year 4'!L151:S151) -> 0 | F13: =D13+E13 -> 0 | G13: =IF(F13='BUDGET DETAILS - Year 4'!T151,"","ERROR")
A14: VI. SUPPLIES | D14: =SUM('BUDGET DETAILS - Year 4'!D167:K167) -> 0 | E14: =SUM('BUDGET DETAILS - Year 4'!L167:S167) -> 0 | F14: =D14+E14 -> 0 | G14: =IF(F14='BUDGET DETAILS - Year 4'!T167,"","ERROR")
A15: VII. TRAVEL | D15: =SUM('BUDGET DETAILS - Year 4'!D187:K187) -> 0 | E15: =SUM('BUDGET DETAILS - Year 4'!L187:S187) -> 0 | F15: =D15+E15 -> 0 | G15: =IF(F15='BUDGET DETAILS - Year 4'!T187,"","ERROR")
A16: VIII. OTHER COSTS / LABORATORY OR BUILDING CONSTRUCTION OR RENOVATION | D16: =SUM('BUDGET DETAILS - Year 4'!D219:K219) -> 0 | E16: =SUM('BUDGET DETAILS - Year 4'!L219:S219) -> 0 | F16: =D16+E16 -> 0 | G16: =IF(F16='BUDGET DETAILS - Year 4'!T219,"","ERROR")
A17: TOTAL | D17: =SUM(D9:D16) -> 0 | E17: =SUM(E9:E16) -> 0 | F17: =SUM(F9:F16) -> 0 | G17: =IF(F17='BUDGET DETAILS - Year 4'!T221,"","ERROR")
A19: -23-

Sheet BUDGET DETAILS - Year 4
A1: Appendix C
A2: ='BUDGET DETAILS '!A2:T2 -> (Insert Vendor Name)
A3: ='BUDGET DETAILS '!A3:T3 -> (Insert SAP #)
A4: (Insert Budget Period)
A6: Categories | D6: Original Budget | E6: Original Budget | F6: Original Budget | G6: Original Budget | H6: Original Budget | I6: Original Budget | J6: Original Budget | K6: Original Budget | L6: Amendment Type & Number | M6: Amendment Type & Number | N6: Amendment Type & Number | O6: Amendment Type & Number | P6: Amendment Type & Number | Q6: Amendment Type & Number | R6: Amendment Type & Number | S6: Amendment Type & Number | T6: Total Budget
D7: Infrastructure | E7: Non-Infrastructure | F7: Infrastructure | G7: Non-Infrastructure | H7: (Enter Funding Source) | I7: (Enter Funding Source) | J7: (Enter Funding Source) | K7: (Enter Funding Source) | L7: Infrastructure | M7: Non-Infrastructure | N7: (Enter Funding Source) | O7: (Enter Funding Source) | P7: (Enter Funding Source) | Q7: (Enter Funding Source) | R7: (Enter Funding Source) | S7: (Enter Funding Source)
A8: I. PERSONNEL SERVICES (Infrastructure is clerical, secretarial and administrative assistants positions. Non-Infrastructure is all other positions. See budget instructions tab.)
A9: A. Staff Personnel | B9: Hourly | C9: Number
B10: Rate | C10: of Hours
T11: =ROUND(B11*C11,2) -> 0 | U11: =IF((SUM(D11:S11))=T11, "", "ERROR")
T12: =ROUND(B12*C12,2) -> 0 | U12: =IF((SUM(D12:S12))=T12, "", "ERROR")
T13: =ROUND(B13*C13,2) -> 0 | U13: =IF((SUM(D13:S13))=T13, "", "ERROR")
T14: =ROUND(B14*C14,2) -> 0 | U14: =IF((SUM(D14:S14))=T14, "", "ERROR")
T15: =ROUND(B15*C15,2) -> 0 | U15: =IF((SUM(D15:S15))=T15, "", "ERROR")
T16: =ROUND(B16*C16,2) -> 0 | U16: =IF((SUM(D16:S16))=T16, "", "ERROR")
T17: =ROUND(B17*C17,2) -> 0 | U17: =IF((SUM(D17:S17))=T17, "", "ERROR")
T18: =ROUND(B18*C18,2) -> 0 | U18: =IF((SUM(D18:S18))=T18, "", "ERROR")
T19: =ROUND(B19*C19,2) -> 0 | U19: =IF((SUM(D19:S19))=T19, "", "ERROR")
T20: =ROUND(B20*C20,2) -> 0 | U20: =IF((SUM(D20:S20))=T20, "", "ERROR")
T21: =ROUND(B21*C21,2) -> 0 | U21: =IF((SUM(D21:S21))=T21, "", "ERROR")
T22: =ROUND(B22*C22,2) -> 0 | U22: =IF((SUM(D22:S22))=T22, "", "ERROR")
... T39: =ROUND(B39*C39,2) -> 0 | U39: =IF((SUM(D39:S39))=T39, "", "ERROR")
A40: Sub-Total | D40: =SUM(D11:D39) -> 0 | E40: =SUM(E9:E39) -> 0 | F40: =SUM(F9:F39) -> 0 | G40: =SUM(G9:G39) -> 0 | H40: =SUM(H9:H39) -> 0 | I40: =SUM(I9:I39) -> 0 | J40: =SUM(J9:J39) -> 0 | K40: =SUM(K9:K39) -> 0 | L40: =SUM(L9:L39) -> 0 | ... N40: =SUM(N9:N39) -> 0 | O40: =SUM(O11:O39) -> 0 | P40: =SUM(P11:P39) -> 0 | Q40: =SUM(Q11:Q39) -> 0 | R40: =SUM(R11:R39) -> 0 | S40: =SUM(S11:S39) -> 0 | T40: =SUM(T11:T39) -> 0
A41: -24-
A43: B. Fringe Benefits
B44: Salary | C44: Rate
A45: =IF(A11="","",+A11) | B45: =+T11 -> 0 | T45: =ROUND(B45*C45,2) -> 0 | U45: =IF((SUM(D45:S45))=T45, "", "ERROR")
A46: =IF(A12="","",+A12) | B46: =+T12 -> 0 | T46: =ROUND(B46*C46,2) -> 0 | U46: =IF((SUM(D46:S46))=T46, "", "ERROR")
A47: =IF(A13="","",+A13) | B47: =+T13 -> 0 | T47: =ROUND(B47*C47,2) -> 0 | U47: =IF((SUM(D47:S47))=T47, "", "ERROR")
A48: =IF(A14="","",+A14) | B48: =+T14 -> 0 | T48: =ROUND(B48*C48,2) -> 0 | U48: =IF((SUM(D48:S48))=T48, "", "ERROR")
A49: =IF(A15="","",+A15) | B49: =+T15 -> 0 | T49: =ROUND(B49*C49,2) -> 0 | U49: =IF((SUM(D49:S49))=T49, "", "ERROR")
A50: =IF(A16="","",+A16) | B50: =+T16 -> 0 | T50: =ROUND(B50*C50,2) -> 0 | U50: =IF((SUM(D50:S50))=T50, "", "ERROR")
A51: =IF(A17="","",+A17) | B51: =+T17 -> 0 | T51: =ROUND(B51*C51,2) -> 0 | U51: =IF((SUM(D51:S51))=T51, "", "ERROR")
A52: =IF(A18="","",+A18) | B52: =+T18 -> 0 | T52: =ROUND(B52*C52,2) -> 0 | U52: =IF((SUM(D52:S52))=T52, "", "ERROR")
A53: =IF(A19="","",+A19) | B53: =+T19 -> 0 | T53: =ROUND(B53*C53,2) -> 0 | U53: =IF((SUM(D53:S53))=T53, "", "ERROR")
A54: =IF(A20="","",+A20) | B54: =+T20 -> 0 | T54: =ROUND(B54*C54,2) -> 0 | U54: =IF((SUM(D54:S54))=T54, "", "ERROR")
A55: =IF(A21="","",+A21) | B55: =+T21 -> 0 | T55: =ROUND(B55*C55,2) -> 0 | U55: =IF((SUM(D55:S55))=T55, "", "ERROR")
A56: =IF(A22="","",+A22) | B56: =+T22 -> 0 | T56: =ROUND(B56*C56,2) -> 0 | U56: =IF((SUM(D56:S56))=T56, "", "ERROR")
... A73: =IF(A39="","",+A39) | B73: =+T39 -> 0 | T73: =ROUND(B73*C73,2) -> 0 | U73: =IF((SUM(D73:S73))=T73, "", "ERROR")
A74: Specify the benefits included in this rate:
...

Sheet SUMMARY - Year 5
A1: ='BUDGET DETAILS - Year 5'!$A$1 -> Appendix C
A2: BUDGET SUMMARY
A4: ='BUDGET DETAILS - Year 5'!$A$2 -> (Insert Vendor Name)
A5: ='BUDGET DETAILS - Year 5'!$A$3 -> (Insert SAP #)
A6: ='BUDGET DETAILS - Year 5'!$A$4 -> (Insert Budget Period)
A8: CATEGORIES | D8: ='BUDGET DETAILS - Year 5'!D6 -> Original Budget | E8: ='BUDGET DETAILS - Year 5'!L6 -> Amendment Type & Number | F8: ='BUDGET DETAILS - Year 5'!T6 -> Total Budget
A9: I. PERSONNEL SERVICES | D9: =SUM('BUDGET DETAILS - Year 5'!D80:K80) -> 0 | E9: =SUM('BUDGET DETAILS - Year 5'!L80:S80) -> 0 | F9: =D9+E9 -> 0 | G9: =IF(F9='BUDGET DETAILS - Year 5'!T80,"","ERROR")
A10: II. CONSULTANT SERVICES | D10: =SUM('BUDGET DETAILS - Year 5'!D100:K100) -> 0 | E10: =SUM('BUDGET DETAILS - Year 5'!L100:S100) -> 0 | F10: =D10+E10 -> 0 | G10: =IF(F10='BUDGET DETAILS - Year 5'!T100,"","ERROR")
A11: III. SUBCONTRACT SERVICES | D11: =SUM('BUDGET DETAILS - Year 5'!D116:K116) -> 0 | E11: =SUM('BUDGET DETAILS - Year 5'!L116:S116) -> 0 | F11: =D11+E11 -> 0 | G11: =IF(F11='BUDGET DETAILS - Year 5'!T116,"","ERROR")
A12: IV. PATIENT SERVICES | D12: =SUM('BUDGET DETAILS - Year 5'!D135:K135) -> 0 | E12: =SUM('BUDGET DETAILS - Year 5'!L135:S135) -> 0 | F12: =D12+E12 -> 0 | G12: =IF(F12='BUDGET DETAILS - Year 5'!T135,"","ERROR")
A13: V. EQUIPMENT | D13: =SUM('BUDGET DETAILS - Year 5'!D151:K151) -> 0 | E13: =SUM('BUDGET DETAILS - Year 5'!L151:S151) -> 0 | F13: =D13+E13 -> 0 | G13: =IF(F13='BUDGET DETAILS - Year 5'!T151,"","ERROR")
A14: VI. SUPPLIES | D14: =SUM('BUDGET DETAILS - Year 5'!D167:K167) -> 0 | E14: =SUM('BUDGET DETAILS - Year 5'!L167:S167) -> 0 | F14: =D14+E14 -> 0 | G14: =IF(F14='BUDGET DETAILS - Year 5'!T167,"","ERROR")
A15: VII. TRAVEL | D15: =SUM('BUDGET DETAILS - Year 5'!D187:K187) -> 0 | E15: =SUM('BUDGET DETAILS - Year 5'!L187:S187) -> 0 | F15: =D15+E15 -> 0 | G15: =IF(F15='BUDGET DETAILS - Year 5'!T187,"","ERROR")
A16: VIII. OTHER COSTS / LABORATORY OR BUILDING CONSTRUCTION OR RENOVATION | D16: =SUM('BUDGET DETAILS - Year 5'!D219:K219) -> 0 | E16: =SUM('BUDGET DETAILS - Year 5'!L219:S219) -> 0 | F16: =D16+E16 -> 0 | G16: =IF(F16='BUDGET DETAILS - Year 5'!T219,"","ERROR")
A17: TOTAL | D17: =SUM(D9:D16) -> 0 | E17: =SUM(E9:E16) -> 0 | F17: =SUM(F9:F16) -> 0 | G17: =IF(F17='BUDGET DETAILS - Year 5'!T221,"","ERROR")
A19: -30-

Sheet BUDGET DETAILS - Year 5
A1: Appendix C
A2: ='BUDGET DETAILS '!A2:T2 -> (Insert Vendor Name)
A3: ='BUDGET DETAILS '!A3:T3 -> (Insert SAP #)
A4: (Insert Budget Period)
A6: Categories | D6: Original Budget | E6: Original Budget | F6: Original Budget | G6: Original Budget | H6: Original Budget | I6: Original Budget | J6: Original Budget | K6: Original Budget | L6: Amendment Type & Number | M6: Amendment Type & Number | N6: Amendment Type & Number | O6: Amendment Type & Number | P6: Amendment Type & Number | Q6: Amendment Type & Number | R6: Amendment Type & Number | S6: Amendment Type & Number | T6: Total Budget
D7: Infrastructure | E7: Non-Infrastructure | F7: Infrastructure | G7: Non-Infrastructure | H7: (Enter Funding Source) | I7: (Enter Funding Source) | J7: (Enter Funding Source) | K7: (Enter Funding Source) | L7: Infrastructure | M7: Non-Infrastructure | N7: (Enter Funding Source) | O7: (Enter Funding Source) | P7: (Enter Funding Source) | Q7: (Enter Funding Source) | R7: (Enter Funding Source) | S7: (Enter Funding Source)
A8: I. PERSONNEL SERVICES (Infrastructure is clerical, secretarial and administrative assistants positions. Non-Infrastructure is all other positions. See budget instructions tab.)
A9: A. Staff Personnel | B9: Hourly | C9: Number
B10: Rate | C10: of Hours
T11: =ROUND(B11*C11,2) -> 0 | U11: =IF((SUM(D11:S11))=T11, "", "ERROR")
T12: =ROUND(B12*C12,2) -> 0 | U12: =IF((SUM(D12:S12))=T12, "", "ERROR")
T13: =ROUND(B13*C13,2) -> 0 | U13: =IF((SUM(D13:S13))=T13, "", "ERROR")
T14: =ROUND(B14*C14,2) -> 0 | U14: =IF((SUM(D14:S14))=T14, "", "ERROR")
T15: =ROUND(B15*C15,2) -> 0 | U15: =IF((SUM(D15:S15))=T15, "", "ERROR")
T16: =ROUND(B16*C16,2) -> 0 | U16: =IF((SUM(D16:S16))=T16, "", "ERROR")
T17: =ROUND(B17*C17,2) -> 0 | U17: =IF((SUM(D17:S17))=T17, "", "ERROR")
T18: =ROUND(B18*C18,2) -> 0 | U18: =IF((SUM(D18:S18))=T18, "", "ERROR")
T19: =ROUND(B19*C19,2) -> 0 | U19: =IF((SUM(D19:S19))=T19, "", "ERROR")
T20: =ROUND(B20*C20,2) -> 0 | U20: =IF((SUM(D20:S20))=T20, "", "ERROR")
T21: =ROUND(B21*C21,2) -> 0 | U21: =IF((SUM(D21:S21))=T21, "", "ERROR")
T22: =ROUND(B22*C22,2) -> 0 | U22: =IF((SUM(D22:S22))=T22, "", "ERROR")
... T39: =ROUND(B39*C39,2) -> 0 | U39: =IF((SUM(D39:S39))=T39, "", "ERROR")
A40: Sub-Total | D40: =SUM(D11:D39) -> 0 | E40: =SUM(E9:E39) -> 0 | F40: =SUM(F9:F39) -> 0 | G40: =SUM(G9:G39) -> 0 | H40: =SUM(H9:H39) -> 0 | I40: =SUM(I9:I39) -> 0 | J40: =SUM(J9:J39) -> 0 | K40: =SUM(K9:K39) -> 0 | L40: =SUM(L9:L39) -> 0 | ... N40: =SUM(N9:N39) -> 0 | O40: =SUM(O11:O39) -> 0 | P40: =SUM(P11:P39) -> 0 | Q40: =SUM(Q11:Q39) -> 0 | R40: =SUM(R11:R39) -> 0 | S40: =SUM(S11:S39) -> 0 | T40: =SUM(T11:T39) -> 0
A41: -31-
A43: B. Fringe Benefits
B44: Salary | C44: Rate
A45: =IF(A11="","",+A11) | B45: =+T11 -> 0 | T45: =ROUND(B45*C45,2) -> 0 | U45: =IF((SUM(D45:S45))=T45, "", "ERROR")
A46: =IF(A12="","",+A12) | B46: =+T12 -> 0 | T46: =ROUND(B46*C46,2) -> 0 | U46: =IF((SUM(D46:S46))=T46, "", "ERROR")
A47: =IF(A13="","",+A13) | B47: =+T13 -> 0 | T47: =ROUND(B47*C47,2) -> 0 | U47: =IF((SUM(D47:S47))=T47, "", "ERROR")
A48: =IF(A14="","",+A14) | B48: =+T14 -> 0 | T48: =ROUND(B48*C48,2) -> 0 | U48: =IF((SUM(D48:S48))=T48, "", "ERROR")
A49: =IF(A15="","",+A15) | B49: =+T15 -> 0 | T49: =ROUND(B49*C49,2) -> 0 | U49: =IF((SUM(D49:S49))=T49, "", "ERROR")
A50: =IF(A16="","",+A16) | B50: =+T16 -> 0 | T50: =ROUND(B50*C50,2) -> 0 | U50: =IF((SUM(D50:S50))=T50, "", "ERROR")
A51: =IF(A17="","",+A17) | B51: =+T17 -> 0 | T51: =ROUND(B51*C51,2) -> 0 | U51: =IF((SUM(D51:S51))=T51, "", "ERROR")
A52: =IF(A18="","",+A18) | B52: =+T18 -> 0 | T52: =ROUND(B52*C52,2) -> 0 | U52: =IF((SUM(D52:S52))=T52, "", "ERROR")
A53: =IF(A19="","",+A19) | B53: =+T19 -> 0 | T53: =ROUND(B53*C53,2) -> 0 | U53: =IF((SUM(D53:S53))=T53, "", "ERROR")
A54: =IF(A20="","",+A20) | B54: =+T20 -> 0 | T54: =ROUND(B54*C54,2) -> 0 | U54: =IF((SUM(D54:S54))=T54, "", "ERROR")
A55: =IF(A21="","",+A21) | B55: =+T21 -> 0 | T55: =ROUND(B55*C55,2) -> 0 | U55: =IF((SUM(D55:S55))=T55, "", "ERROR")
A56: =IF(A22="","",+A22) | B56: =+T22 -> 0 | T56: =ROUND(B56*C56,2) -> 0 | U56: =IF((SUM(D56:S56))=T56, "", "ERROR")
... A73: =IF(A39="","",+A39) | B73: =+T39 -> 0 | T73: =ROUND(B73*C73,2) -> 0 | U73: =IF((SUM(D73:S73))=T73, "", "ERROR")
A74: Specify the benefits included in this rate:
...

Sheet SUMMARY - Year 6
A1: ='BUDGET DETAILS - Year 6'!$A$1 -> Appendix
A2: BUDGET SUMMARY
A4: ='BUDGET DETAILS - Year 6'!$A$2 -> (Insert Vendor Name)
A5: ='BUDGET DETAILS - Year 6'!$A$3 -> (Insert SAP #)
A6: ='BUDGET DETAILS - Year 6'!$A$4 -> (Insert Budget Period)
A8: CATEGORIES | D8: ='BUDGET DETAILS - Year 6'!D6 -> Original Budget | E8: ='BUDGET DETAILS - Year 6'!L6 -> Amendment Type & Number | F8: ='BUDGET DETAILS - Year 6'!T6 -> Total Budget
A9: I. PERSONNEL SERVICES | D9: =SUM('BUDGET DETAILS - Year 6'!D80:K80) -> 0 | E9: =SUM('BUDGET DETAILS - Year 6'!L80:S80) -> 0 | F9: =D9+E9 -> 0 | G9: =IF(F9='BUDGET DETAILS - Year 6'!T80,"","ERROR")
A10: II. CONSULTANT SERVICES | D10: =SUM('BUDGET DETAILS - Year 6'!D100:K100) -> 0 | E10: =SUM('BUDGET DETAILS - Year 6'!L100:S100) -> 0 | F10: =D10+E10 -> 0 | G10: =IF(F10='BUDGET DETAILS - Year 6'!T100,"","ERROR")
A11: III. SUBCONTRACT SERVICES | D11: =SUM('BUDGET DETAILS - Year 6'!D116:K116) -> 0 | E11: =SUM('BUDGET DETAILS - Year 6'!L116:S116) -> 0 | F11: =D11+E11 -> 0 | G11: =IF(F11='BUDGET DETAILS - Year 6'!T116,"","ERROR")
A12: IV. PATIENT SERVICES | D12: =SUM('BUDGET DETAILS - Year 6'!D135:K135) -> 0 | E12: =SUM('BUDGET DETAILS - Year 6'!L135:S135) -> 0 | F12: =D12+E12 -> 0 | G12: =IF(F12='BUDGET DETAILS - Year 6'!T135,"","ERROR")
A13: V. EQUIPMENT | D13: =SUM('BUDGET DETAILS - Year 6'!D151:K151) -> 0 | E13: =SUM('BUDGET DETAILS - Year 6'!L151:S151) -> 0 | F13: =D13+E13 -> 0 | G13: =IF(F13='BUDGET DETAILS - Year 6'!T151,"","ERROR")
A14: VI. SUPPLIES | D14: =SUM('BUDGET DETAILS - Year 6'!D167:K167) -> 0 | E14: =SUM('BUDGET DETAILS - Year 6'!L167:S167) -> 0 | F14: =D14+E14 -> 0 | G14: =IF(F14='BUDGET DETAILS - Year 6'!T167,"","ERROR")
A15: VII. TRAVEL | D15: =SUM('BUDGET DETAILS - Year 6'!D187:K187) -> 0 | E15: =SUM('BUDGET DETAILS - Year 6'!L187:S187) -> 0 | F15: =D15+E15 -> 0 | G15: =IF(F15='BUDGET DETAILS - Year 6'!T187,"","ERROR")
A16: VIII. OTHER COSTS / LABORATORY OR BUILDING CONSTRUCTION OR RENOVATION | D16: =SUM('BUDGET DETAILS - Year 6'!D219:K219) -> 0 | E16: =SUM('BUDGET DETAILS - Year 6'!L219:S219) -> 0 | F16: =D16+E16 -> 0 | G16: =IF(F16='BUDGET DETAILS - Year 6'!T219,"","ERROR")
A17: TOTAL | D17: =SUM(D9:D16) -> 0 | E17: =SUM(E9:E16) -> 0 | F17: =SUM(F9:F16) -> 0 | G17: =IF(F17='BUDGET DETAILS - Year 6'!T221,"","ERROR")
A19: -37-

Sheet BUDGET DETAILS - Year 6
A1: Appendix
A2: ='BUDGET DETAILS '!A2:T2 -> (Insert Vendor Name)
A3: ='BUDGET DETAILS '!A3:T3 -> (Insert SAP #)
A4: (Insert Budget Period)
A6: Categories | D6: Original Budget | E6: Original Budget | F6: Original Budget | G6: Original Budget | H6: Original Budget | I6: Original Budget | J6: Original Budget | K6: Original Budget | L6: Amendment Type & Number | M6: Amendment Type & Number | N6: Amendment Type & Number | O6: Amendment Type & Number | P6: Amendment Type & Number | Q6: Amendment Type & Number | R6: Amendment Type & Number | S6: Amendment Type & Number | T6: Total Budget
D7: Infrastructure | E7: Non-Infrastructure | F7: Infrastructure | G7: Non-Infrastructure | H7: (Enter Funding Source) | I7: (Enter Funding Source) | J7: (Enter Funding Source) | K7: (Enter Funding Source) | L7: Infrastructure | M7: Non-Infrastructure | N7: (Enter Funding Source) | O7: (Enter Funding Source) | P7: (Enter Funding Source) | Q7: (Enter Funding Source) | R7: (Enter Funding Source) | S7: (Enter Funding Source)
A8: I. PERSONNEL SERVICES (Infrastructure is clerical, secretarial and administrative assistants positions. Non-Infrastructure is all other positions. See budget instructions tab.)
A9: A. Staff Personnel | B9: Hourly | C9: Number
B10: Rate | C10: of Hours
T11: =ROUND(B11*C11,2) -> 0 | U11: =IF((SUM(D11:S11))=T11, "", "ERROR")
T12: =ROUND(B12*C12,2) -> 0 | U12: =IF((SUM(D12:S12))=T12, "", "ERROR")
T13: =ROUND(B13*C13,2) -> 0 | U13: =IF((SUM(D13:S13))=T13, "", "ERROR")
T14: =ROUND(B14*C14,2) -> 0 | U14: =IF((SUM(D14:S14))=T14, "", "ERROR")
T15: =ROUND(B15*C15,2) -> 0 | U15: =IF((SUM(D15:S15))=T15, "", "ERROR")
T16: =ROUND(B16*C16,2) -> 0 | U16: =IF((SUM(D16:S16))=T16, "", "ERROR")
T17: =ROUND(B17*C17,2) -> 0 | U17: =IF((SUM(D17:S17))=T17, "", "ERROR")
T18: =ROUND(B18*C18,2) -> 0 | U18: =IF((SUM(D18:S18))=T18, "", "ERROR")
T19: =ROUND(B19*C19,2) -> 0 | U19: =IF((SUM(D19:S19))=T19, "", "ERROR")
T20: =ROUND(B20*C20,2) -> 0 | U20: =IF((SUM(D20:S20))=T20, "", "ERROR")
T21: =ROUND(B21*C21,2) -> 0 | U21: =IF((SUM(D21:S21))=T21, "", "ERROR")
T22: =ROUND(B22*C22,2) -> 0 | U22: =IF((SUM(D22:S22))=T22, "", "ERROR")
... T39: =ROUND(B39*C39,2) -> 0 | U39: =IF((SUM(D39:S39))=T39, "", "ERROR")
A40: Sub-Total | D40: =SUM(D11:D39) -> 0 | E40: =SUM(E9:E39) -> 0 | F40: =SUM(F9:F39) -> 0 | G40: =SUM(G9:G39) -> 0 | H40: =SUM(H9:H39) -> 0 | I40: =SUM(I9:I39) -> 0 | J40: =SUM(J9:J39) -> 0 | K40: =SUM(K9:K39) -> 0 | L40: =SUM(L9:L39) -> 0 | ... N40: =SUM(N9:N39) -> 0 | O40: =SUM(O11:O39) -> 0 | P40: =SUM(P11:P39) -> 0 | Q40: =SUM(Q11:Q39) -> 0 | R40: =SUM(R11:R39) -> 0 | S40: =SUM(S11:S39) -> 0 | T40: =SUM(T11:T39) -> 0
A41: -38-
A43: B. Fringe Benefits
B44: Salary | C44: Rate
A45: =IF(A11="","",+A11) | B45: =+T11 -> 0 | T45: =ROUND(B45*C45,2) -> 0 | U45: =IF((SUM(D45:S45))=T45, "", "ERROR")
A46: =IF(A12="","",+A12) | B46: =+T12 -> 0 | T46: =ROUND(B46*C46,2) -> 0 | U46: =IF((SUM(D46:S46))=T46, "", "ERROR")
A47: =IF(A13="","",+A13) | B47: =+T13 -> 0 | T47: =ROUND(B47*C47,2) -> 0 | U47: =IF((SUM(D47:S47))=T47, "", "ERROR")
A48: =IF(A14="","",+A14) | B48: =+T14 -> 0 | T48: =ROUND(B48*C48,2) -> 0 | U48: =IF((SUM(D48:S48))=T48, "", "ERROR")
A49: =IF(A15="","",+A15) | B49: =+T15 -> 0 | T49: =ROUND(B49*C49,2) -> 0 | U49: =IF((SUM(D49:S49))=T49, "", "ERROR")
A50: =IF(A16="","",+A16) | B50: =+T16 -> 0 | T50: =ROUND(B50*C50,2) -> 0 | U50: =IF((SUM(D50:S50))=T50, "", "ERROR")
A51: =IF(A17="","",+A17) | B51: =+T17 -> 0 | T51: =ROUND(B51*C51,2) -> 0 | U51: =IF((SUM(D51:S51))=T51, "", "ERROR")
A52: =IF(A18="","",+A18) | B52: =+T18 -> 0 | T52: =ROUND(B52*C52,2) -> 0 | U52: =IF((SUM(D52:S52))=T52, "", "ERROR")
A53: =IF(A19="","",+A19) | B53: =+T19 -> 0 | T53: =ROUND(B53*C53,2) -> 0 | U53: =IF((SUM(D53:S53))=T53, "", "ERROR")
A54: =IF(A20="","",+A20) | B54: =+T20 -> 0 | T54: =ROUND(B54*C54,2) -> 0 | U54: =IF((SUM(D54:S54))=T54, "", "ERROR")
A55: =IF(A21="","",+A21) | B55: =+T21 -> 0 | T55: =ROUND(B55*C55,2) -> 0 | U55: =IF((SUM(D55:S55))=T55, "", "ERROR")
A56: =IF(A22="","",+A22) | B56: =+T22 -> 0 | T56: =ROUND(B56*C56,2) -> 0 | U56: =IF((SUM(D56:S56))=T56, "", "ERROR")
... A73: =IF(A39="","",+A39) | B73: =+T39 -> 0 | T73: =ROUND(B73*C73,2) -> 0 | U73: =IF((SUM(D73:S73))=T73, "", "ERROR")
A74: Specify the benefits included in this rate:
...

Sheet BUDGET INSTRUCTIONS
A1: Budget Instructions
A3: General Instructions
A4: - | B4: Please copy this file to your hard drive before making any edits. Do not make any changes to this template.
A5: - | B5: Complete only highlighted areas. All other areas are formula driven and are template protected. Data should only be entered on the "Budget Details" tab. For Base Agreements the Budget Details tab and Summary tab should be used.
A6: - | B6: Rows should not be deleted (even if a particular category is not being used). If additional rows are needed, please contact the DOH Project Officer.
A7: - | B7: Additional columns are available for amendments.
A8: - | B8: This template can also be used for amendments. When preparing an amendment, start with the original budget information already completed and add the amendment changes within the budget category, directly below the original information. Please indicate the Amendment Type and Number in the appropriate column heading and update the Appendix C reference to indicate the amendment number. For amendments, the Budget Details and accompanying Budget Summary should be used for submission.
A9: - | B9: IMPORTANT: Use "Infrastructure" columns for recording infrastructure budget items and use "Non-infrastructure" columns for recording non-infrastructure budget items. These broken out amounts must equal the "Total Budget" per line, otherwise an ERROR message will reflect. All budget items, except indirect costs, must be considered either infrastructure or non-infrastructure. Indirect costs may include both infrastructure and non-infrastructure costs. Infrastructure costs are defined by law to include only office equipment, office supplies, nonprofessional personnel, and laboratory or building construction or renovations used to conduct research. Secretaries, administrative assistants and clerical personnel are nonprofessional personnel and should be recorded in the infrastructure column. All other personnel are considered to be professional personnel and therefore are non-infrastructure. This budget must be completed by the lead applicant with costs for all subcontractors listed under budget category "III - Subcontract Services."
A10: - | B10: Please refer to the additional instructions contained in Part One of the RFA when completing the budget.
A12: Budget Details - I.A. Personnel Services
A13: - | B13: Complete all highlighted areas.
A14: - | B14: Identify each position by research role on the project to be funded, the hourly rate and number of hours. Do not list personnel names. This calculation will automatically appear under Total Budget. Insert Project Number, if applicable.
A15: - | B15: Column A - Starting with the principal investigator, list the position and role on the project of the applicant organization's employees who will be funded by the grant, as well as the project number for each position. Do not include employees of other institutions here; list them in the appropriate subcontractor budget or on the consultant worksheet. Exclude anyone whose salary is NOT funded by the grant, e.g., if the PI's salary is not paid with grant funds, do not list them.
A16: - | B16: Complete the costs associated to either the Original Budget or to an Amendment, as applicable. The amount must equal the "Total Budget", otherwise an ERROR message will reflect on the Summary Page.
A17: - | B17: Once all personnel costs are completed under Staff Personnel, each staff identified and their full project costs will also automatically appear under Fringe Benefits. Complete the benefit rate for each staff identified. The Total Budget will automatically calculate.
A18: - | B18: Identify the fringe rate and specific benefits included in the rate.
A19: Budget Details - II Consultants Services
A20: - | B20: List the services to be provided, the hourly rate and number of hours. Do not name the consultant(s) that will be retained. This calculation will automatically appear under Total Budget.
A21: - | B21: Complete the costs associated to the Original Budget or to an Amendment, as applicable. The amount must equal the "Total Budget", otherwise an ERROR message will reflect on the Summary Page.
A22: Budget Details - III SubContract Services
A23: - | B23: Identify services to be provided. Do not name subcontractor that will be retained.
A24: - | B24: Complete costs associated to the Original Budget or Amendment. The Total Budget costs will automatically calculate.
A25: Budget Details - IV Patient Services
A26: - | B26: Identify servicesand number of patients to be served under the non-infrastructure column.
A27: - | B27: Complete costs associated to the Original Budget or Amendment. The Total Budget costs will automatically calculate.
A28: Budget Details - V Equipment
A29: - | B29: Identify equipment, the quantity and unit cost. (Use this category for equipment that is $5,000/unit or greater.) This calculation will automatically appear under Total Budget.
A30: - | B30: Complete the costs associated to the Original Budget or to an Amendment, as applicable. The amount must equal the "Total Budget", otherwise an ERROR message will reflect on the Summary Page.
A31: Budget Details - VI Supplies
A32: - | B32: Identify supplies (in general terms). Equipment items under $5000 unit cost should be listed here
A33: - | B33: Complete costs associated to the Original Budget or Amendment. The Total Budget costs will automatically calculate.
A34: Budget Details - VII Travel
A35: - | B35: Identify travel cost by event and show the breakdown for that event to show amounts by Mileage, Lodging, Airfare, Subsistence, Parking/Tolls, and Ground Transportation using the approved rates at https://www.gsa.gov/travel-resources. See example below.
A37: - | B37: Speakers, if applicable must be related to the research project.
A38: - | B38: Complete costs associated to the Original Budget or Amendment. The Total Budget costs will automatically calculate.
A39: Budget Details - VIII Other Costs / Laboratory or Building Construction or Renovation
A40: - | B40: Identify other costs.
A41: - | B41: For laboratory or building construction or renovation: list each separately under infrastructure and list the project number. Infrastructure is construction and renovation.
A42: - | B42: Indirect costs, if applicable, should be reflected under this category as a % and state which categories it applies to. Example:
B43: • Indirect Costs: Up to 20% of all categories except II, III & V • Indirect Costs: Up to 20% of categories I & VI
...
