Workbook

Sheet Instructions
A1: INSTRUCTIONS
A2: 1.) All sheets must be filled out completely. Fill out all yellow highlighted cells on each worksheet.
A3: 2.) Formulas are imbedded in the Worksheets. Offeror's must verify that all calculations, subtotal costs and grand total costs are accurate.
A4: 3.) Rate Card: Fill in the Position and Hourly Rate columns.
A5: 4.) Deliverables: Fill in the total number of hours for each position per deliverable. All other information is linked and will calculate automatically.
A6: 5.) Optional Items: Fill in the total number of hours for each position per deliverable. All other information is linked and will calculate automatically.
A7: 6.) Summary: All information is linked and will calculate automatically.
A8: 6.) Please contact the Issuing Officer [Issuing Offer Name / Phone / email] with any questions or concerns.
A9: 7.) Payment for services under this contract are deliverable-based. The hours listed are for any task or deliverable are for informational purposes only and will not be binding on the Commonwealth

Sheet Rate Card
A1: Rate Card
A2: Position | B2: Hourly Rate
B3: 0
B4: 0
B5: 0
B6: 0
B7: 0
B8: 0
B9: 0
B10: 0
B11: 0
B12: 0
B13: 0
B14: 0
... B22: 0

Sheet Deliverables
A1: Deliverables Worksheet
A2: Deliverable | B2: Position | C2: Hourly Rate | D2: Hours | E2: Cost
A3: =CONCATENATE(Summary!$A$3," ","-"," ",Summary!$B$3) -> Preparation for System Upgrade - Conduct health and maintenance check of current system | B3: ='Rate Card'!$A$3 -> 0 | C3: ='Rate Card'!$B$3 -> 0 | E3: =D3*C3 -> 0
B4: ='Rate Card'!$A$4 -> 0 | C4: ='Rate Card'!$B$4 -> 0 | E4: =D4*C4 -> 0
B5: ='Rate Card'!$A$5 -> 0 | C5: ='Rate Card'!$B$5 -> 0 | E5: =D5*C5 -> 0
B6: ='Rate Card'!$A$6 -> 0 | C6: ='Rate Card'!$B$6 -> 0 | E6: =D6*C6 -> 0
B7: ='Rate Card'!$A$7 -> 0 | C7: ='Rate Card'!$B$7 -> 0 | E7: =D7*C7 -> 0
B8: ='Rate Card'!$A$8 -> 0 | C8: ='Rate Card'!$B$8 -> 0 | E8: =D8*C8 -> 0
B9: ='Rate Card'!$A$9 -> 0 | C9: ='Rate Card'!$B$9 -> 0 | E9: =D9*C9 -> 0
B10: ='Rate Card'!$A$10 -> 0 | C10: ='Rate Card'!$B$10 -> 0 | E10: =D10*C10 -> 0
B11: ='Rate Card'!$A$11 -> 0 | C11: ='Rate Card'!$B$11 -> 0 | E11: =D11*C11 -> 0
B12: ='Rate Card'!$A$12 -> 0 | C12: ='Rate Card'!$B$12 -> 0 | E12: =D12*C12 -> 0
B13: ='Rate Card'!$A$13 -> 0 | C13: ='Rate Card'!$B$13 -> 0 | E13: =D13*C13 -> 0
B14: ='Rate Card'!$A$14 -> 0 | C14: ='Rate Card'!$B$14 -> 0 | E14: =D14*C14 -> 0
B15: ='Rate Card'!$A$15 -> 0 | C15: ='Rate Card'!$B$15 -> 0 | E15: =D15*C15 -> 0
B16: ='Rate Card'!$A$16 -> 0 | C16: ='Rate Card'!$B$16 -> 0 | E16: =D16*C16 -> 0
B17: ='Rate Card'!$A$17 -> 0 | C17: ='Rate Card'!$B$17 -> 0 | E17: =D17*C17 -> 0
B18: ='Rate Card'!$A$18 -> 0 | C18: ='Rate Card'!$B$18 -> 0 | E18: =D18*C18 -> 0
B19: ='Rate Card'!$A$19 -> 0 | C19: ='Rate Card'!$B$19 -> 0 | E19: =D19*C19 -> 0
B20: ='Rate Card'!$A$20 -> 0 | C20: ='Rate Card'!$B$20 -> 0 | E20: =D20*C20 -> 0
B21: ='Rate Card'!$A$21 -> 0 | C21: ='Rate Card'!$B$21 -> 0 | E21: =D21*C21 -> 0
B22: ='Rate Card'!$A$22 -> 0 | C22: ='Rate Card'!$B$22 -> 0 | E22: =D22*C22 -> 0
A24: =CONCATENATE(Summary!$A$3," ","-"," ",Summary!$B$4) -> Preparation for System Upgrade - Remediate any issues if necessary | B24: ='Rate Card'!$A$3 -> 0 | C24: ='Rate Card'!$B$3 -> 0 | E24: =D24*C24 -> 0
B25: ='Rate Card'!$A$4 -> 0 | C25: ='Rate Card'!$B$4 -> 0 | E25: =D25*C25 -> 0
B26: ='Rate Card'!$A$5 -> 0 | C26: ='Rate Card'!$B$5 -> 0 | E26: =D26*C26 -> 0
B27: ='Rate Card'!$A$6 -> 0 | C27: ='Rate Card'!$B$6 -> 0 | E27: =D27*C27 -> 0
B28: ='Rate Card'!$A$7 -> 0 | C28: ='Rate Card'!$B$7 -> 0 | E28: =D28*C28 -> 0
B29: ='Rate Card'!$A$8 -> 0 | C29: ='Rate Card'!$B$8 -> 0 | E29: =D29*C29 -> 0
B30: ='Rate Card'!$A$9 -> 0 | C30: ='Rate Card'!$B$9 -> 0 | E30: =D30*C30 -> 0
B31: ='Rate Card'!$A$10 -> 0 | C31: ='Rate Card'!$B$10 -> 0 | E31: =D31*C31 -> 0
B32: ='Rate Card'!$A$11 -> 0 | C32: ='Rate Card'!$B$11 -> 0 | E32: =D32*C32 -> 0
B33: ='Rate Card'!$A$12 -> 0 | C33: ='Rate Card'!$B$12 -> 0 | E33: =D33*C33 -> 0
B34: ='Rate Card'!$A$13 -> 0 | C34: ='Rate Card'!$B$13 -> 0 | E34: =D34*C34 -> 0
B35: ='Rate Card'!$A$14 -> 0 | C35: ='Rate Card'!$B$14 -> 0 | E35: =D35*C35 -> 0
B36: ='Rate Card'!$A$15 -> 0 | C36: ='Rate Card'!$B$15 -> 0 | E36: =D36*C36 -> 0
B37: ='Rate Card'!$A$16 -> 0 | C37: ='Rate Card'!$B$16 -> 0 | E37: =D37*C37 -> 0
B38: ='Rate Card'!$A$17 -> 0 | C38: ='Rate Card'!$B$17 -> 0 | E38: =D38*C38 -> 0
B39: ='Rate Card'!$A$18 -> 0 | C39: ='Rate Card'!$B$18 -> 0 | E39: =D39*C39 -> 0
B40: ='Rate Card'!$A$19 -> 0 | C40: ='Rate Card'!$B$19 -> 0 | E40: =D40*C40 -> 0
B41: ='Rate Card'!$A$20 -> 0 | C41: ='Rate Card'!$B$20 -> 0 | E41: =D41*C41 -> 0
...

Sheet Optional Items
A1: Optional Items Worksheet
A2: Deliverable | B2: Position | C2: Hourly Rate | D2: Hours | E2: Cost
A3: =CONCATENATE(Summary!$A$21," ","-"," ",Summary!$B$21) -> Switchover Production from the old to the new Environment - Snapshot data on current system and migrate to new production environment | B3: ='Rate Card'!$A$3 -> 0 | C3: ='Rate Card'!$B$3 -> 0 | E3: =D3*C3 -> 0
B4: ='Rate Card'!$A$4 -> 0 | C4: ='Rate Card'!$B$4 -> 0 | E4: =D4*C4 -> 0
B5: ='Rate Card'!$A$5 -> 0 | C5: ='Rate Card'!$B$5 -> 0 | E5: =D5*C5 -> 0
B6: ='Rate Card'!$A$6 -> 0 | C6: ='Rate Card'!$B$6 -> 0 | E6: =D6*C6 -> 0
B7: ='Rate Card'!$A$7 -> 0 | C7: ='Rate Card'!$B$7 -> 0 | E7: =D7*C7 -> 0
B8: ='Rate Card'!$A$8 -> 0 | C8: ='Rate Card'!$B$8 -> 0 | E8: =D8*C8 -> 0
B9: ='Rate Card'!$A$9 -> 0 | C9: ='Rate Card'!$B$9 -> 0 | E9: =D9*C9 -> 0
B10: ='Rate Card'!$A$10 -> 0 | C10: ='Rate Card'!$B$10 -> 0 | E10: =D10*C10 -> 0
B11: ='Rate Card'!$A$11 -> 0 | C11: ='Rate Card'!$B$11 -> 0 | E11: =D11*C11 -> 0
B12: ='Rate Card'!$A$12 -> 0 | C12: ='Rate Card'!$B$12 -> 0 | E12: =D12*C12 -> 0
B13: ='Rate Card'!$A$13 -> 0 | C13: ='Rate Card'!$B$13 -> 0 | E13: =D13*C13 -> 0
B14: ='Rate Card'!$A$14 -> 0 | C14: ='Rate Card'!$B$14 -> 0 | E14: =D14*C14 -> 0
B15: ='Rate Card'!$A$15 -> 0 | C15: ='Rate Card'!$B$15 -> 0 | E15: =D15*C15 -> 0
B16: ='Rate Card'!$A$16 -> 0 | C16: ='Rate Card'!$B$16 -> 0 | E16: =D16*C16 -> 0
B17: ='Rate Card'!$A$17 -> 0 | C17: ='Rate Card'!$B$17 -> 0 | E17: =D17*C17 -> 0
B18: ='Rate Card'!$A$18 -> 0 | C18: ='Rate Card'!$B$18 -> 0 | E18: =D18*C18 -> 0
B19: ='Rate Card'!$A$19 -> 0 | C19: ='Rate Card'!$B$19 -> 0 | E19: =D19*C19 -> 0
B20: ='Rate Card'!$A$20 -> 0 | C20: ='Rate Card'!$B$20 -> 0 | E20: =D20*C20 -> 0
B21: ='Rate Card'!$A$21 -> 0 | C21: ='Rate Card'!$B$21 -> 0 | E21: =D21*C21 -> 0
B22: ='Rate Card'!$A$22 -> 0 | C22: ='Rate Card'!$B$22 -> 0 | E22: =D22*C22 -> 0
A24: =CONCATENATE(Summary!$A$21," ","-"," ",Summary!$B$22) -> Switchover Production from the old to the new Environment - Make any necessary changes to point all systems to the new IBM FileNet 5.2.x environment | B24: ='Rate Card'!$A$3 -> 0 | C24: ='Rate Card'!$B$3 -> 0 | E24: =D24*C24 -> 0
B25: ='Rate Card'!$A$4 -> 0 | C25: ='Rate Card'!$B$4 -> 0 | E25: =D25*C25 -> 0
B26: ='Rate Card'!$A$5 -> 0 | C26: ='Rate Card'!$B$5 -> 0 | E26: =D26*C26 -> 0
B27: ='Rate Card'!$A$6 -> 0 | C27: ='Rate Card'!$B$6 -> 0 | E27: =D27*C27 -> 0
B28: ='Rate Card'!$A$7 -> 0 | C28: ='Rate Card'!$B$7 -> 0 | E28: =D28*C28 -> 0
B29: ='Rate Card'!$A$8 -> 0 | C29: ='Rate Card'!$B$8 -> 0 | E29: =D29*C29 -> 0
B30: ='Rate Card'!$A$9 -> 0 | C30: ='Rate Card'!$B$9 -> 0 | E30: =D30*C30 -> 0
B31: ='Rate Card'!$A$10 -> 0 | C31: ='Rate Card'!$B$10 -> 0 | E31: =D31*C31 -> 0
B32: ='Rate Card'!$A$11 -> 0 | C32: ='Rate Card'!$B$11 -> 0 | E32: =D32*C32 -> 0
B33: ='Rate Card'!$A$12 -> 0 | C33: ='Rate Card'!$B$12 -> 0 | E33: =D33*C33 -> 0
B34: ='Rate Card'!$A$13 -> 0 | C34: ='Rate Card'!$B$13 -> 0 | E34: =D34*C34 -> 0
B35: ='Rate Card'!$A$14 -> 0 | C35: ='Rate Card'!$B$14 -> 0 | E35: =D35*C35 -> 0
B36: ='Rate Card'!$A$15 -> 0 | C36: ='Rate Card'!$B$15 -> 0 | E36: =D36*C36 -> 0
B37: ='Rate Card'!$A$16 -> 0 | C37: ='Rate Card'!$B$16 -> 0 | E37: =D37*C37 -> 0
B38: ='Rate Card'!$A$17 -> 0 | C38: ='Rate Card'!$B$17 -> 0 | E38: =D38*C38 -> 0
B39: ='Rate Card'!$A$18 -> 0 | C39: ='Rate Card'!$B$18 -> 0 | E39: =D39*C39 -> 0
B40: ='Rate Card'!$A$19 -> 0 | C40: ='Rate Card'!$B$19 -> 0 | E40: =D40*C40 -> 0
B41: ='Rate Card'!$A$20 -> 0 | C41: ='Rate Card'!$B$20 -> 0 | E41: =D41*C41 -> 0
...

Sheet Summary
A1: Cost Summary
A2: Task/Phase | B2: Deliverable | C2: Total Hours | D2: Total Cost
A3: Preparation for System Upgrade | B3: Conduct health and maintenance check of current system | C3: =SUM(Deliverables!D3:D22) -> 0 | D3: =SUM(Deliverables!E3:E22) -> 0
B4: Remediate any issues if necessary | C4: =SUM(Deliverables!D24:D43) -> 0 | D4: =SUM(Deliverables!E24:E43) -> 0
C5: =SUM(Deliverables!D45:D64) -> 0 | D5: =SUM(Deliverables!E45:E64) -> 0
D6: =SUM(Deliverables!E66:E85) -> 0
D7: =SUM(Deliverables!E87:E106) -> 0
C8: =SUM(C3:C7) -> 0 | D8: =SUM(D3:D7) -> 0
A9: Setup of new FileNet Content Manager Environments | B9: Build new IBM FileNet Content Manger v.5.2.x Test Environment | C9: =SUM(Deliverables!D108:D127) -> 0 | D9: =SUM(Deliverables!E108:E127) -> 0
B10: Build new IBM FileNet Content Manger v.5.2.x Production Environment | C10: =SUM(Deliverables!D129:D148) -> 0 | D10: =SUM(Deliverables!E129:E148) -> 0
C11: =SUM(Deliverables!D150:D169) -> 0 | D11: =SUM(Deliverables!E150:E169) -> 0
D12: =SUM(Deliverables!E171:E190) -> 0
D13: =SUM(Deliverables!E192:E211) -> 0
C14: =SUM(C9:C13) -> 0 | D14: =SUM(D9:D13) -> 0
A15: Migration of Current Data and Testing | B15: Prepare current data for migration to new environment | C15: =SUM(Deliverables!D213:D232) -> 0 | D15: =SUM(Deliverables!E213:E232) -> 0
B16: Migrate current data to new environment. | C16: =SUM(Deliverables!D234:D253) -> 0 | D16: =SUM(Deliverables!E234:E253) -> 0
B17: Coordinate with PGCB to test interoperability between new IBM FileNet environment and PGCB developed and vendor applications. | C17: =SUM(Deliverables!D255:D274) -> 0 | D17: =SUM(Deliverables!E255:E274) -> 0
D18: =SUM(Deliverables!E276:E295) -> 0
D19: =SUM(Deliverables!E297:E316) -> 0
C20: =SUM(C15:C19) -> 0 | D20: =SUM(D15:D19) -> 0
A21: Switchover Production from the old to the new Environment | B21: Snapshot data on current system and migrate to new production environment | C21: =SUM('Optional Items'!D3:D22) -> 0 | D21: =SUM(Deliverables!E58:E77) -> 0
B22: Make any necessary changes to point all systems to the new IBM FileNet 5.2.x environment | C22: =SUM('Optional Items'!D24:D43) -> 0 | D22: =SUM(Deliverables!E79:E98) -> 0
B23: Coordinate with PGCB to address any issues that develop after switch over to new production environment. | C23: =SUM('Optional Items'!D45:D64) -> 0 | D23: =SUM(Deliverables!E100:E119) -> 0
D24: =SUM(Deliverables!E121:E140) -> 0
D25: =SUM(Deliverables!E142:E161) -> 0
C26: =SUM(C21:C25) -> 0 | D26: =SUM(D21:D25) -> 0
A27: Decommission and Knowledge Transfer | B27: Decommission and archive old FileNet environment | C27: =SUM('Optional Items'!D108:D127) -> 0 | D27: =SUM('Optional Items'!E108:E127) -> 0
B28: Document all steps taken during the upgrade and transfer to PGCB. | C28: =SUM('Optional Items'!D129:D148) -> 0 | D28: =SUM('Optional Items'!E129:E148) -> 0
B29: Complete training (routine maintenance and system administration) on new environment for selected PGCB personnel. | C29: =SUM('Optional Items'!D150:D169) -> 0 | D29: =SUM('Optional Items'!E150:E169) -> 0
D30: =SUM('Optional Items'!E171:E190) -> 0
D31: =SUM('Optional Items'!E192:E211) -> 0
C32: =SUM(C27:C31) -> 0 | D32: =SUM(D27:D31) -> 0
D33: =SUM('Optional Items'!E213:E232) -> 0
D34: =SUM('Optional Items'!E234:E253) -> 0
D35: =SUM('Optional Items'!E255:E274) -> 0
D36: =SUM('Optional Items'!E276:E295) -> 0
D37: =SUM('Optional Items'!E297:E316) -> 0
C38: =SUM(C33:C37) -> 0 | D38: =SUM(D33:D37) -> 0
A39: Total Deliverable Cost | D39: =D8+D14+D20 -> 0
A40: Total Deliverable Hours | D40: =C8+C14+C20 -> 0
...
