Workbook

Sheet INSTRUCTIONS
A2: 2025 - 1 TPA - APPENDIX F -Instructions
A5: A. | B5: Complete TABLE 1 and TABLE 2 included this workbook. The TOTAL Sheet will populate automatically. Include all assumptions used to develop the fees. In preparing the tables, please keep in mind the following:
B6: · Monthly per-capita Fee will populate using the estimated headcount numbers supplied in TABLE 1
B7: · Any set-up fees to transfer records from the PSERS’s current system and/or manual records to your recordkeeping system should be listed separately; and
B8: · Any special fees or charges of any kind for services or supplies that will not be covered by your proposed per-capita fee must be disclosed in your proposal. Please describe any services or supplies you will not cover.
B9: OPTION Years 6-10 As stated in the RFP PART I, Section I-22, Psers has the right to exercise option years 6-10 with the vendor on contract on or before the conclusion of the initial 5 yr term. This will be decided on a year-to-year basis and final costs will be negotiable. Please provide extended cost expectations for each optional year provided. Please note that these amounts are for informational purposes and will NOT be scored as part of your Cost Submittal. They are not displayed on the Totals sheet.
B11: Monthly fees should include all administration services outlined in this Request for Proposal and the associated sample contracts for HOP and PAP. If you are proposing fees on a bundled/flat monthly basis, which may differ from the suggested breakdown, ensure that all services are accounted for. In the "Other"spaces provided in TABLES 1 & 2, list any services necessary that you would not provide or that are not included in your fees.
A13: B. | B13: TABLE 3 - Value -added Services. Any fees associated with services described in PART III, Section III-9 in the RFP. Please note that these costs are for information purposes and will NOT be scored as part of the Cost Submittal.

Sheet TOTALS
A2: 2025-1 TPA - APPENDIX F -(Totals) | D2: OFFEROR:
A4: TOTAL COST OVERVIEW
B5: Year 2027 | C5: Year 2028 | D5: Year 2029 | E5: Year 2030 | F5: Year 2031
B6: Annual cost | C6: Annual cost | D6: Annual cost | E6: Annual cost | F6: Annual cost
A7: Table 1 - Summary of Fees | B7: ='TABLE 1'!C21 -> 0 | C7: ='TABLE 1'!E21 -> 0 | D7: ='TABLE 1'!G21 -> 0 | E7: ='TABLE 1'!I21 -> 0 | F7: ='TABLE 1'!K21 -> 0
A8: Table 2 - Additional Services | B8: ='TABLE 2'!B15 -> 0 | C8: ='TABLE 2'!C15 -> 0 | D8: ='TABLE 2'!D15 -> 0 | E8: ='TABLE 2'!E15 -> 0 | F8: ='TABLE 2'!F15 -> 0
B10: Year 2027 | C10: Year 2028 | D10: Year 2029 | E10: Year 2030 | F10: Year 2031
A11: TOTAL YEARLY COSTS | B11: =B7+B8 -> 0 | C11: =C7+C8 -> 0 | D11: =D7+D8 -> 0 | E11: =E7+E8 -> 0 | F11: =F7+F8 -> 0
A13: Costs for each component and subsection should be independent and stand-alone if the Issuing Office determines that some services are not required. The Offeror should indicate if any cost component and subsection is contingent upon another cost component and subsection.

Sheet TABLE 1
A2: 2025-1 TPA - APPENDIX F - (Table1) | I2: OFFEROR:
A4: Table 1 - Summary of Fees | I4: PMPM - Per Member Per Month | L4: Exceptions | P4: OPTION YEARS 6-10
B5: Year 2027 | D5: Year 2028 | F5: Year 2029 | H5: Year 2030 | J5: Year 2031 | M5: Option yr 6 | O5: Option yr 7 | Q5: Option yr 8 | S5: Option yr 9 | U5: Option yr 10
B6: PMPM | C6: Monthly Fee | D6: PMPM | E6: Monthly Fee | F6: PMPM | G6: Monthly Fee | H6: PMPM | I6: Monthly Fee | J6: PMPM | K6: Monthly Fee | M6: PMPM | N6: Monthly Fee | O6: PMPM | P6: Monthly Fee | Q6: PMPM | R6: Monthly Fee | S6: PMPM | T6: Monthly Fee | U6: PMPM | V6: Monthly Fee
A8: 1. Customer Service - Assume 101,000 members | B8: 0 | C8: =B8*101000 -> 0 | D8: 0 | E8: =D8*101000 -> 0 | F8: 0 | G8: =F8*101000 -> 0 | H8: 0 | I8: =H8*101000 -> 0 | J8: 0 | K8: =J8*101000 -> 0 | M8: 0 | N8: =M8*101000 -> 0 | O8: 0 | P8: =O8*101000 -> 0 | Q8: 0 | R8: =Q8*101000 -> 0 | S8: 0 | T8: =S8*101000 -> 0 | U8: 0 | V8: =U8*101000 -> 0
A9: 2. HOP Claims Administration (as defined in HOP sample contract) - Assume 90,000 members | B9: 0 | C9: =B9*90000 -> 0 | D9: 0 | E9: =D9*90000 -> 0 | F9: 0 | G9: =F9*90000 -> 0 | H9: 0 | I9: =H9*90000 -> 0 | J9: 0 | K9: =J9*90000 -> 0 | M9: 0 | N9: =M9*90000 -> 0 | O9: 0 | P9: =O9*90000 -> 0 | Q9: 0 | R9: =Q9*90000 -> 0 | S9: 0 | T9: =S9*90000 -> 0 | U9: 0 | V9: =U9*90000 -> 0
A10: 3. Premium Assistance Program (as defined in PAP sample contract) - Assume 87,000 members | B10: 0 | C10: =B10*87000 -> 0 | D10: 0 | E10: =D10*87000 -> 0 | F10: 0 | G10: =F10*87000 -> 0 | H10: 0 | I10: =H10*87000 -> 0 | J10: 0 | K10: =J10*87000 -> 0 | M10: 0 | N10: =M10*87000 -> 0 | O10: 0 | P10: =O10*87000 -> 0 | Q10: 0 | R10: =Q10*87000 -> 0 | S10: 0 | T10: =S10*87000 -> 0 | U10: 0 | V10: =U10*87000 -> 0
A11: 4. Medicare Part D Administration - Assume 79,000 members | B11: 0 | C11: =B11*79000 -> 0 | D11: 0 | E11: =D11*79000 -> 0 | F11: 0 | G11: =F11*79000 -> 0 | H11: 0 | I11: =H11*79000 -> 0 | J11: 0 | K11: =J11*79000 -> 0 | M11: 0 | N11: =M11*79000 -> 0 | O11: 0 | P11: =O11*79000 -> 0 | Q11: 0 | R11: =Q11*79000 -> 0 | S11: 0 | T11: =S11*79000 -> 0 | U11: 0 | V11: =U11*79000 -> 0
A12: 5. Support Services: ID cards for self-funded plan members - Assume 90,000 members | B12: 0 | C12: =B12*90000 -> 0 | D12: 0 | E12: =D12*90000 -> 0 | F12: 0 | G12: =F12*90000 -> 0 | H12: 0 | I12: =H12*90000 -> 0 | J12: 0 | K12: =J12*90000 -> 0 | M12: 0 | N12: =M12*90000 -> 0 | O12: 0 | P12: =O12*90000 -> 0 | Q12: 0 | R12: =Q12*90000 -> 0 | S12: 0 | T12: =S12*90000 -> 0 | U12: 0 | V12: =U12*90000 -> 0
A13: 6. Support Services: Vendor Support for Voluntary Benefit Programs - Assume 89,000 members | B13: 0 | C13: =B13*89000 -> 0 | D13: 0 | E13: =D13*89000 -> 0 | F13: 0 | G13: =F13*89000 -> 0 | H13: 0 | I13: =H13*89000 -> 0 | J13: 0 | K13: =J13*89000 -> 0 | M13: 0 | N13: =M13*89000 -> 0 | O13: 0 | P13: =O13*89000 -> 0 | Q13: 0 | R13: =Q13*89000 -> 0 | S13: 0 | T13: =S13*89000 -> 0 | U13: 0 | V13: =U13*89000 -> 0
A14: 7. Reporting | C14: 0 | E14: 0 | G14: 0 | I14: 0 | K14: 0 | N14: 0 | P14: 0 | R14: 0 | T14: 0 | V14: 0
A15: 8. Banking and Financial services | C15: 0 | E15: 0 | G15: 0 | I15: 0 | K15: 0 | N15: 0 | P15: 0 | R15: 0 | T15: 0 | V15: 0
A16: 9. PSERS Account Management | C16: 0 | E16: 0 | G16: 0 | I16: 0 | K16: 0 | N16: 0 | P16: 0 | R16: 0 | T16: 0 | V16: 0
A17: 10. Support Services: HOP Presentations - Assume 80 meetings per year (40 Spring/40 fall) | C17: 0 | E17: 0 | G17: 0 | I17: 0 | K17: 0 | N17: 0 | P17: 0 | R17: 0 | T17: 0 | V17: 0
A18: 11. Web Hosting Services, including Secure Participant and Staff Portals | C18: 0 | E18: 0 | G18: 0 | I18: 0 | K18: 0 | N18: 0 | P18: 0 | R18: 0 | T18: 0 | V18: 0
A19: 12. Other (Specify) | C19: 0 | E19: 0 | G19: 0 | I19: 0 | K19: 0 | N19: 0 | P19: 0 | R19: 0 | T19: 0 | V19: 0
A20: 13. Other (Specify) | C20: 0 | E20: 0 | G20: 0 | I20: 0 | K20: 0 | N20: 0 | P20: 0 | R20: 0 | T20: 0 | V20: 0
A21: Total Summary of Fees (annual): | C21: =SUM(C8:C20)*12 -> 0 | E21: =SUM(E8:E20)*12 -> 0 | G21: =SUM(G8:G20)*12 -> 0 | I21: =SUM(I8:I20)*12 -> 0 | K21: =SUM(K8:K20)*12 -> 0 | N21: =SUM(N8:N20)*12 -> 0 | P21: =SUM(P8:P20)*12 -> 0 | R21: =SUM(R8:R20)*12 -> 0 | T21: =SUM(T8:T20)*12 -> 0 | V21: =SUM(V8:V20)*12 -> 0

Sheet TABLE 2
A2: 2025-1 TPA - APPENDIX F - (Table2) | D2: OFFEROR:
A4: Table 2 - Additional services | G4: Exceptions | H4: OPTION YEARS 6-10
B5: Year 2027 | C5: Year 2028 | D5: Year 2029 | E5: Year 2030 | F5: Year 2031 | H5: Option yr 6 | I5: Option yr 7 | J5: Option yr 8 | K5: Option yr 9 | L5: Option yr 10
B6: Annual cost | C6: Annual cost | D6: Annual cost | E6: Annual cost | F6: Annual cost | H6: Annual cost | I6: Annual cost | J6: Annual cost | K6: Annual cost | L6: Annual cost
A8: 1. Adhoc/special reports | B8: 0 | C8: 0 | D8: 0 | E8: 0 | F8: 0 | H8: 0 | I8: 0 | J8: 0 | K8: 0 | L8: 0
A9: 2. Medical review and expert testimony | B9: 0 | C9: 0 | D9: 0 | E9: 0 | F9: 0 | H9: 0 | I9: 0 | J9: 0 | K9: 0 | L9: 0
A10: 3. Run-out claims upon contract termination for 90 days | B10: 0 | C10: 0 | D10: 0 | E10: 0 | F10: 0 | H10: 0 | I10: 0 | J10: 0 | K10: 0 | L10: 0
A11: 4. Transition of Data upon Termination of Contract | B11: 0 | C11: 0 | D11: 0 | E11: 0 | F11: 0 | H11: 0 | I11: 0 | J11: 0 | K11: 0 | L11: 0
A12: 5. Start up Costs | B12: 0 | C12: n/a | D12: n/a | E12: n/a | F12: n/a | H12: n/a | I12: n/a | J12: n/a | K12: n/a | L12: n/a
A13: 6. Other (Specify) | B13: 0 | C13: 0 | D13: 0 | E13: 0 | F13: 0 | H13: 0 | I13: 0 | J13: 0 | K13: 0 | L13: 0
A14: 7. Other (Specify) | B14: 0 | C14: 0 | D14: 0 | E14: 0 | F14: 0 | H14: 0 | I14: 0 | J14: 0 | K14: 0 | L14: 0
A15: Total Additional Sevice costs (annual): | B15: =SUM(B8:B14) -> 0 | C15: =SUM(C8+C9+C10+C11+C13+C14) -> 0 | D15: =SUM(D8+D9+D10+D11+D13+D14) -> 0 | E15: =SUM(E8+E9+E10+E11+E13+E14) -> 0 | F15: =SUM(F8+F9+F10+F11+F13+F14) -> 0 | H15: =SUM(H8+H9+H10+H11+H13+H14) -> 0 | I15: =SUM(I8+I9+I10+I11+I13+I14) -> 0 | J15: =SUM(J8+J9+J10+J11+J13+J14) -> 0 | K15: =SUM(K8+K9+K10+K11+K13+K14) -> 0 | L15: =SUM(L8+L9+L10+L11+L13+L14) -> 0

Sheet TABLE 3 - Value Added Services
B2: 2025-1 TPA - APPENDIX F - (Table3) | E2: OFFEROR:
B4: Table 3 - Value-added services | H4: Exceptions | I4: OPTION YEARS 6-10
C5: Year 2027 | D5: Year 2028 | E5: Year 2029 | F5: Year 2030 | G5: Year 2031 | I5: Option yr 6 | J5: Option yr 7 | K5: Option yr 8 | L5: Option yr 9 | M5: Option yr 10
C6: Annual cost | D6: Annual cost | E6: Annual cost | F6: Annual cost | G6: Annual cost | I6: Annual cost | J6: Annual cost | K6: Annual cost | L6: Annual cost | M6: Annual cost
B7: Description of Service
A8: 1 | C8: 0 | D8: 0 | E8: 0 | F8: 0 | G8: 0 | I8: 0 | J8: 0 | K8: 0 | L8: 0 | M8: 0
A9: 2 | C9: 0 | D9: 0 | E9: 0 | F9: 0 | G9: 0 | I9: 0 | J9: 0 | K9: 0 | L9: 0 | M9: 0
A10: 3 | C10: 0 | D10: 0 | E10: 0 | F10: 0 | G10: 0 | I10: 0 | J10: 0 | K10: 0 | L10: 0 | M10: 0
A11: 4 | C11: 0 | D11: 0 | E11: 0 | F11: 0 | G11: 0 | I11: 0 | J11: 0 | K11: 0 | L11: 0 | M11: 0
B12: Total Sevice Costs: | C12: =SUM(C8:C11) -> 0 | D12: =SUM(D8:D11) -> 0 | E12: =SUM(E8:E11) -> 0 | F12: =SUM(F8:F11) -> 0 | G12: =SUM(G8:G11) -> 0 | I12: =SUM(I8:I11) -> 0 | J12: =SUM(J8:J11) -> 0 | K12: =SUM(K8:K11) -> 0 | L12: =SUM(L8:L11) -> 0 | M12: =SUM(M8:M11) -> 0
