Workbook

Sheet Cover - Enterprise Network
A1: APPENDIX F - Cost Submittal Worksheet
A3: REQUEST FOR PROPOSALS FOR
A5: Commonwealth Enterprise Network (EN) and Shared Services
A7: ISSUING OFFICE
A9: Office of Administration
A11: RFP NUMBER
A13: 6100039273
A15: DATE OF ISSUANCE
A17: 42697

Sheet Instructions
A1: APPENDIX F - COST Submittal Worksheet Instructions
A2: 1) All sheets must be filled out completely. Fill out all yellow highlighted cells on each applicable worksheet.
A3: 2) Formulas are imbedded in the Worksheets. Offeror's must verify that all calculations, subtotal costs and grand total costs are accurate.
A4: 3) Service Costs: Insert Offeror Name in "Offeror Name" field. Fill in the monthly rate in the Monthly per Service column. All other information is linked and will calculate automatically.
A5: 4) Summary: All information is linked and will calculate automatically.
A6: 5) Please contact the Issuing Officer, Joseph M. Millovich, at RA-OITPurchases@pa.gov with any questions or concerns.
A7: 6) Payment for services under this contract are fixed cost per unit.
A8: 7) Optional Services tab - services proposed in this tab are optional and will not be used in the final cost evaluation

Sheet Service Costs
A1: OFFEROR NAME
D4: Commonwealth Enterprise Network (EN) and Shared Services
D5: Monthly Service Costs
D7: Base Years | J7: Renewal Years
D8: Year 1 | E8: Year 2 | F8: Year 3 | G8: Year 4 | H8: Year 5 | J8: Year 6 | K8: Year 7 | L8: Year 8 | M8: Year 9 | N8: Year 10
A9: Service | B9: Unit | C9: Description | D9: Monthly per Service | E9: Monthly per Service | F9: Monthly per Service | G9: Monthly per Service | H9: Monthly per Service | J9: Monthly per Service | K9: Monthly per Service | L9: Monthly per Service | M9: Monthly per Service | N9: Monthly per Service
A10: A – COPANET Services and Support | B10: Cost Per Month | D10: 0 | E10: 0 | F10: 0 | G10: 0 | H10: 0 | J10: 0 | K10: 0 | L10: 0 | M10: 0 | N10: 0
A11: B – COPANET Extension | B11: Cost Per Month | D11: =SUM(D12:D13) -> 0 | E11: =SUM(E12:E13) -> 0 | F11: =SUM(F12:F13) -> 0 | G11: =SUM(G12:G13) -> 0 | H11: =SUM(H12:H13) -> 0 | J11: =SUM(J12:J13) -> 0 | K11: =SUM(K12:K13) -> 0 | L11: =SUM(L12:L13) -> 0 | M11: =SUM(M12:M13) -> 0 | N11: =SUM(N12:N13) -> 0
A12: B – Philadelphia/Pittsburgh | B12: Cost Per Month | D12: 0 | E12: 0 | F12: 0 | G12: 0 | H12: 0 | J12: 0 | K12: 0 | L12: 0 | M12: 0 | N12: 0
A13: B – Other POPs | B13: Cost Per Month | D13: 0 | E13: 0 | F13: 0 | G13: 0 | H13: 0 | J13: 0 | K13: 0 | L13: 0 | M13: 0 | N13: 0
A14: C – Managed Security Services | B14: Cost Per Month | D14: 0 | E14: 0 | F14: 0 | G14: 0 | H14: 0 | J14: 0 | K14: 0 | L14: 0 | M14: 0 | N14: 0
A15: D – Internet Services | B15: Cost Per MB per Month | D15: 0 | E15: 0 | F15: 0 | G15: 0 | H15: 0 | J15: 0 | K15: 0 | L15: 0 | M15: 0 | N15: 0
A16: E – Secure Cloud Exchange | B16: Cost Per Month | D16: =SUM(D17:D21) -> 0 | E16: =SUM(E17:E21) -> 0 | F16: =SUM(F17:F21) -> 0 | G16: =SUM(G17:G21) -> 0 | H16: =SUM(H17:H21) -> 0 | J16: =SUM(J17:J21) -> 0 | K16: =SUM(K17:K21) -> 0 | L16: =SUM(L17:L21) -> 0 | M16: =SUM(M17:M21) -> 0 | N16: =SUM(N17:N21) -> 0
A17: E – Amazon | B17: Cost Per Month | C17: Amazon | D17: 0 | E17: 0 | F17: 0 | G17: 0 | H17: 0 | J17: 0 | K17: 0 | L17: 0 | M17: 0 | N17: 0
A18: E – Azure | B18: Cost Per Month | C18: Azure | D18: 0 | E18: 0 | F18: 0 | G18: 0 | H18: 0 | J18: 0 | K18: 0 | L18: 0 | M18: 0 | N18: 0
A19: E – Other - please specify | B19: Cost Per Month | D19: 0 | E19: 0 | F19: 0 | G19: 0 | H19: 0 | J19: 0 | K19: 0 | L19: 0 | M19: 0 | N19: 0
A20: E – Other - please specify | B20: Cost Per Month | D20: 0 | E20: 0 | F20: 0 | G20: 0 | H20: 0 | J20: 0 | K20: 0 | L20: 0 | M20: 0 | N20: 0
A21: E – Other - please specify | B21: Cost Per Month | D21: 0 | E21: 0 | F21: 0 | G21: 0 | H21: 0 | J21: 0 | K21: 0 | L21: 0 | M21: 0 | N21: 0
A22: F – Enterprise NOC | B22: Cost Per Month | D22: 0 | E22: 0 | F22: 0 | G22: 0 | H22: 0 | J22: 0 | K22: 0 | L22: 0 | M22: 0 | N22: 0
A23: G – Enterprise Service desk | B23: Cost Per Month | D23: 0 | E23: 0 | F23: 0 | G23: 0 | H23: 0 | J23: 0 | K23: 0 | L23: 0 | M23: 0 | N23: 0
A24: I – IT Service Management | B24: Cost Per Month | D24: 0 | E24: 0 | F24: 0 | G24: 0 | H24: 0 | J24: 0 | K24: 0 | L24: 0 | M24: 0 | N24: 0
A25: Total per Month | D25: =SUM(D10:D15)+SUM(D17:D24) -> 0 | E25: =SUM(E10:E15)+SUM(E17:E24) -> 0 | F25: =SUM(F10:F15)+SUM(F17:F24) -> 0 | G25: =SUM(G10:G15)+SUM(G17:G24) -> 0 | H25: =SUM(H10:H15)+SUM(H17:H24) -> 0 | J25: =SUM(J10:J15)+SUM(J17:J24) -> 0 | K25: =SUM(K10:K15)+SUM(K17:K24) -> 0 | L25: =SUM(L10:L15)+SUM(L17:L24) -> 0 | M25: =SUM(M10:M15)+SUM(M17:M24) -> 0 | N25: =SUM(N10:N15)+SUM(N17:N24) -> 0
A27: H – Transition Services | B27: No Separate Charges
A28: J– Project Management and Administration
A29: K – Emergency Preparedness

Sheet Summary
A1: OFFEROR NAME
A2: =IF(ISBLANK('Service Costs'!A2:B2),"",'Service Costs'!A2:B2)
A4: Base Years
A5: Cost Summary | B5: Year 1 | C5: Year 2 | D5: Year 3 | E5: Year 4 | F5: Year 5 | G5: Total
A6: A – COPANET Services and Support | B6: =12*'Service Costs'!D10 -> 0 | C6: =12*'Service Costs'!E10 -> 0 | D6: =12*'Service Costs'!F10 -> 0 | E6: =12*'Service Costs'!G10 -> 0 | F6: =12*'Service Costs'!H10 -> 0 | G6: =SUM(B6:F6) -> 0
A7: B – COPANET Extension | B7: =12*'Service Costs'!D11 -> 0 | C7: =12*'Service Costs'!E11 -> 0 | D7: =12*'Service Costs'!F11 -> 0 | E7: =12*'Service Costs'!G11 -> 0 | F7: =12*'Service Costs'!H11 -> 0 | G7: =SUM(B7:F7) -> 0
A8: C – Managed Security Services | B8: =12*'Service Costs'!D14 -> 0 | C8: =12*'Service Costs'!E14 -> 0 | D8: =12*'Service Costs'!F14 -> 0 | E8: =12*'Service Costs'!G14 -> 0 | F8: =12*'Service Costs'!H14 -> 0 | G8: =SUM(B8:F8) -> 0
A9: D – Internet Services | B9: =12*'Service Costs'!D15 -> 0 | C9: =12*'Service Costs'!E15 -> 0 | D9: =12*'Service Costs'!F15 -> 0 | E9: =12*'Service Costs'!G15 -> 0 | F9: =12*'Service Costs'!H15 -> 0 | G9: =SUM(B9:F9) -> 0
A10: E – Secure Cloud Exchange | B10: =12*'Service Costs'!D16 -> 0 | C10: =12*'Service Costs'!E16 -> 0 | D10: =12*'Service Costs'!F16 -> 0 | E10: =12*'Service Costs'!G16 -> 0 | F10: =12*'Service Costs'!H16 -> 0 | G10: =SUM(B10:F10) -> 0
A11: F – Enterprise NOC | B11: =12*'Service Costs'!D22 -> 0 | C11: =12*'Service Costs'!E22 -> 0 | D11: =12*'Service Costs'!F22 -> 0 | E11: =12*'Service Costs'!G22 -> 0 | F11: =12*'Service Costs'!H22 -> 0 | G11: =SUM(B11:F11) -> 0
A12: G – Enterprise Service desk | B12: =12*'Service Costs'!D23 -> 0 | C12: =12*'Service Costs'!E23 -> 0 | D12: =12*'Service Costs'!F23 -> 0 | E12: =12*'Service Costs'!G23 -> 0 | F12: =12*'Service Costs'!H23 -> 0 | G12: =SUM(B12:F12) -> 0
A13: I – IT Service Management | B13: =12*'Service Costs'!D24 -> 0 | C13: =12*'Service Costs'!E24 -> 0 | D13: =12*'Service Costs'!F24 -> 0 | E13: =12*'Service Costs'!G24 -> 0 | F13: =12*'Service Costs'!H24 -> 0 | G13: =SUM(B13:F13) -> 0
A14: Total | B14: =SUM(B6:B13) -> 0 | C14: =SUM(C6:C13) -> 0 | D14: =SUM(D6:D13) -> 0 | E14: =SUM(E6:E13) -> 0 | F14: =SUM(F6:F13) -> 0 | G14: =SUM(G6:G13) -> 0
A16: Renewal Years
A17: Cost Summary | B17: Year 6 | C17: Year 7 | D17: Year 8 | E17: Year 9 | F17: Year 10 | G17: Total
A18: A – COPANET Services and Support | B18: =12*'Service Costs'!J10 -> 0 | C18: =12*'Service Costs'!K10 -> 0 | D18: =12*'Service Costs'!L10 -> 0 | E18: =12*'Service Costs'!M10 -> 0 | F18: =12*'Service Costs'!N10 -> 0 | G18: =SUM(B18:F18) -> 0
A19: B – COPANET Extension | B19: =12*'Service Costs'!J11 -> 0 | C19: =12*'Service Costs'!K11 -> 0 | D19: =12*'Service Costs'!L11 -> 0 | E19: =12*'Service Costs'!M11 -> 0 | F19: =12*'Service Costs'!N11 -> 0 | G19: =SUM(B19:F19) -> 0
A20: C – Managed Security Services | B20: =12*'Service Costs'!J14 -> 0 | C20: =12*'Service Costs'!K14 -> 0 | D20: =12*'Service Costs'!L14 -> 0 | E20: =12*'Service Costs'!M14 -> 0 | F20: =12*'Service Costs'!N14 -> 0 | G20: =SUM(B20:F20) -> 0
A21: D – Internet Services | B21: =12*'Service Costs'!J15 -> 0 | C21: =12*'Service Costs'!K15 -> 0 | D21: =12*'Service Costs'!L15 -> 0 | E21: =12*'Service Costs'!M15 -> 0 | F21: =12*'Service Costs'!N15 -> 0 | G21: =SUM(B21:F21) -> 0
A22: E – Secure Cloud Exchange | B22: =12*'Service Costs'!J16 -> 0 | C22: =12*'Service Costs'!K16 -> 0 | D22: =12*'Service Costs'!L16 -> 0 | E22: =12*'Service Costs'!M16 -> 0 | F22: =12*'Service Costs'!N16 -> 0 | G22: =SUM(B22:F22) -> 0
A23: F – Enterprise NOC | B23: =12*'Service Costs'!J22 -> 0 | C23: =12*'Service Costs'!K22 -> 0 | D23: =12*'Service Costs'!L22 -> 0 | E23: =12*'Service Costs'!M22 -> 0 | F23: =12*'Service Costs'!N22 -> 0 | G23: =SUM(B23:F23) -> 0
A24: G – Enterprise Service desk | B24: =12*'Service Costs'!J23 -> 0 | C24: =12*'Service Costs'!K23 -> 0 | D24: =12*'Service Costs'!L23 -> 0 | E24: =12*'Service Costs'!M23 -> 0 | F24: =12*'Service Costs'!N23 -> 0 | G24: =SUM(B24:F24) -> 0
A25: I – IT Service Management | B25: =12*'Service Costs'!J24 -> 0 | C25: =12*'Service Costs'!K24 -> 0 | D25: =12*'Service Costs'!L24 -> 0 | E25: =12*'Service Costs'!M24 -> 0 | F25: =12*'Service Costs'!N24 -> 0 | G25: =SUM(B25:F25) -> 0
A26: Total | B26: =SUM(B18:B25) -> 0 | C26: =SUM(C18:C25) -> 0 | D26: =SUM(D18:D25) -> 0 | E26: =SUM(E18:E25) -> 0 | F26: =SUM(F18:F25) -> 0 | G26: =SUM(G18:G25) -> 0
A28: Grand Totals
A29: Cost Summary | B29: All Years
A30: A – COPANET Services and Support | B30: =G6+G18 -> 0
A31: B – COPANET Extension | B31: =G7+G19 -> 0
A32: C – Managed Security Services | B32: =G8+G20 -> 0
A33: D – Internet Services | B33: =G9+G21 -> 0
A34: E – Secure Cloud Exchange | B34: =G10+G22 -> 0
A35: F – Enterprise NOC | B35: =G11+G23 -> 0
A36: G – Enterprise Service desk | B36: =G12+G24 -> 0
A37: I – IT Service Management | B37: =G13+G25 -> 0
A38: Grand Total | B38: =G14+G26 -> 0

Sheet ESMS Replacement Option
A1: OFFEROR NAME
A2: =IF(ISBLANK('Service Costs'!A2:B2),"",'Service Costs'!A2:B2)
D4: Commonwealth Enterprise Network (EN) and Shared Services
D5: ESMS Replacement Option Costs
D7: Base Years | K7: Renewal Years
D8: Total Costs | E8: Year 1 | F8: Year 2 | G8: Year 3 | H8: Year 4 | I8: Year 5 | K8: Year 6 | L8: Year 7 | M8: Year 8 | N8: Year 9 | O8: Year 10
A9: Service | B9: Unit | E9: Monthly per Service | F9: Monthly per Service | G9: Monthly per Service | H9: Monthly per Service | I9: Monthly per Service | K9: Monthly per Service | L9: Monthly per Service | M9: Monthly per Service | N9: Monthly per Service | O9: Monthly per Service
A10: Systems Development Life Cycle | B10: Total Cost | D10: 0
A11: Data Conversion | B11: Total Cost | D11: 0
A12: Maintenance and Ongoing Support | B12: Cost Per Month | E12: 0 | F12: 0 | G12: 0 | H12: 0 | I12: 0 | K12: 0 | L12: 0 | M12: 0 | N12: 0 | O12: 0
A13: Total | D13: =SUM(D10:D11) -> 0 | E13: =E12 -> 0 | F13: =F12 -> 0 | G13: =G12 -> 0 | H13: =H12 -> 0 | I13: =I12 -> 0 | K13: =K12 -> 0 | L13: =L12 -> 0 | M13: =M12 -> 0 | N13: =N12 -> 0 | O13: =O12 -> 0
A14: Total Yearly | E14: =12*E13 -> 0 | F14: =12*F13 -> 0 | G14: =12*G13 -> 0 | H14: =12*H13 -> 0 | I14: =12*I13 -> 0 | K14: =12*K13 -> 0 | L14: =12*L13 -> 0 | M14: =12*M13 -> 0 | N14: =12*N13 -> 0 | O14: =12*O13 -> 0

Sheet Optional Services
A1: OFFEROR NAME
D4: Commonwealth Enterprise Network (EN) and Shared Services
D5: Optional Services - Monthly Service Costs
D7: Base Years | J7: Renewal Years
D8: Year 1 | E8: Year 2 | F8: Year 3 | G8: Year 4 | H8: Year 5 | J8: Year 6 | K8: Year 7 | L8: Year 8 | M8: Year 9 | N8: Year 10
A9: Optional Service | B9: Unit | C9: Description | D9: Monthly per Service | E9: Monthly per Service | F9: Monthly per Service | G9: Monthly per Service | H9: Monthly per Service | J9: Monthly per Service | K9: Monthly per Service | L9: Monthly per Service | M9: Monthly per Service | N9: Monthly per Service
A10: Managed Remote Access (VPN) Service | B10: <Offeror to add> | C10: <Offeror to add> | D10: 0 | E10: 0 | F10: 0 | G10: 0 | H10: 0 | J10: 0 | K10: 0 | L10: 0 | M10: 0 | N10: 0
D11: =SUM(D12:D13) -> 0 | E11: =SUM(E12:E13) -> 0 | F11: =SUM(F12:F13) -> 0 | G11: 0 | H11: 0 | J11: 0 | K11: 0 | L11: 0 | M11: 0 | N11: 0
D12: 0 | E12: 0 | F12: 0 | G12: 0 | H12: 0 | J12: 0 | K12: 0 | L12: 0 | M12: 0 | N12: 0
D13: 0 | E13: 0 | F13: 0 | G13: 0 | H13: 0 | J13: 0 | K13: 0 | L13: 0 | M13: 0 | N13: 0
A14: Web Application Firewall (WAF) Service | D14: 0 | E14: 0 | F14: 0 | G14: 0 | H14: 0 | J14: 0 | K14: 0 | L14: 0 | M14: 0 | N14: 0
A15: Web Application Firewall (WAF) Service (Single) | B15: <Offeror to add> | C15: <Offeror to add> | D15: 0 | E15: 0 | F15: 0 | G15: 0 | H15: 0 | J15: 0 | K15: 0 | L15: 0 | M15: 0 | N15: 0
A16: Web Application Firewall (WAF) Service - HA (High Availability) | B16: <Offeror to add> | C16: <Offeror to add> | D16: =SUM(D17:D21) -> 0 | E16: =SUM(E17:E21) -> 0 | F16: =SUM(F17:F21) -> 0 | G16: 0 | H16: 0 | J16: 0 | K16: 0 | L16: 0 | M16: 0 | N16: 0
D17: 0 | E17: 0 | F17: 0 | G17: 0 | H17: 0 | J17: 0 | K17: 0 | L17: 0 | M17: 0 | N17: 0
D18: 0 | E18: 0 | F18: 0 | G18: 0 | H18: 0 | J18: 0 | K18: 0 | L18: 0 | M18: 0 | N18: 0
A19: Managed DLP Solution | B19: <Offeror to add> | C19: <Offeror to add> | D19: 0 | E19: 0 | F19: 0 | G19: 0 | H19: 0 | J19: 0 | K19: 0 | L19: 0 | M19: 0 | N19: 0
D20: 0 | E20: 0 | F20: 0 | G20: 0 | H20: 0 | J20: 0 | K20: 0 | L20: 0 | M20: 0 | N20: 0
D21: 0 | E21: 0 | F21: 0 | G21: 0 | H21: 0 | J21: 0 | K21: 0 | L21: 0 | M21: 0 | N21: 0
D22: 0 | E22: 0 | F22: 0 | G22: 0 | H22: 0 | J22: 0 | K22: 0 | L22: 0 | M22: 0 | N22: 0
D23: 0 | E23: 0 | F23: 0 | G23: 0 | H23: 0 | J23: 0 | K23: 0 | L23: 0 | M23: 0 | N23: 0
D24: 0 | E24: 0 | F24: 0 | G24: 0 | H24: 0 | J24: 0 | K24: 0 | L24: 0 | M24: 0 | N24: 0
A25: Total per Month | D25: =SUM(D10:D15)+SUM(D17:D24) -> 0 | E25: =SUM(E10:E15)+SUM(E17:E24) -> 0 | F25: =SUM(F10:F15)+SUM(F17:F24) -> 0 | G25: =SUM(G10:G15)+SUM(G17:G24) -> 0 | H25: =SUM(H10:H15)+SUM(H17:H24) -> 0 | J25: =SUM(J10:J15)+SUM(J17:J24) -> 0 | K25: =SUM(K10:K15)+SUM(K17:K24) -> 0 | L25: =SUM(L10:L15)+SUM(L17:L24) -> 0 | M25: =SUM(M10:M15)+SUM(M17:M24) -> 0 | N25: =SUM(N10:N15)+SUM(N17:N24) -> 0
