Workbook

Sheet Instructions
A1: APPENDIX B - COST SUBMITTAL
A2: INSTRUCTIONS
A4: 1. Using Data in Appendix Q, and the estimated populations provided by the Department in the I-Mirror (Projected Monthly MA Consumers, Total Projected Monthly MATP Users, Projected MATP Users as a % of MA Population), complete the I-Mirror and J-Cost worksheets.
A6: PLEASE NOTE: THE J-COST WORKSHEET MUST BE COMPLETED IN ORDER TO AUTOMATICALLY CALCULATE THE PROPOSED PER MEMBER PER MONTH BID RATE ON THE I-MIRROR SHEET.
A8: I-Mirror Instructions
A10: Trip / Mode Projections (Light Blue Boxes). Complete these data fields based on your projected number of trips that will be provided by each mode of transportation. These fields will be used to understand the basis made by the Applicant in terms of shifting ridership from one mode to the other as well as the expected utilization of MATP services for the MA population. These fields are informational, and do not affect the proposed Per Member Per Month price developed in the J-Cost sheet.
A11: Per Mode Pricing (Light Blue Boxes). Complete these data fields based on your projections of average cost per trip for each mode of transportation. These data points will be used to understand the basis for the cost per mode that each Applicant is using to come to a capitated rate.
A12: Proposed Per Member Per Month Rate (Blue Box with Green Writing). This data field is automatically calculated based on your projected costs for each contract year divided by the total number of eligible MATP recipients for the same time period. This is a non-editable field.
A13: Proposed Annual Contract Cost (Yellow Boxes). This is a non-editable field that will be the basis for understanding and establishing a budgeted amount for the program for each year.
A15: 2. Once you have completed the I-Mirror and J-Cost Worksheets, Excel will automatically complete the Cost Summary Worksheet.
A16: This worksheet will be used to evaluate each Applicant's proposals.
A18: 3. Annual Totals must match on the Cost Summary Worksheet, the I-Mirror and the J-Cost Worksheets.

Sheet Cost Summary
A1: RFA 06-24 MATP Services for Philadelphia County
C2: COST SUMMARY SHEET
A4: Applicant:
D7: PMPM | E7: Annual Cost
A8: Year 1 | D8: ='I-Mirror'!B46 -> 0 | E8: ='I-Mirror'!N57 -> 0
A9: Year 2 | D9: ='I-Mirror'!B75 -> 0 | E9: ='I-Mirror'!N86 -> 0
A10: Year 3 | D10: ='I-Mirror'!B104 -> 0 | E10: ='I-Mirror'!N115 -> 0
A11: Option Year 1 | D11: ='I-Mirror'!B133 -> 0 | E11: ='I-Mirror'!N144 -> 0
A12: Option Year 2 | D12: ='I-Mirror'!B162 -> 0 | E12: ='I-Mirror'!N173 -> 0
A16: TOTAL AGREEMENT PRICING
A18: Year 1 | D18: =E8+D26 -> 0
A19: Year 2 | D19: =E9 -> 0
A20: Year 3 | D20: =E10+D27 -> 0
A21: Total Base Year Pricing | D21: =SUM(D18:D20) -> 0
A22: Option Year 1 Pricing | D22: =E11 -> 0
A23: Option Year 2 Pricing | D23: =E12 -> 0
A25: One-Time Fees
A26: Implementation Costs | D26: ='J-Cost'!M145 -> 0
A27: Turnover Costs | D27: ='J-Cost'!M147 -> 0
A30: Total Agreement Pricing | D30: =SUM(D21:D23) -> 0

Sheet I-Mirror
A1: Appendix B: Cost Submittal Pricing Template
A2: Per Member Per Month
A5: Legend = Editable Fields
A6: I. Trip / Mode / User Projections - For Information Only
A7: J. Per Mode Price Projections - For Information Only
A10: Legend = Non-Editable Fields
A11: K. Proposed Per Member Per Month Rate - To Be Evaluated
A12: L. Projected Annual Agreement Amount - For Commonwealth Budget Purposes
A15: EXAMPLE
A17: Proposed Per Member Per Month Rate | B17: 2.65
A19: Example Proposal - Cost Projections
A20: Average Price Per Public Fixed Route Trip | B20: 1.5
A21: Average Price Per Mileage ReimTransitement Trip | B21: 1.5
A22: Average Price Per Para Transit Trip | B22: 20
A24: Month | B24: Month- 1 | C24: Month- 2 | D24: Month- 3 | E24: Month- 4 | F24: Month- 5 | G24: Month- 6 | H24: Month- 7 | I24: Month- 8 | J24: Month- 9 | K24: Month- 10 | L24: Month- 11 | M24: Month- 12 | N24: Averages / Total Cost
A25: Month-To-Month Projected Consumer Growth (%) | B25: 0.0017616472 | C25: =$B$25 -> 0.0017616472 | D25: =$B$25 -> 0.0017616472 | E25: =$B$25 -> 0.0017616472 | F25: =$B$25 -> 0.0017616472 | G25: =$B$25 -> 0.0017616472 | H25: =$B$25 -> 0.0017616472 | I25: =$B$25 -> 0.0017616472 | J25: =$B$25 -> 0.0017616472 | ... N25: =$B$25 -> 0.0017616472
A26: Projected Monthly MA Consumers | B26: 673299 | C26: =ROUND(B26*(1+C25),0) -> 674485 | D26: =ROUND(C26*(1+D25),0) -> 675673 | E26: =ROUND(D26*(1+E25),0) -> 676863 | F26: =ROUND(E26*(1+F25),0) -> 678055 | G26: =ROUND(F26*(1+G25),0) -> 679249 | H26: =ROUND(G26*(1+H25),0) -> 680446 | I26: =ROUND(H26*(1+I25),0) -> 681645 | J26: =ROUND(I26*(1+J25),0) -> 682846 | ... M26: =ROUND(L26*(1+M25),0) -> 686461 | N26: =AVERAGE(B26:M26) -> 679860.42
A27: Per Member Per Month Rate | B27: =$B$17 -> 2.65 | C27: =$B$17 -> 2.65 | D27: =$B$17 -> 2.65 | E27: =$B$17 -> 2.65 | F27: =$B$17 -> 2.65 | G27: =$B$17 -> 2.65 | H27: =$B$17 -> 2.65 | I27: =$B$17 -> 2.65 | ... M27: =$B$17 -> 2.65 | N27: =AVERAGE(B27:M27) -> 2.65
A28: Cost | B28: =B26*B27 -> 1784242.3 | C28: =C26*C27 -> 1787385.2 | D28: =D26*D27 -> 1790533.4 | E28: =E26*E27 -> 1793686.9 | F28: =F26*F27 -> 1796845.8 | G28: =G26*G27 -> 1800009.8 | H28: =H26*H27 -> 1803181.9 | I28: =I26*I27 -> 1806359.2 | ... M28: =M26*M27 -> 1819121.6 | N28: =SUM(B28:M28) -> 21619561
A30: Example Proposal - Trip / Mode / User Projections
A32: Month | B32: Month- 1 | C32: Month- 2 | D32: Month- 3 | E32: Month- 4 | F32: Month- 5 | G32: Month- 6 | H32: Month- 7 | I32: Month- 8 | J32: Month- 9 | K32: Month- 10 | L32: Month- 11 | M32: Month- 12 | N32: Averages / Totals
A33: Total Projected Monthly MATP Users | B33: =B26*$B$39 -> 30298.455 | C33: =C26*$B$39 -> 30351.825 | D33: =D26*$B$39 -> 30405.285 | E33: =E26*$B$39 -> 30458.835 | F33: =F26*$B$39 -> 30512.475 | G33: =G26*$B$39 -> 30566.205 | H33: =H26*$B$39 -> 30620.07 | I33: =I26*$B$39 -> 30674.025 | ... M33: =M26*$B$39 -> 30890.745 | N33: =AVERAGE(B33:M33) -> 30593.719
A34: Projected # of Public Fixed Route Trips: | B34: 285500 | C34: 285500 | D34: 285500 | E34: 285500 | F34: 285500 | G34: 285500 | H34: 285500 | I34: 285500 | J34: 285500 | K34: 285500 | L34: 285500 | M34: 285500 | N34: =SUM(B34:M34) -> 3426000
A35: Projected # of Mileage Reimbursement Trips | B35: 6500 | C35: 6500 | D35: 6500 | E35: 6500 | F35: 6500 | G35: 6500 | H35: 6500 | I35: 6500 | J35: 6500 | K35: 6500 | L35: 6500 | M35: 6500 | N35: =SUM(B35:M35) -> 78000
A36: Projected # of Para Transit Trips | B36: 85000 | C36: 85000 | D36: 85000 | E36: 85000 | F36: 85000 | G36: 85000 | H36: 85000 | I36: 85000 | J36: 85000 | K36: 85000 | L36: 85000 | M36: 85000 | N36: =SUM(B36:M36) -> 1020000
A37: Total Projected Monthly Trips | B37: =SUM(B34:B36) -> 377000 | C37: =SUM(C34:C36) -> 377000 | D37: =SUM(D34:D36) -> 377000 | E37: =SUM(E34:E36) -> 377000 | F37: =SUM(F34:F36) -> 377000 | G37: =SUM(G34:G36) -> 377000 | H37: =SUM(H34:H36) -> 377000 | I37: =SUM(I34:I36) -> 377000 | ... M37: =SUM(M34:M36) -> 377000 | N37: =SUM(N33:N36) -> 4554593.7
A38: Average Trips Per User Per Month | B38: =B37/B33 -> 12.442879 | C38: =C37/C33 -> 12.420999 | D38: =D37/D33 -> 12.39916 | E38: =E37/E33 -> 12.377361 | F38: =F37/F33 -> 12.355602 | G38: =G37/G33 -> 12.333883 | H38: =H37/H33 -> 12.312186 | I38: =I37/I33 -> 12.290529 | ... M38: =M37/M33 -> 12.204303 | N38: =AVERAGE(B38:M38) -> 12.323246
A39: Projected MATP Users as a % of MA Population | B39: 0.045 | C39: 0.045 | D39: 0.045 | E39: 0.045 | F39: 0.045 | G39: 0.045 | H39: 0.045 | I39: 0.045 | J39: 0.045 | K39: 0.045 | L39: 0.045 | M39: 0.045 | N39: =N33/N26 -> 0.045
A40: Projected % of Public Fixed Route Trips | B40: =B34/B37 -> 0.75729443 | C40: =C34/C37 -> 0.75729443 | D40: =D34/D37 -> 0.75729443 | E40: =E34/E37 -> 0.75729443 | F40: =F34/F37 -> 0.75729443 | G40: =G34/G37 -> 0.75729443 | H40: =H34/H37 -> 0.75729443 | I40: =I34/I37 -> 0.75729443 | ... N40: =N34/N37 -> 0.7522076
A41: Projected % of Mileage Reimbursement Trips | B41: =B35/B37 -> 0.017241379 | C41: =C35/C37 -> 0.017241379 | D41: =D35/D37 -> 0.017241379 | E41: =E35/E37 -> 0.017241379 | F41: =F35/F37 -> 0.017241379 | G41: =G35/G37 -> 0.017241379 | H41: =H35/H37 -> 0.017241379 | I41: =I35/I37 -> 0.017241379 | ... N41: =N35/N37 -> 0.017125567
A42: Projected % of Para Transit Trips | B42: =B36/B37 -> 0.22546419 | C42: =C36/C37 -> 0.22546419 | D42: =D36/D37 -> 0.22546419 | E42: =E36/E37 -> 0.22546419 | F42: =F36/F37 -> 0.22546419 | G42: =G36/G37 -> 0.22546419 | H42: =H36/H37 -> 0.22546419 | I42: =I36/I37 -> 0.22546419 | ... N42: =N36/N37 -> 0.22394972
A44: Agreement Year 1
A46: Proposed Per Member Per Month Rate | B46: ='J-Cost'!$C$142/SUM($B$55:$M$55) -> 0
A48: Year 1 Proposal - Cost Projections
A49: Average Price Per Public Fixed Route Trip | B49: 0
A50: Average Price Per Mileage ReimTransitement Trip | B50: 0
A51: Average Price Per Para Transit Trip | B51: 0
B53: Month- 1 | C53: Month- 2 | D53: Month- 3 | E53: Month- 4 | F53: Month- 5 | G53: Month- 6 | H53: Month- 7 | I53: Month- 8 | J53: Month- 9 | K53: Month- 10 | L53: Month- 11 | M53: Month- 12 | N53: Averages / Total Cost
A54: Month-To-Month Projected Consumer Growth (%) | B54: =B$25 -> 0.0017616472 | C54: =C$25 -> 0.0017616472 | D54: =D$25 -> 0.0017616472 | E54: =E$25 -> 0.0017616472 | F54: =F$25 -> 0.0017616472 | G54: =G$25 -> 0.0017616472 | H54: =H$25 -> 0.0017616472 | I54: =I$25 -> 0.0017616472 | ... N54: =N$25 -> 0.0017616472
A55: Projected Monthly MA Consumers | B55: =B26 -> 673299 | C55: =C26 -> 674485 | D55: =D26 -> 675673 | E55: =E26 -> 676863 | F55: =F26 -> 678055 | G55: =G26 -> 679249 | H55: =H26 -> 680446 | I55: =I26 -> 681645 | ... N55: =N26 -> 679860.42
...

Sheet J-Cost
A1: COST VERIFICATION FORM
A2: PHILADELPHIA COUNTY MEDICAL ASSISTANCE TRANSPORTATION PROGRAM
A7: ITEM | C7: Agreement | E7: Agreement | G7: Agreement | I7: Option | K7: Option
C8: Year 1 | E8: Year 2 | G8: Year 3 | I8: Year 1 | K8: Year 2 | M8: Total
A9: EXPENDITURES
A10: Administrative Cost
A11: Salaries & Benefits
A12: Staff Wages | C12: 0 | E12: 0 | G12: 0 | I12: 0 | K12: 0 | M12: =SUM(C12:K12) -> 0
A13: Benefits | C13: 0 | E13: 0 | G13: 0 | I13: 0 | K13: 0 | M13: =SUM(C13:K13) -> 0
A14: Misc. (details must be attached) | C14: 0 | E14: 0 | G14: 0 | I14: 0 | K14: 0 | M14: =SUM(C14:K14) -> 0
A15: Subtotal Salaries & Benefits | C15: =SUM(C12:C14) -> 0 | E15: =SUM(E12:E14) -> 0 | G15: =SUM(G12:G14) -> 0 | I15: =SUM(I12:I14) -> 0 | K15: =SUM(K12:K14) -> 0 | M15: =SUM(C15:K15) -> 0
A17: Rent/Lease of Space
A18: Security | C18: 0 | E18: 0 | G18: 0 | I18: 0 | K18: 0 | M18: =SUM(C18:K18) -> 0
A19: Rent | C19: 0 | E19: 0 | G19: 0 | I19: 0 | K19: 0 | M19: =SUM(C19:K19) -> 0
A20: Utilities | C20: 0 | E20: 0 | G20: 0 | I20: 0 | K20: 0 | M20: =SUM(C20:K20) -> 0
A21: Insurance | C21: 0 | E21: 0 | G21: 0 | I21: 0 | K21: 0 | M21: =SUM(C21:K21) -> 0
A22: Cleaning/Repairs | C22: 0 | E22: 0 | G22: 0 | I22: 0 | K22: 0 | M22: =SUM(C22:K22) -> 0
A23: Telephone | C23: 0 | E23: 0 | G23: 0 | I23: 0 | K23: 0 | M23: =SUM(C23:K23) -> 0
A24: Misc. (details must be attached) | C24: 0 | E24: 0 | G24: 0 | I24: 0 | K24: 0 | M24: =SUM(C24:K24) -> 0
A25: Subtotal Rent/Lease of Space | C25: =SUM(C18:C24) -> 0 | E25: =SUM(E18:E24) -> 0 | G25: =SUM(G18:G24) -> 0 | I25: =SUM(I18:I24) -> 0 | K25: =SUM(K18:K24) -> 0 | M25: =SUM(C25:K25) -> 0
A27: Materials & Supplies
A28: Office Supplies | C28: 0 | E28: 0 | G28: 0 | I28: 0 | K28: 0 | M28: =SUM(C28:K28) -> 0
A29: Photocopying (paper, toner, etc.) | C29: 0 | E29: 0 | G29: 0 | I29: 0 | K29: 0 | M29: =SUM(C29:K29) -> 0
A30: Printing (Outsourced) | C30: 0 | E30: 0 | G30: 0 | I30: 0 | K30: 0 | M30: =SUM(C30:K30) -> 0
A31: Postage | C31: 0 | E31: 0 | G31: 0 | I31: 0 | K31: 0 | M31: =SUM(C31:K31) -> 0
A32: Equipment Repairs (copiers, fax, etc.) | C32: 0 | E32: 0 | G32: 0 | I32: 0 | K32: 0 | M32: =SUM(C32:K32) -> 0
A33: Misc. (details must be attached) | C33: 0 | E33: 0 | G33: 0 | I33: 0 | K33: 0 | M33: =SUM(C33:K33) -> 0
A34: Subtotal Materials & Supplies | C34: =SUM(C28:C33) -> 0 | E34: =SUM(E28:E33) -> 0 | G34: =SUM(G28:G33) -> 0 | I34: =SUM(I28:I33) -> 0 | K34: =SUM(K28:K33) -> 0 | M34: =SUM(C34:K34) -> 0
A36: Office Equipment/Furniture
A37: Purchased | C37: 0 | E37: 0 | G37: 0 | I37: 0 | K37: 0 | M37: =SUM(C37:K37) -> 0
A38: Lease Agreement | C38: 0 | E38: 0 | G38: 0 | I38: 0 | K38: 0 | M38: =SUM(C38:K38) -> 0
A39: Depreciation Expense | C39: 0 | E39: 0 | G39: 0 | I39: 0 | K39: 0 | M39: =SUM(C39:K39) -> 0
A40: Misc. (details must be attached) | C40: 0 | E40: 0 | G40: 0 | I40: 0 | K40: 0 | M40: =SUM(C40:K40) -> 0
A41: Subtotal Equipment | C41: =SUM(C37:C40) -> 0 | E41: =SUM(E37:E40) -> 0 | G41: =SUM(G37:G40) -> 0 | I41: =SUM(I37:I40) -> 0 | K41: =SUM(K37:K40) -> 0 | M41: =SUM(C41:K41) -> 0
A43: Data Processing
A44: Computer Equipment Lease/Purchase | C44: 0 | E44: 0 | G44: 0 | I44: 0 | K44: 0 | M44: =SUM(C44:K44) -> 0
A45: Subcontract Services | C45: 0 | E45: 0 | G45: 0 | I45: 0 | K45: 0 | M45: =SUM(C45:K45) -> 0
A46: Depreciation Expense | C46: 0 | E46: 0 | G46: 0 | I46: 0 | K46: 0 | M46: =SUM(C46:K46) -> 0
A47: Software | C47: 0 | E47: 0 | G47: 0 | I47: 0 | K47: 0 | M47: =SUM(C47:K47) -> 0
A48: Software - License Allocation | C48: 0 | E48: 0 | G48: 0 | I48: 0 | K48: 0 | M48: =SUM(C48:K48) -> 0
...
