Workbook

Sheet Instructions
A1: RFP # | B1: 6100034489
A2: RFP Name | B2: Department of Labor and Industry Unemployment Compensation Benefits Modernization (UC Ben Mod)
A3: Offeror Name
A4: GENERAL INSTRUCTIONS
A5: 1 | B5: All sheets (Proposed Servers, Proposed Software, Proposed Hardware) must be filled out completely.
A6: =A5+1 -> 2 | B6: Filling in the Offeror Name in cell B3 above should automically add the Offeror Name to each sheet. Offerors must verify that the Offeror Name appears on all worksheets.
A7: =A6+1 -> 3 | B7: Formulas are imbedded in the worksheets. Offerors must verify that all calculations, subtotals and grand totals are accurate.
A8: =A7+1 -> 4 | B8: The items listed in Column A for the Proposed Hardwared and Proposed Software worksheets are examples. Additional lines should be added to each sheet as needed to support the proposed solution.
A9: =A8+1 -> 5 | B9: Examples provided are for assistance only and are not required as part of your submission. Examples that do not apply to your submission should be removed.
A10: =A9+1 -> 6 | B10: Under NO circumstances should any cost information be contained in the spreadsheet file.
A11: =A10+1 -> 7 | B11: Each item must have a corresponding entry in Appendix H, Cost Matrix. Specification and Quantities must match what is in Appendix H, Cost Matrix. Any discrepancies will be adjusted in the Commonwealth's favor.
A12: =A11+1 -> 8 | B12: Please contact the Issuing Officer with any questions. Refer to Part I-9 Questions & Answers.
A14: Proposed Servers Instructions
A15: 9 | B15: The Offeror is to use the server configuration templates, provided in the "Server Configuration Templates" worksheet, to build out the server configuration for their proposal.
A16: =A15+1 -> 10 | B16: Three server configuration templates are provided to allow the Offeror to configure the hardware specifications that are needed for their proposal. These templates are as follows: • Windows Virtual Server • Windows Physical Server • Linux Virtual Server
A17: =A16+1 -> 11 | B17: Please use these templates to group the servers by function. For example, if the Offeror is proposing a web server configuration that consists of 4 nodes, use one copy of a template and for a databse cluster, create another copy of the template that represents the servers for that configuration and add this to the overall solution. Please review the worksheet "Sample Server Configuration" to see these examples.
A18: =A17+1 -> 12 | B18: Add each of these configurations to the "Proposed Servers" worksheet to build out the specific configuration the Offeror is proposing.
A19: =A18+1 -> 13 | B19: Additional proposed configurations should be added as needed.
A20: =A19+1 -> 14 | B20: The Offeror is responsible for ensuring that the formulas in the server configurations are correct as they are copied to the "Proposed Servers" worksheet.
A22: Proposed Hardware Instructions
A23: 15 | B23: Use this sheet for any proposed hardware that is NOT covered by the Proposed Servers worksheet.
A24: =A23+1 -> 16 | B24: The quantity of proposed hardware must be completed using the example at the top of the sheet.
A25: =A24+1 -> 17 | B25: For information on DLI hardware, refer to Appendix U, DLI Shared Products Standard Environments
A26: =A25+1 -> 18 | B26: Proposed hardware must be entered in the appropriate column for the year proposed. (Years equal a twelve month period.) Additional lines may be inserted as needed.
A28: Proposed Software Instructions
A29: 19 | B29: The quantity of proposed software must be completed using the example at the top of the sheet.
A30: =A29+1 -> 20 | B30: For information on DLI software, refer to Appendix U, DLI Shared Products Standard Environments
A31: =A30+1 -> 21 | B31: Proposed software must be entered in the appropriate column for the year proposed. (Years equal a twelve month period.) Additional lines may be inserted as needed.

Sheet Server Configuration Template
A1: RFP # | B1: =Instructions!B1 -> 6100034489
A2: RFP Title | B2: =Instructions!B2 -> Department of Labor and Industry Unemployment Compensation Benefits Modernization (UC Ben Mod)
A3: Vendor Name | B3: Server Configuration Template
A5: Item # | B5: Server Description | C5: Number of Servers with this Configuration | D5: Windows Virtual Server | E5: Item | F5: Quantity | G5: Product Name | H5: Unit | I5: Notes
A6: 1 | D6: x86 Virtual Server - Windows - Fully Managed | E6: Service Tier | F6: 1 | G6: LI Managed Virtual Server (Intel) | H6: Per Server | I6: Service Tier includes cabinet, wiring, generator, power, cooling, KVM, firewall, UPS, fire suppression, networking , MDS, VM software (ESXi, vCenter, vCOPs) & system software (Tivoli & TSM).
E7: CPU | G7: 1 vCPU | H7: Per CPU | I7: The number of vCPUs required.
E8: RAM | G8: GB RAM | H8: Per GB | I8: Total RAM for the server
E9: Operating System | G9: Windows Server (1-2 processors) | H9: Per Server | I9: Select a Windows Server OS.
G10: Windows Server (4 processors) | H10: Per Server
G11: Windows Server (8 processors) | H11: Per Server
G12: Windows Server (16 processors) | H12: Per Server
D14: Networking | E14: Networking | G14: Load Balancing | H14: Per Server | I14: Application load balancing (optional)
D15: Storage and Backup - Fully Managed | E15: Storage & Backup | G15: Server Storage & Backup | H15: Per GB | I15: Total storage required for all drives.
A19: Item # | B19: Server Description | C19: Number of Servers with this Configuration | D19: Windows Physical Server | E19: Item | F19: Quantity | G19: Product Name | H19: Unit | I19: Notes
A20: 1 | D20: x86 Physical Server - Windows - Fully Managed | E20: Service Tier | G20: IBM x3650 M5 2-Socket Server | H20: Per Server | I20: Service Tier costs includes cabinet, wiring, generator, power, cooling, KVM, firewall, UPS, fire suppression, & system software (Tivoli & TSM).
G21: IBM x3850 X5 4-Socket Server | H21: Per Server
E22: Server Hardware | G22: IBM x3650 M5 1-Socket Server | H22: Per Server | I22: Intel Xeon E5-2603 6C 1.6 GHz, 16 GB RAM, 300 GB 10k RAID 1 HDD
G23: IBM x3850 X5 4-Socket Server, 256 GB RAM, SSD Flash | H23: Per Server | I23: 4 x Intel Xeon E7-4860 12C 2.6 Ghz, 256 GB RAM, 200 GB SSD RAID 1 HDD, 800 GB SSD Flash, 2 x 8GB dual-port HBA
G24: IBM x3850 X5 4-Socket Server, 256 GB RAM, 800 GB eXFlash Cache | H24: Per Server | I24: 4 x Intel Xeon E7-4860 12C 2.6 Ghz, 256 GB RAM, 200 GB SSD RAID 1 HDD, 800 GB eXFlash Cache, 2 x 8GB dual-port HBA
G25: IBM x3850 X5 4-Socket Server, 1 TB RAM, SSD Flash (VMware ESXi Host) | H25: Per Server | I25: 4 x Intel Xeon E7-4860 12C 2.6 Ghz, 1 TB RAM, 32 GB USB Memory Key, 800 GB SSD Flash, 2 x 16GB dual-port HBA
G26: IBM x3850 X5 4-Socket Server,1 TB RAM, 800 GB eXFlash Cache (VMware ESXi Host) | H26: Per Server | I26: 4 x Intel Xeon E7-4860 12C 2.6 Ghz, 1 TB RAM, 32 GB USB Memory Key, 800 GB eXFlash Cache, 2 x 16GB dual-port HBA
E27: Operating System | G27: Windows Server (1-2 processors) | H27: Per Server | I27: Select a Windows Server OS.
G28: Windows Server (4 processors) | H28: Per Server
D30: Networking | E30: Networking | G30: Networking Cost per port | H30: Per Port | I30: Number of network ports to be used by the host server. (minimum of 1)
G32: Load Balancing | H32: Per Server | I32: Application load balancing (optional)
D33: Storage and Backup - Fully Managed | E33: Storage & Backup | G33: Server Storage & Backup | H33: Per GB | I33: Total storage required for all drives.
A38: Item # | B38: Server Description | C38: Number of Servers with this Configuration | D38: Linux Virtual Server | E38: Item | F38: Quantity | G38: Product Name | H38: Unit | I38: Notes
A39: 1 | D39: x86 Virtual Server - Linux - Fully Managed | E39: Service Tier | F39: 1 | G39: LI Managed Virtual Server (Intel) | H39: Per Server | I39: Service Tier costs includes cabinet, wiring, generator, power, cooling, KVM, firewall, UPS, fire suppression, networking , MDS, VM software (ESXi, vCenter, vCOPs) & system software (Tivoli & TSM).
E40: CPU | G40: 1 vCPU | H40: Per CPU | I40: The number of vCPUs required.
E41: RAM | G41: GB RAM | H41: Per GB | I41: Total RAM for the server
E42: Operating System | G42: RedHat + Satellite (1-2 processors) | H42: Per Server | I42: Select a Windows Server OS.
G43: RedHat + Satellite (3-4 processors) | H43: Per Server
G44: RedHat + Satellite (5-6 processors) | H44: Per Server
G45: RedHat + Satellite (6+ processors) | H45: Per Server
D47: Networking | E47: Networking | G47: Load Balancing | H47: Per Server | I47: Application load balancing (optional)
D48: Storage and Backup - Fully Managed | E48: Server Storage | G48: Server Storage & Backup | H48: Per GB | I48: Total storage required for all drives.

Sheet Sample Server Configuration
A1: RFP # | B1: =Instructions!B1 -> 6100034489
A2: RFP Title | B2: =Instructions!B2 -> Department of Labor and Industry Unemployment Compensation Benefits Modernization (UC Ben Mod)
A3: Vendor Name | B3: SAMPLE SERVER CONFIGURATION
A5: Item # | B5: Server Description | C5: Number of Servers with this Configuration | D5: Windows Virtual Server | E5: Item | F5: Quantity | G5: Product Name | H5: Unit | I5: Notes
A6: 1 | B6: Web Server | C6: 4 | D6: x86 Virtual Server - Windows - Fully Managed | E6: Service Tier | F6: 1 | G6: LI Managed Virtual Server (Intel) | H6: Per Server | I6: Service Tier costs includes cabinet, wiring, generator, power, cooling, KVM, firewall, UPS, fire suppression, networking , MDS, VM software (ESXi, vCenter, vCOPs) & system software (Tivoli & TSM).
E7: CPU | F7: 4 | G7: 1 vCPU | H7: Per CPU | I7: The number of vCPUs required.
E8: RAM | F8: 12 | G8: GB RAM | H8: Per GB | I8: Total RAM for the server
E9: Operating System | G9: Windows Server (1-2 processors) | H9: Per Server | I9: Select a Windows Server OS.
F10: 1 | G10: Windows Server (4 processors) | H10: Per Server
G11: Windows Server (8 processors) | H11: Per Server
G12: Windows Server (16 processors) | H12: Per Server
D14: Networking | E14: Networking | F14: 1 | G14: Load Balancing | H14: Per Server | I14: Application load balancing (optional)
D15: Storage and Backup - Fully Managed | E15: Storage & Backup | F15: 50 | G15: Server Storage & Backup | H15: Per GB | I15: Total storage required for all drives.
D17: Cost Totals per Month
A20: Item # | B20: Server Description | C20: Number of Servers with this Configuration | D20: Windows Physical Server | E20: Item | F20: Quantity | G20: Product Name | H20: Unit | I20: Notes
A21: 2 | B21: Database Cluster | C21: 2 | D21: x86 Physical Server - Windows - Fully Managed | E21: Service Tier | G21: IBM x3650 M5 2-Socket Server | H21: Per Server | I21: Service Tier costs includes cabinet, wiring, generator, power, cooling, KVM, firewall, UPS, fire suppression, & system software (Tivoli & TSM).
F22: 1 | G22: IBM x3850 X5 4-Socket Server | H22: Per Server
E23: Server Hardware | G23: IBM x3650 M5 1-Socket Server | H23: Per Server | I23: Intel Xeon E5-2603 6C 1.6 GHz, 16 GB RAM, 300 GB 10k RAID 1 HDD
G24: IBM x3850 X5 4-Socket Server, 256 GB RAM, SSD Flash | H24: Per Server | I24: 4 x Intel Xeon E7-4860 12C 2.6 Ghz, 256 GB RAM, 200 GB SSD RAID 1 HDD, 800 GB SSD Flash, 2 x 8GB dual-port HBA
F25: 1 | G25: IBM x3850 X5 4-Socket Server, 256 GB RAM, 800 GB eXFlash Cache | H25: Per Server | I25: 4 x Intel Xeon E7-4860 12C 2.6 Ghz, 256 GB RAM, 200 GB SSD RAID 1 HDD, 800 GB eXFlash Cache, 2 x 8GB dual-port HBA
G26: IBM x3850 X5 4-Socket Server, 1 TB RAM, SSD Flash (VMware ESXi Host) | H26: Per Server | I26: 4 x Intel Xeon E7-4860 12C 2.6 Ghz, 1 TB RAM, 32 GB USB Memory Key, 800 GB SSD Flash, 2 x 16GB dual-port HBA
G27: IBM x3850 X5 4-Socket Server,1 TB RAM, 800 GB eXFlash Cache (VMware ESXi Host) | H27: Per Server | I27: 4 x Intel Xeon E7-4860 12C 2.6 Ghz, 1 TB RAM, 32 GB USB Memory Key, 800 GB eXFlash Cache, 2 x 16GB dual-port HBA
E28: Operating System | G28: Windows Server (1-2 processors) | H28: Per Server | I28: Select a Windows Server OS.
F29: 1 | G29: Windows Server (4 processors) | H29: Per Server
D31: Networking | E31: Networking | F31: 1 | G31: Networking Cost per port | H31: Per Port | I31: Number of network ports to be used by the host server. (minimum of 1)
F33: 1 | G33: Load Balancing | H33: Per Server | I33: Application load balancing (optional)
D34: Storage and Backup - Fully Managed | E34: Storage & Backup | F34: 1000 | G34: Server Storage & Backup | H34: Per GB | I34: Total storage required for all drives.
D37: Cost Totals per Month
A40: Item # | B40: Server Description | C40: Number of Servers with this Configuration | D40: Windows Virtual Server | E40: Item | F40: Quantity | G40: Product Name | H40: Unit | I40: Notes
A41: 3 | B41: Reporting Database Cluster | C41: 2 | D41: x86 Virtual Server - Windows - Fully Managed | E41: Service Tier | F41: 1 | G41: LI Managed Virtual Server (Intel) | H41: Per Server | I41: Service Tier costs includes cabinet, wiring, generator, power, cooling, KVM, firewall, UPS, fire suppression, networking , MDS, VM software (ESXi, vCenter, vCOPs) & system software (Tivoli & TSM).
E42: CPU | F42: 8 | G42: 1 vCPU | H42: Per CPU | I42: The number of vCPUs required.
E43: RAM | F43: 16 | G43: GB RAM | H43: Per GB | I43: Total RAM for the server
E44: Operating System | G44: Windows Server (1-2 processors) | H44: Per Server | I44: Select a Windows Server OS.
G45: Windows Server (4 processors) | H45: Per Server
F46: 1 | G46: Windows Server (8 processors) | H46: Per Server
G47: Windows Server (16 processors) | H47: Per Server
D49: Networking | E49: Networking | G49: Load Balancing | H49: Per Server | I49: Application load balancing (optional)
D50: Storage and Backup - Fully Managed | E50: Storage & Backup | F50: 1000 | G50: Server Storage & Backup | H50: Per GB | I50: Total storage required for all drives.
D52: Cost Totals per Month

Sheet Proposed Servers
A1: RFP # | B1: =Instructions!B1 -> 6100034489
A2: RFP Title | B2: =Instructions!B2 -> Department of Labor and Industry Unemployment Compensation Benefits Modernization (UC Ben Mod)
A3: Vendor Name | B3: =Instructions!B3 -> 0
A5: Item # | B5: Server Description | C5: Number of Servers with this Configuration | D5: Server Type (Windows Virtual, Windows Physical, Linux Virtual) | E5: Item | F5: Quantity | G5: Product Name | H5: Unit | I5: Notes

Sheet Proposed Hardware
A1: RFP # | B1: =Instructions!B1 -> 6100034489
A2: RFP Title | B2: =Instructions!B2 -> Department of Labor and Industry Unemployment Compensation Benefits Modernization (UC Ben Mod)
A3: Vendor Name | B3: =Instructions!B3 -> 0
E4: HARDWARE
A5: Name of Product, Make, Model, including Specifications | B5: Business Purpose of Product & Environment | C5: Select One DEV CIT UAT PRD | D5: List Products which will reside on this Hardware. Reference the Proposed Software Worksheet | E5: Calendar Year 1 Quantity | F5: Calendar Year 2 Quantity | G5: Calendar Year 3 Quantity | H5: Calendar Year 4 Quantity | I5: Calendar Year 5 Quantity | J5: Option Year 6 Quantity | K5: Option Year 7 Quantity | L5: Option Year 8 Quantity | M5: Total Quantity
A7: ex. OPEX AS7200i | B7: Document scanning | C7: PRD | D7: OPEX Certain ScanTM Capture Software | E7: 0 | F7: 1 | G7: 10 | H7: 10 | I7: 10 | J7: 10 | K7: 10 | L7: 10 | M7: =SUM(E7:L7) -> 61
A9: Proposed Hardware
A11: Document Capture | M11: =SUM(E11:L11) -> 0
A13: Other Hardware | M13: =SUM(E13:L13) -> 0
M15: =SUM(E15:L15) -> 0
M17: =SUM(E17:L17) -> 0
M19: =SUM(E19:L19) -> 0
M21: =SUM(E21:L21) -> 0
A23: Proposed Hardware Total Quantity | E23: =SUM(E10:E22) -> 0 | F23: =SUM(F10:F22) -> 0 | G23: =SUM(G10:G22) -> 0 | H23: =SUM(H10:H22) -> 0 | I23: =SUM(I10:I22) -> 0 | J23: =SUM(J10:J22) -> 0 | K23: =SUM(K10:K22) -> 0 | L23: =SUM(L10:L22) -> 0 | M23: =SUM(M10:M22) -> 0

Sheet Proposed Software
A1: RFP # | B1: =Instructions!B1 -> 6100034489
A2: RFP Title | B2: =Instructions!B2 -> Department of Labor and Industry Unemployment Compensation Benefits Modernization (UC Ben Mod)
A3: Vendor Name | B3: =Instructions!B3 -> 0
D4: SOFTWARE
A5: Name of Product including licensing model | B5: Purpose of Product & Environment | C5: Where will Software reside? (Reference the Proposed Hardware Worksheet) | D5: Calendar Year 1 Quantity | E5: Calendar Year 2 Quantity | F5: Calendar Year 3 Quantity | G5: Calendar Year 4 Quantity | H5: Calendar Year 5 Quantity | I5: Option Year 6 Quantity | J5: Option Year 7 Quantity | K5: Option Year 8 Quantity | L5: Total Quantity
A7: ex. Microsoft SQL Server 2015, priced by socket | B7: Database / Reports Repository | C7: UAT DB | D7: 4 | E7: 8 | F7: 12 | G7: 16 | H7: 16 | I7: 16 | J7: 16 | K7: 16 | L7: =SUM(D7:K7) -> 104
A9: Proposed Software
A11: COTS / Solution Software | L11: =SUM(D11:K11) -> 0
A13: Software necessary to use the Solution | L13: =SUM(D13:K13) -> 0
A15: Application Development Software | L15: =SUM(D15:K15) -> 0
A17: Application Middleware | L17: =SUM(D17:K17) -> 0
A19: Application Infrastruture Software | L19: =SUM(D19:K19) -> 0
A21: Document Capture Software | L21: =SUM(D21:K21) -> 0
A23: FileNet Software | L23: =SUM(D23:K23) -> 0
A25: CA's SiteMinder and IdentityMinder (IAM) | L25: =SUM(D25:K25) -> 0
A27: System Center Operations Manager (SCOM) | L27: =SUM(D27:K27) -> 0
A29: ServiceNow | L29: =SUM(D29:K29) -> 0
A31: webMethods (wM) | L31: =SUM(D31:K31) -> 0
A33: CentraSite Active SOA | L33: =SUM(D33:K33) -> 0
... A59: Other Software | L59: =SUM(D59:K59) -> 0
L61: =SUM(D61:K61) -> 0
A63: Proposed Software Total Quantity | D63: =SUM(D10:D62) -> 0 | E63: =SUM(E10:E62) -> 0 | F63: =SUM(F10:F62) -> 0 | G63: =SUM(G10:G62) -> 0 | H63: =SUM(H10:H62) -> 0 | I63: =SUM(I10:I62) -> 0 | J63: =SUM(J10:J62) -> 0 | K63: =SUM(K10:K62) -> 0 | L63: =SUM(L10:L62) -> 0
