Workbook

Sheet Instructions
A1: RFP # | B1: 6100034489
A2: RFP Name | B2: Department of Labor and Industry Unemployment Compensation Benefits Modernization (UC Ben Mod)
A3: Vendor Name
A4: APPENDIX H, Cost Matrix
A5: INSTRUCTIONS
A6: 1 | B6: All sheets must be filled out completely.
A7: =A6+1 -> 2 | B7: Filling in the Offeror Name in cell B3 above should automically add the Offeror Name to each sheet. Offerors must verify that the Offeror Name appears on all worksheets.
A8: =A7+1 -> 3 | B8: Formulas are imbedded in the worksheets. Offerors must verify that all calculations, subtotal costs and grand total costs are accurate.
A9: =A8+1 -> 4 | B9: Additional lines may be added to each sheet as needed. Offerors should not remove existing rows.
A10: =A9+1 -> 5 | B10: The items listed in Column A for the "Proposed Hardware" and "Proposed Software" worksheets are examples. Additional lines should be added to each sheet as needed to support the proposed solution.
A11: =A10+1 -> 6 | B11: Examples provided are for assistance only and are not required as part of your submission. Examples that do not apply to your submission should be removed.
A12: =A11+1 -> 7 | B12: Except for the Proposed Servers, Offeror should complete the yellow cells as applicable for their solution.
A13: =A12+1 -> 8 | B13: Payment for services under this contract is deliverable-based.
A14: =A13+1 -> 9 | B14: "Summary" worksheet: Formulas are imbedded to link information from the respective worksheets to the "Summary" worksheet. Offerors must verify that all calculations, subtotal costs and grand total costs are accurate.
A15: =A14+1 -> 10 | B15: Rate Card: Offerors should use one hour to estimate the costs for the Rate Card.
A16: =A15+1 -> 11 | B16: Proposed Servers, Hardware and Software: Each item must have a corresponding entry in Appendix W, DLI Offeror Proposed Software and Hardware. Specification and Quantities must match what is in Appendix W, DLI Offeror Proposed Software and Hardware. Any discrepancies will be adjusted in the Commonwealth's favor.
A17: =A16+1 -> 12 | B17: Proposed Hardware and Software: Costs for proposed software must be entered in the appropriate sheet for the year proposed. (Years equal a twelve month period.) Additional lines may be inserted as needed.
A18: =A17+1 -> 13 | B18: Please contact the Issuing Officer with any questions. Refer to Part I-9 Questions & Answers.
A20: Proposed Servers Instructions
A21: 14 | B21: The Offeror is to use the server configuration templates, provided in the "Server Cost Template" worksheet, to build out the server configuration for their proposal.
A22: =A21+1 -> 15 | B22: Three server configuration templates are provided within the "Server Cost Template" worksheet to allow the Offeror to configure the hardware specifications that are needed for their proposal. These templates are as follows: • Windows Virtual Server • Windows Physical Server • Linux Virtual Server
A23: =A22+1 -> 16 | B23: Use these templates to group the servers by function. For example, if the Offeror is proposing a web server configuration that consists of (four) 4 nodes, use one (1) copy of a template and for a database cluster, create another copy of the template that represents the servers for that configuration and add this to the overall solution. Please review the worksheet "Sample Server Cost" to see these examples.
A24: =A23+1 -> 17 | B24: Add each of these configurations to the "Proposed Servers" worksheet to build out the specific configuration the Offeror is proposing.
A25: =A24+1 -> 18 | B25: The Offeror is responsible for ensuring that the formulas in the server configurations are correct as they are copied to the "Proposed Servers" worksheet.
A27: Proposed Hardware Instructions
A28: 19 | B28: Use this sheet for any proposed hardware that is NOT covered by the Proposed Servers worksheet.
A30: Deliverables Instructions
A31: 20 | B31: It is expected that not all deliverables will apply to every year in the contract. For example, Solution Maintenance, Operations and Support would not apply until AFTER implementation. As such, some cells are not yellow. The Offeror should complete this worksheet based on their proposed project schedule.

Sheet Server Cost Template
A1: RFP # | B1: =Instructions!B1 -> 6100034489
A2: RFP Title | B2: =Instructions!B2 -> Department of Labor and Industry Unemployment Compensation Benefits Modernization (UC Ben Mod)
A3: Vendor Name | B3: =Instructions!B3 -> 0 | C3: SERVER COST TEMPLATE
A5: Item # | B5: Server Description | C5: Number of Servers with this Configuration | D5: Windows Virtual Server | E5: Item | F5: Quantity | G5: Product Name | H5: Unit | I5: Cost per Month | J5: Total Cost per Month | K5: Total Cost per Server per Month | L5: Total Cost per Month | M5: Notes
D6: x86 Virtual Server - Windows - Fully Managed | E6: Service Tier | G6: LI Managed Virtual Server (Intel) | H6: Per Server | I6: 63.31 | J6: =F6*I6 -> 0 | K6: =SUM(J5:J6) -> 0 | M6: Service Tier costs includes cabinet, wiring, generator, power, cooling, KVM, firewall, UPS, fire suppression, networking , MDS, VM software (ESXi, vCenter, vCOPs) & system software (Tivoli & TSM).
E7: CPU | G7: 1 vCPU | H7: Per CPU | I7: 0.79 | J7: =F7*I7 -> 0 | K7: =SUM(J7:J7) -> 0 | M7: The number of vCPUs required.
E8: RAM | G8: GB RAM | H8: Per GB | I8: 0.34 | J8: =F8*I8 -> 0 | K8: =J8 -> 0 | M8: Total RAM for the server
E9: Operating System | G9: Windows Server (1-2 processors) | H9: Per Server | I9: 3.39 | J9: =F9*I9 -> 0 | K9: =SUM(J9:J12) -> 0 | M9: Select a Windows Server OS.
G10: Windows Server (4 processors) | H10: Per Server | I10: 6.45 | J10: =F10*I10 -> 0
G11: Windows Server (8 processors) | H11: Per Server | I11: 9.5 | J11: =F11*I11 -> 0
G12: Windows Server (16 processors) | H12: Per Server | I12: 12.55 | J12: =F12*I12 -> 0
D14: Networking | E14: Networking | G14: Load Balancing | H14: Per Server | I14: 5.76 | J14: =F14*I14 -> 0 | K14: =J14 -> 0 | M14: Application load balancing (optional)
D15: Storage and Backup - Fully Managed | E15: Storage & Backup | G15: Server Storage & Backup | H15: Per GB | I15: 0.47 | J15: =F15*I15 -> 0 | K15: =SUM(J15:J15) -> 0 | M15: Total storage required for all drives.
D17: Cost Totals per Month | K17: =SUM(K6:K16) -> 0 | L17: =K17*C6 -> 0
A20: Item # | B20: Server Description | C20: Number of Servers with this Configuration | D20: Windows Physical Server | E20: Item | F20: Quantity | G20: Product Name | H20: Unit | I20: Cost per Month | J20: Total Cost per Month | K20: Total Cost per Server per Month | L20: Total Cost per Month | M20: Notes
D21: x86 Physical Server - Windows - Fully Managed | E21: Service Tier | G21: IBM x3650 M5 2-Socket Server | H21: Per Server | I21: 166.99 | J21: =F21*I21 -> 0 | K21: =SUM(J21:J22) -> 0 | M21: Service Tier costs includes cabinet, wiring, generator, power, cooling, KVM, firewall, UPS, fire suppression, & system software (Tivoli & TSM).
G22: IBM x3850 X5 4-Socket Server | H22: Per Server | I22: 562.58 | J22: =F22*I22 -> 0
E23: Server Hardware | G23: IBM x3650 M5 1-Socket Server | H23: Per Server | I23: 81.7 | J23: =F23*I23 -> 0 | K23: =SUM(J23:J27) -> 0 | M23: Intel Xeon E5-2603 6C 1.6 GHz, 16 GB RAM, 300 GB 10k RAID 1 HDD
G24: IBM x3850 X5 4-Socket Server, 256 GB RAM, SSD Flash | H24: Per Server | I24: 846.6 | J24: =F24*I24 -> 0 | M24: 4 x Intel Xeon E7-4860 12C 2.6 Ghz, 256 GB RAM, 200 GB SSD RAID 1 HDD, 800 GB SSD Flash, 2 x 8GB dual-port HBA
G25: IBM x3850 X5 4-Socket Server, 256 GB RAM, 800 GB eXFlash Cache | H25: Per Server | I25: 893.46 | J25: =F25*I25 -> 0 | M25: 4 x Intel Xeon E7-4860 12C 2.6 Ghz, 256 GB RAM, 200 GB SSD RAID 1 HDD, 800 GB eXFlash Cache, 2 x 8GB dual-port HBA
G26: IBM x3850 X5 4-Socket Server, 1 TB RAM, SSD Flash (VMware ESXi Host) | H26: Per Server | I26: 1091.94 | J26: =F26*I26 -> 0 | M26: 4 x Intel Xeon E7-4860 12C 2.6 Ghz, 1 TB RAM, 32 GB USB Memory Key, 800 GB SSD Flash, 2 x 16GB dual-port HBA
G27: IBM x3850 X5 4-Socket Server,1 TB RAM, 800 GB eXFlash Cache (VMware ESXi Host) | H27: Per Server | I27: 1138.05 | J27: =F27*I27 -> 0 | M27: 4 x Intel Xeon E7-4860 12C 2.6 Ghz, 1 TB RAM, 32 GB USB Memory Key, 800 GB eXFlash Cache, 2 x 16GB dual-port HBA
E28: Operating System | G28: Windows Server (1-2 processors) | H28: Per Server | I28: 154.14 | J28: =F28*I28 -> 0 | K28: =SUM(J28:J29) -> 0 | M28: Select a Windows Server OS.
G29: Windows Server (4 processors) | H29: Per Server | I29: 261 | J29: =F29*I29 -> 0
D31: Networking | E31: Networking | G31: Networking Cost per port | H31: Per Port | I31: 10.31 | J31: =F31*I31 -> 0 | K31: =SUM(J31:J33) -> 0 | M31: Number of network ports to be used by the host server. (minimum of 1)
G33: Load Balancing | H33: Per Server | I33: 5.76 | J33: =F33*I33 -> 0 | M33: Application load balancing (optional)
D34: Storage and Backup - Fully Managed | E34: Storage & Backup | G34: Server Storage & Backup | H34: Per GB | I34: 0.53 | J34: =F34*I34 -> 0 | K34: =SUM(J34:J35) -> 0 | M34: Total storage required for all drives.
D37: Cost Totals per Month | K37: =SUM(K21:K36) -> 0 | L37: =K37*C21 -> 0
A40: Item # | B40: Server Description | C40: Number of Servers with this Configuration | D40: Linux Virtual Server | E40: Item | F40: Quantity | G40: Product Name | H40: Unit | I40: Cost per Month | J40: Total Cost per Month | K40: Total Cost per Server per Month | L40: Total Cost per Month | M40: Notes
D41: x86 Virtual Server - Linux - Fully Managed | E41: Service Tier | G41: LI Managed Virtual Server (Intel) | H41: Per Server | I41: 63.65 | J41: =F41*I41 -> 0 | K41: =SUM(J40:J41) -> 0 | M41: Service Tier costs includes cabinet, wiring, generator, power, cooling, KVM, firewall, UPS, fire suppression, networking , MDS, VM software (ESXi, vCenter, vCOPs) & system software (Tivoli & TSM).
E42: CPU | G42: 1 vCPU | H42: Per CPU | I42: 0.79 | J42: =F42*I42 -> 0 | K42: =SUM(J42:J42) -> 0 | M42: The number of vCPUs required.
E43: RAM | G43: GB RAM | H43: Per GB | I43: 0.34 | J43: =F43*I43 -> 0 | K43: =J43 -> 0 | M43: Total RAM for the server
E44: Operating System | G44: RedHat + Satellite (1-2 processors) | H44: Per Server | I44: 72.6 | J44: =F44*I44 -> 0 | K44: =SUM(J44:J47) -> 0 | M44: Select a Windows Server OS.
G45: RedHat + Satellite (3-4 processors) | H45: Per Server | I45: 120.01 | J45: =F45*I45 -> 0
G46: RedHat + Satellite (5-6 processors) | H46: Per Server | I46: 226.33 | J46: =F46*I46 -> 0
G47: RedHat + Satellite (6+ processors) | H47: Per Server | I47: 332.66 | J47: =F47*I47 -> 0
D49: Networking | E49: Networking | G49: Load Balancing | H49: Per Server | I49: 5.76 | J49: =F49*I49 -> 0 | K49: =J49 -> 0 | M49: Application load balancing (optional)
D50: Storage and Backup - Fully Managed | E50: Server Storage | G50: Server Storage & Backup | H50: Per GB | I50: 0.47 | J50: =F50*I50 -> 0 | K50: =SUM(J50:J50) -> 0 | M50: Total storage required for all drives.
D52: Cost Totals per Month | K52: =SUM(K41:K51) -> 0 | L52: =K52*C41 -> 0

Sheet Sample Server Cost
A1: RFP # | B1: =Instructions!B1 -> 6100034489
A2: RFP Title | B2: =Instructions!B2 -> Department of Labor and Industry Unemployment Compensation Benefits Modernization (UC Ben Mod)
A3: Vendor Name | B3: =Instructions!B3 -> 0 | C3: SAMPLE SERVER COST
A5: Item # | B5: Server Description | C5: Number of Servers with this Configuration | D5: Windows Virtual Server | E5: Item | F5: Quantity | G5: Product Name | H5: Unit | I5: Cost per Month | J5: Total Cost per Month | K5: Total Cost per Server per Month | L5: Total Cost per Month | M5: Notes
A6: 1 | B6: Web Server | C6: 4 | D6: x86 Virtual Server - Windows - Fully Managed | E6: Service Tier | F6: 1 | G6: LI Managed Virtual Server (Intel) | H6: Per Server | I6: 63.31 | J6: =F6*I6 -> 63.31 | K6: =SUM(J5:J6) -> 63.31 | M6: Service Tier costs includes cabinet, wiring, generator, power, cooling, KVM, firewall, UPS, fire suppression, networking , MDS, VM software (ESXi, vCenter, vCOPs) & system software (Tivoli & TSM).
E7: CPU | F7: 4 | G7: 1 vCPU | H7: Per CPU | I7: 0.79 | J7: =F7*I7 -> 3.16 | K7: =SUM(J7:J7) -> 3.16 | M7: The number of vCPUs required.
E8: RAM | F8: 12 | G8: GB RAM | H8: Per GB | I8: 0.34 | J8: =F8*I8 -> 4.08 | K8: =J8 -> 4.08 | M8: Total RAM for the server
E9: Operating System | G9: Windows Server (1-2 processors) | H9: Per Server | I9: 3.39 | J9: =F9*I9 -> 0 | K9: =SUM(J9:J12) -> 6.45 | M9: Select a Windows Server OS.
F10: 1 | G10: Windows Server (4 processors) | H10: Per Server | I10: 6.45 | J10: =F10*I10 -> 6.45
G11: Windows Server (8 processors) | H11: Per Server | I11: 9.5 | J11: =F11*I11 -> 0
G12: Windows Server (16 processors) | H12: Per Server | I12: 12.55 | J12: =F12*I12 -> 0
D14: Networking | E14: Networking | F14: 1 | G14: Load Balancing | H14: Per Server | I14: 5.76 | J14: =F14*I14 -> 5.76 | K14: =J14 -> 5.76 | M14: Application load balancing (optional)
D15: Storage and Backup - Fully Managed | E15: Storage & Backup | F15: 50 | G15: Server Storage & Backup | H15: Per GB | I15: 0.47 | J15: =F15*I15 -> 23.5 | K15: =SUM(J15:J15) -> 23.5 | M15: Total storage required for all drives.
D17: Cost Totals per Month | K17: =SUM(K6:K16) -> 106.26 | L17: =K17*C6 -> 425.04
A20: Item # | B20: Server Description | C20: Number of Servers with this Configuration | D20: Windows Physical Server | E20: Item | F20: Quantity | G20: Product Name | H20: Unit | I20: Cost per Month | J20: Total Cost per Month | K20: Total Cost per Server per Month | L20: Total Cost per Month | M20: Notes
A21: 2 | B21: Database Cluster | C21: 2 | D21: x86 Physical Server - Windows - Fully Managed | E21: Service Tier | G21: IBM x3650 M5 2-Socket Server | H21: Per Server | I21: 166.99 | J21: =F21*I21 -> 0 | K21: =SUM(J21:J22) -> 562.58 | M21: Service Tier costs includes cabinet, wiring, generator, power, cooling, KVM, firewall, UPS, fire suppression, & system software (Tivoli & TSM).
F22: 1 | G22: IBM x3850 X5 4-Socket Server | H22: Per Server | I22: 562.58 | J22: =F22*I22 -> 562.58
E23: Server Hardware | G23: IBM x3650 M5 1-Socket Server | H23: Per Server | I23: 81.7 | J23: =F23*I23 -> 0 | K23: =SUM(J23:J27) -> 893.46 | M23: Intel Xeon E5-2603 6C 1.6 GHz, 16 GB RAM, 300 GB 10k RAID 1 HDD
G24: IBM x3850 X5 4-Socket Server, 256 GB RAM, SSD Flash | H24: Per Server | I24: 846.6 | J24: =F24*I24 -> 0 | M24: 4 x Intel Xeon E7-4860 12C 2.6 Ghz, 256 GB RAM, 200 GB SSD RAID 1 HDD, 800 GB SSD Flash, 2 x 8GB dual-port HBA
F25: 1 | G25: IBM x3850 X5 4-Socket Server, 256 GB RAM, 800 GB eXFlash Cache | H25: Per Server | I25: 893.46 | J25: =F25*I25 -> 893.46 | M25: 4 x Intel Xeon E7-4860 12C 2.6 Ghz, 256 GB RAM, 200 GB SSD RAID 1 HDD, 800 GB eXFlash Cache, 2 x 8GB dual-port HBA
G26: IBM x3850 X5 4-Socket Server, 1 TB RAM, SSD Flash (VMware ESXi Host) | H26: Per Server | I26: 1091.94 | J26: =F26*I26 -> 0 | M26: 4 x Intel Xeon E7-4860 12C 2.6 Ghz, 1 TB RAM, 32 GB USB Memory Key, 800 GB SSD Flash, 2 x 16GB dual-port HBA
G27: IBM x3850 X5 4-Socket Server,1 TB RAM, 800 GB eXFlash Cache (VMware ESXi Host) | H27: Per Server | I27: 1138.05 | J27: =F27*I27 -> 0 | M27: 4 x Intel Xeon E7-4860 12C 2.6 Ghz, 1 TB RAM, 32 GB USB Memory Key, 800 GB eXFlash Cache, 2 x 16GB dual-port HBA
E28: Operating System | G28: Windows Server (1-2 processors) | H28: Per Server | I28: 154.14 | J28: =F28*I28 -> 0 | K28: =SUM(J28:J29) -> 261 | M28: Select a Windows Server OS.
F29: 1 | G29: Windows Server (4 processors) | H29: Per Server | I29: 261 | J29: =F29*I29 -> 261
D31: Networking | E31: Networking | F31: 1 | G31: Networking Cost per port | H31: Per Port | I31: 10.31 | J31: =F31*I31 -> 10.31 | K31: =SUM(J31:J33) -> 16.07 | M31: Number of network ports to be used by the host server. (minimum of 1)
F33: 1 | G33: Load Balancing | H33: Per Server | I33: 5.76 | J33: =F33*I33 -> 5.76 | M33: Application load balancing (optional)
D34: Storage and Backup - Fully Managed | E34: Storage & Backup | F34: 1000 | G34: Server Storage & Backup | H34: Per GB | I34: 0.53 | J34: =F34*I34 -> 530 | K34: =SUM(J34:J35) -> 530 | M34: Total storage required for all drives.
D37: Cost Totals per Month | K37: =SUM(K21:K36) -> 2263.11 | L37: =K37*C21 -> 4526.22
A40: Item # | B40: Server Description | C40: Number of Servers with this Configuration | D40: Windows Virtual Server | E40: Item | F40: Quantity | G40: Product Name | H40: Unit | I40: Cost per Month | J40: Total Cost per Month | K40: Total Cost per Server per Month | L40: Total Cost per Month | M40: Notes
A41: 3 | B41: Reporting Database Cluster | C41: 2 | D41: x86 Virtual Server - Windows - Fully Managed | E41: Service Tier | F41: 1 | G41: LI Managed Virtual Server (Intel) | H41: Per Server | I41: 63.31 | J41: =F41*I41 -> 63.31 | K41: =SUM(J40:J41) -> 63.31 | M41: Service Tier costs includes cabinet, wiring, generator, power, cooling, KVM, firewall, UPS, fire suppression, networking , MDS, VM software (ESXi, vCenter, vCOPs) & system software (Tivoli & TSM).
E42: CPU | F42: 8 | G42: 1 vCPU | H42: Per CPU | I42: 0.79 | J42: =F42*I42 -> 6.32 | K42: =SUM(J42:J42) -> 6.32 | M42: The number of vCPUs required.
E43: RAM | F43: 16 | G43: GB RAM | H43: Per GB | I43: 0.34 | J43: =F43*I43 -> 5.44 | K43: =J43 -> 5.44 | M43: Total RAM for the server
E44: Operating System | G44: Windows Server (1-2 processors) | H44: Per Server | I44: 3.39 | J44: =F44*I44 -> 0 | K44: =SUM(J44:J47) -> 9.5 | M44: Select a Windows Server OS.
G45: Windows Server (4 processors) | H45: Per Server | I45: 6.45 | J45: =F45*I45 -> 0
F46: 1 | G46: Windows Server (8 processors) | H46: Per Server | I46: 9.5 | J46: =F46*I46 -> 9.5
G47: Windows Server (16 processors) | H47: Per Server | I47: 12.55 | J47: =F47*I47 -> 0
D49: Networking | E49: Networking | G49: Load Balancing | H49: Per Server | I49: 5.76 | J49: =F49*I49 -> 0 | K49: =J49 -> 0 | M49: Application load balancing (optional)
D50: Storage and Backup - Fully Managed | E50: Storage & Backup | F50: 1000 | G50: Server Storage & Backup | H50: Per GB | I50: 0.47 | J50: =F50*I50 -> 470 | K50: =SUM(J50:J50) -> 470 | M50: Total storage required for all drives.
D52: Cost Totals per Month | K52: =SUM(K41:K51) -> 554.57 | L52: =K52*C41 -> 1109.14

Sheet Summary
A1: RFP # | B1: =Instructions!B1 -> 6100034489
A2: RFP Title | B2: =Instructions!B2 -> Department of Labor and Industry Unemployment Compensation Benefits Modernization (UC Ben Mod)
A3: Vendor Name | B3: =Instructions!B3 -> 0
A4: Cost Summary | D4: Base Years | I4: Optional Renewal Years
B5: Total Base Years | C5: Total Optional Renewal Years | D5: Year 1 | E5: Year 2 | F5: Year 3 | G5: Year 4 | H5: Year 5 | I5: Year 6 | J5: Year 7 | K5: Year 8
A6: Project Initiation and Planning | B6: =SUM(D6:H6) -> 0 | C6: =SUM(I6:K6) -> 0 | D6: =Deliverables!C12 -> 0 | E6: =Deliverables!D12 -> 0 | F6: =Deliverables!E12 -> 0 | G6: =Deliverables!F12 -> 0 | H6: =Deliverables!G12 -> 0 | I6: =Deliverables!H12 -> 0 | J6: =Deliverables!I12 -> 0 | K6: =Deliverables!J12 -> 0
A7: Requirements Validation and Management | B7: =SUM(D7:H7) -> 0 | C7: =SUM(I7:K7) -> 0 | D7: =Deliverables!C18 -> 0 | E7: =Deliverables!D18 -> 0 | F7: =Deliverables!E18 -> 0 | G7: =Deliverables!F18 -> 0 | H7: =Deliverables!G18 -> 0 | I7: =Deliverables!H18 -> 0 | J7: =Deliverables!I18 -> 0 | K7: =Deliverables!J18 -> 0
A8: Solution Design | B8: =SUM(D8:H8) -> 0 | C8: =SUM(I8:K8) -> 0 | D8: =Deliverables!C23 -> 0 | E8: =Deliverables!D23 -> 0 | F8: =Deliverables!E23 -> 0 | G8: =Deliverables!F23 -> 0 | H8: =Deliverables!G23 -> 0 | I8: =Deliverables!H23 -> 0 | J8: =Deliverables!I23 -> 0 | K8: =Deliverables!J23 -> 0
A9: Solution Configuration | B9: =SUM(D9:H9) -> 0 | C9: =SUM(I9:K9) -> 0 | D9: =Deliverables!C27 -> 0 | E9: =Deliverables!D27 -> 0 | F9: =Deliverables!E27 -> 0 | G9: =Deliverables!F27 -> 0 | H9: =Deliverables!G27 -> 0 | I9: =Deliverables!H27 -> 0 | J9: =Deliverables!I27 -> 0 | K9: =Deliverables!J27 -> 0
A10: System Development | B10: =SUM(D10:H10) -> 0 | C10: =SUM(I10:K10) -> 0 | D10: =Deliverables!C34 -> 0 | E10: =Deliverables!D34 -> 0 | F10: =Deliverables!E34 -> 0 | G10: =Deliverables!F34 -> 0 | H10: =Deliverables!G34 -> 0 | I10: =Deliverables!H34 -> 0 | J10: =Deliverables!I34 -> 0 | K10: =Deliverables!J34 -> 0
A11: Release Management | B11: =SUM(D11:H11) -> 0 | C11: =SUM(I11:K11) -> 0 | D11: =Deliverables!C38 -> 0 | E11: =Deliverables!D38 -> 0 | F11: =Deliverables!E38 -> 0 | G11: =Deliverables!F38 -> 0 | H11: =Deliverables!G38 -> 0 | I11: =Deliverables!H38 -> 0 | J11: =Deliverables!I38 -> 0 | K11: =Deliverables!J38 -> 0
A12: Data Conversion and Migration | B12: =SUM(D12:H12) -> 0 | C12: =SUM(I12:K12) -> 0 | D12: =Deliverables!C43 -> 0 | E12: =Deliverables!D43 -> 0 | F12: =Deliverables!E43 -> 0 | G12: =Deliverables!F43 -> 0 | H12: =Deliverables!G43 -> 0 | I12: =Deliverables!H43 -> 0 | J12: =Deliverables!I43 -> 0 | K12: =Deliverables!J43 -> 0
A13: Testing | B13: =SUM(D13:H13) -> 0 | C13: =SUM(I13:K13) -> 0 | D13: =Deliverables!C47 -> 0 | E13: =Deliverables!D47 -> 0 | F13: =Deliverables!E47 -> 0 | G13: =Deliverables!F47 -> 0 | H13: =Deliverables!G47 -> 0 | I13: =Deliverables!H47 -> 0 | J13: =Deliverables!I47 -> 0 | K13: =Deliverables!J47 -> 0
A14: Implementation | B14: =SUM(D14:H14) -> 0 | C14: =SUM(I14:K14) -> 0 | D14: =Deliverables!C52 -> 0 | E14: =Deliverables!D52 -> 0 | F14: =Deliverables!E52 -> 0 | G14: =Deliverables!F52 -> 0 | H14: =Deliverables!G52 -> 0 | I14: =Deliverables!H52 -> 0 | J14: =Deliverables!I52 -> 0 | K14: =Deliverables!J52 -> 0
A15: Training Support | B15: =SUM(D15:H15) -> 0 | C15: =SUM(I15:K15) -> 0 | D15: =Deliverables!C57 -> 0 | E15: =Deliverables!D57 -> 0 | F15: =Deliverables!E57 -> 0 | G15: =Deliverables!F57 -> 0 | H15: =Deliverables!G57 -> 0 | I15: =Deliverables!H57 -> 0 | J15: =Deliverables!I57 -> 0 | K15: =Deliverables!J57 -> 0
A16: Solution Maintenance, Operations and Support | B16: =SUM(D16:H16) -> 0 | C16: =SUM(I16:K16) -> 0 | D16: =Deliverables!C61 -> 0 | E16: =Deliverables!D61 -> 0 | F16: =Deliverables!E61 -> 0 | G16: =Deliverables!F61 -> 0 | H16: =Deliverables!G61 -> 0 | I16: =Deliverables!H61 -> 0 | J16: =Deliverables!I61 -> 0 | K16: =Deliverables!J61 -> 0
A17: Outgoing Transition and Turnover | B17: =SUM(D17:H17) -> 0 | C17: =SUM(I17:K17) -> 0 | D17: =Deliverables!C65 -> 0 | E17: =Deliverables!D65 -> 0 | F17: =Deliverables!E65 -> 0 | G17: =Deliverables!F65 -> 0 | H17: =Deliverables!G65 -> 0 | I17: =Deliverables!H65 -> 0 | J17: =Deliverables!I65 -> 0 | K17: =Deliverables!J65 -> 0
A18: Reports and Project Control | B18: =SUM(D18:H18) -> 0 | C18: =SUM(I18:K18) -> 0 | D18: =Deliverables!C69 -> 0 | E18: =Deliverables!D69 -> 0 | F18: =Deliverables!E69 -> 0 | G18: =Deliverables!F69 -> 0 | H18: =Deliverables!G69 -> 0 | I18: =Deliverables!H69 -> 0 | J18: =Deliverables!I69 -> 0 | K18: =Deliverables!J69 -> 0
A19: Subtotal for Project Deliverables | B19: =SUM(D19:H19) -> 0 | C19: =SUM(I19:K19) -> 0 | D19: =Deliverables!C71 -> 0 | E19: =Deliverables!D71 -> 0 | F19: =Deliverables!E71 -> 0 | G19: =Deliverables!F71 -> 0 | H19: =Deliverables!G71 -> 0 | I19: =Deliverables!H71 -> 0 | J19: =Deliverables!I71 -> 0 | K19: =Deliverables!J71 -> 0
A21: Hardware Acquisition Costs | B21: =SUM(D21:H21) -> 0 | C21: =SUM(I21:K21) -> 0 | D21: ='Proposed Hardware'!D43 -> 0 | E21: ='Proposed Hardware'!G43 -> 0 | F21: ='Proposed Hardware'!J43 -> 0 | G21: ='Proposed Hardware'!M43 -> 0 | H21: ='Proposed Hardware'!P43 -> 0 | I21: ='Proposed Hardware'!S43 -> 0 | J21: ='Proposed Hardware'!V43 -> 0 | K21: ='Proposed Hardware'!Y43 -> 0
A22: Hardware Maintenance Costs | B22: =SUM(D22:H22) -> 0 | C22: =SUM(I22:K22) -> 0 | D22: ='Proposed Hardware'!D75 -> 0 | E22: ='Proposed Hardware'!G75 -> 0 | F22: ='Proposed Hardware'!J75 -> 0 | G22: ='Proposed Hardware'!M75 -> 0 | H22: ='Proposed Hardware'!P75 -> 0 | I22: ='Proposed Hardware'!S75 -> 0 | J22: ='Proposed Hardware'!V75 -> 0 | K22: ='Proposed Hardware'!Y75 -> 0
A23: Subtotal for Hardware Costs | B23: =SUM(D23:H23) -> 0 | C23: =SUM(I23:K23) -> 0 | D23: ='Proposed Hardware'!D77 -> 0 | E23: ='Proposed Hardware'!G77 -> 0 | F23: ='Proposed Hardware'!J77 -> 0 | G23: ='Proposed Hardware'!M77 -> 0 | H23: ='Proposed Hardware'!P77 -> 0 | I23: ='Proposed Hardware'!S77 -> 0 | J23: ='Proposed Hardware'!V77 -> 0 | K23: ='Proposed Hardware'!Y77 -> 0
A25: Software Acquisition Costs | B25: =SUM(D25:H25) -> 0 | C25: =SUM(I25:K25) -> 0 | D25: ='Proposed Software'!D79 -> 0 | E25: ='Proposed Software'!G79 -> 0 | F25: ='Proposed Software'!J79 -> 0 | G25: ='Proposed Software'!M79 -> 0 | H25: ='Proposed Software'!P79 -> 0 | I25: ='Proposed Software'!S79 -> 0 | J25: ='Proposed Software'!V79 -> 0 | K25: ='Proposed Software'!Y79 -> 0
A26: Software Maintenance Costs | B26: =SUM(D26:H26) -> 0 | C26: =SUM(I26:K26) -> 0 | D26: ='Proposed Software'!D147 -> 0 | E26: ='Proposed Software'!G147 -> 0 | F26: ='Proposed Software'!J147 -> 0 | G26: ='Proposed Software'!M147 -> 0 | H26: ='Proposed Software'!P147 -> 0 | I26: ='Proposed Software'!S147 -> 0 | J26: ='Proposed Software'!V147 -> 0 | K26: ='Proposed Software'!Y147 -> 0
A27: Subtotal for Software Costs | B27: =SUM(D27:H27) -> 0 | C27: =SUM(I27:K27) -> 0 | D27: ='Proposed Software'!D149 -> 0 | E27: ='Proposed Software'!G149 -> 0 | F27: ='Proposed Software'!J149 -> 0 | G27: ='Proposed Software'!M149 -> 0 | H27: ='Proposed Software'!P149 -> 0 | I27: ='Proposed Software'!S149 -> 0 | J27: ='Proposed Software'!V149 -> 0 | K27: ='Proposed Software'!Y149 -> 0
A29: Rate Card | B29: =SUM(D29:H29) -> 0 | D29: ='Rate Card'!D30 -> 0 | E29: 0 | F29: 0 | G29: 0 | H29: 0 | I29: 0 | J29: 0 | K29: 0
A31: SubTotals (without Server Costs) | B31: =SUM(D31:H31) -> 0 | C31: =SUM(I31:K31) -> 0 | D31: =D19+D23+D27+D29 -> 0 | E31: =E19+E23+E27+E29 -> 0 | F31: =F19+F23+F27+F29 -> 0 | G31: =G19+G23+G27+G29 -> 0 | H31: =H19+H23+H27+H29 -> 0 | I31: =I19+I23+I27+I29 -> 0 | J31: =J19+J23+J27+J29 -> 0 | K31: =K19+K23+K27+K29 -> 0
A33: Server Costs | B33: =SUM(D33:H33) -> 0 | C33: =SUM(I33:K33) -> 0 | D33: 0 | E33: 0 | F33: 0 | G33: 0 | H33: 0 | I33: 0 | J33: 0 | K33: 0
A35: Totals | B35: =SUM(D35:H35) -> 0 | C35: =SUM(I35:K35) -> 0 | D35: =D31+D33 -> 0 | E35: =E31+E33 -> 0 | F35: =F31+F33 -> 0 | G35: =G31+G33 -> 0 | H35: =H31+H33 -> 0 | I35: =I31+I33 -> 0 | J35: =J31+J33 -> 0 | K35: =K31+K33 -> 0
A37: Total Base & Optional Renewal Years | B37: =SUM(B35:C35) -> 0

Sheet Rate Card
A1: RFP # | B1: =Instructions!B1 -> 6100034489
A2: RFP Title | B2: =Instructions!B2 -> Department of Labor and Industry Unemployment Compensation Benefits Modernization (UC Ben Mod)
A3: Vendor Name | B3: =Instructions!B3 -> 0
A4: Rate Card
A5: Position | B5: Hourly Rate | C5: Optional Rate Card Services - Estimated Hours | D5: Estimated Total Cost
A6: Project Manager | C6: 1 | D6: =SUM(B6*C6) -> 0
A7: Solution Architect | C7: 1 | D7: =SUM(B7*C7) -> 0
A8: Business Architect | C8: 1 | D8: =SUM(B8*C8) -> 0
A9: Data Architect | C9: 1 | D9: =SUM(B9*C9) -> 0
A10: Implementation Manager | C10: 1 | D10: =SUM(B10*C10) -> 0
A11: Senior Business Analyst | C11: 1 | D11: =SUM(B11*C11) -> 0
A12: Database Administrator | C12: 1 | D12: =SUM(B12*C12) -> 0
A13: Technical Solution Lead | C13: 1 | D13: =SUM(B13*C13) -> 0
A14: Data Migration Lead | C14: 1 | D14: =SUM(B14*C14) -> 0
A15: Testing Manager | C15: 1 | D15: =SUM(B15*C15) -> 0
A16: Project Scheduler | C16: 1 | D16: =SUM(B16*C16) -> 0
A17: Technical Writer | C17: 1 | D17: =SUM(B17*C17) -> 0
... A20: Application Developer | C20: 1 | D20: =SUM(B20*C20) -> 0
C21: 1 | D21: =SUM(B21*C21) -> 0
C22: 1 | D22: =SUM(B22*C22) -> 0
C23: 1 | D23: =SUM(B23*C23) -> 0
C24: 1 | D24: =SUM(B24*C24) -> 0
C25: 1 | D25: =SUM(B25*C25) -> 0
C26: 1 | D26: =SUM(B26*C26) -> 0
C27: 1 | D27: =SUM(B27*C27) -> 0
C28: 1 | D28: =SUM(B28*C28) -> 0
C29: 1 | D29: =SUM(B29*C29) -> 0
D30: =SUM(D6:D29) -> 0
A31: NOTE : Estimated hours provided are for evaluation purposes only and do not constitute a guarantee of work to be performed or payment to be received.

Sheet Proposed Servers
A1: RFP # | B1: =Instructions!B1 -> 6100034489
A2: RFP Title | B2: =Instructions!B2 -> Department of Labor and Industry Unemployment Compensation Benefits Modernization (UC Ben Mod)
A3: Vendor Name | B3: =Instructions!B3 -> 0
A5: Item # | B5: Server Description | C5: Number of Servers with this Configuration | D5: Server Type (Windows Virtual, Windows Physical, Linux Virtual) | E5: Item | F5: Quantity | G5: Product Name | H5: Unit | I5: Cost per Month | J5: Total Cost per Month | K5: Total Cost per Server per Month | L5: Total Cost per Month | M5: Notes

Sheet Proposed Hardware
A1: RFP # | B1: =Instructions!B1 -> 6100034489
A2: RFP Title | B2: =Instructions!B2 -> Department of Labor and Industry Unemployment Compensation Benefits Modernization (UC Ben Mod)
A3: Vendor Name | B3: =Instructions!B3 -> 0
C4: HARDWARE | S4: HARDWARE
A5: Name of Product, Make, Model, including specifications | B5: Calendar Year 1 Quantity | C5: Calendar Year 1 Unit Cost | D5: Calendar Year 1 Total Cost | E5: Calendar Year 2 Quantity | F5: Calendar Year 2 Unit Cost | G5: Calendar Year 2 Total Cost | H5: Calendar Year 3 Quantity | I5: Calendar Year 3 Unit Cost | J5: Calendar Year 3 Total Cost | K5: Calendar Year 4 Quantity | L5: Calendar Year 4 Unit Price | M5: Calendar Year 4 Total Cost | N5: Calendar Year 5 Quantity | O5: Calendar Year 5 Unit Price | P5: Calendar Year 5 Total Cost | Q5: Option Year 6 Quantity | R5: Option Year 6 Unit Price | S5: Option Year 6 Total Cost | T5: Option Year 7 Quantity | U5: Option Year 7 Unit Price | V5: Option Year 7 Total Cost | W5: Option Year 8 Quantity | X5: Option Year 8 Unit Price | Y5: Option Year 8 Total Cost | Z5: Total Quantity | AA5: Total Cost
A7: Proposed Hardware Acquisition Costs
A8: ex. OPEX AS7200i | B8: 4 | C8: 5000 | D8: =B8*C8 -> 20000 | E8: 4 | F8: 5250 | G8: =E8*F8 -> 21000 | H8: 4 | I8: 5500 | J8: =H8*I8 -> 22000 | K8: 4 | L8: 5700 | M8: =K8*L8 -> 22800 | N8: 0 | O8: 6000 | P8: =N8*O8 -> 0 | Q8: 0 | R8: 6300 | S8: =Q8*R8 -> 0 | T8: 0 | U8: 6700 | V8: =T8*U8 -> 0 | W8: 0 | X8: 7000 | Y8: =W8*X8 -> 0 | Z8: =B8+E8+H8+K8+N8+Q8+T8+W8 -> 16 | AA8: =D8+G8+J8+M8+P8+S8+V8+Y8 -> 85800
A10: Proposed Hardware Maintenance Costs
A11: ex. OPEX AS7200i | B11: 0 | C11: 1000 | D11: =B11*C11 -> 0 | E11: 4 | F11: 1050 | G11: =E11*F11 -> 4200 | H11: 8 | I11: 1100 | J11: =H11*I11 -> 8800 | K11: 16 | L11: 1150 | M11: =K11*L11 -> 18400 | N11: 16 | O11: 1200 | P11: =N11*O11 -> 19200 | Q11: 16 | R11: 1275 | S11: =Q11*R11 -> 20400 | T11: 16 | U11: 1350 | V11: =T11*U11 -> 21600 | W11: 16 | X11: 1400 | Y11: =W11*X11 -> 22400 | Z11: =B11+E11+H11+K11+N11+Q11+T11+W11 -> 92 | AA11: =D11+G11+J11+M11+P11+S11+V11+Y11 -> 115000
A13: Proposed Hardware Acquistion Costs
A15: Document Capture | D15: =B15*C15 -> 0 | G15: =E15*F15 -> 0 | J15: =H15*I15 -> 0 | M15: =K15*L15 -> 0 | P15: =N15*O15 -> 0 | S15: =Q15*R15 -> 0 | V15: =T15*U15 -> 0 | Y15: =W15*X15 -> 0 | Z15: =B15+E15+H15+K15+N15+Q15+T15+W15 -> 0 | AA15: =D15+G15+J15+M15+P15+S15+V15+Y15 -> 0
A17: Other Hardware | D17: =B17*C17 -> 0 | G17: =E17*F17 -> 0 | J17: =H17*I17 -> 0 | M17: =K17*L17 -> 0 | P17: =N17*O17 -> 0 | S17: =Q17*R17 -> 0 | V17: =T17*U17 -> 0 | Y17: =W17*X17 -> 0 | Z17: =B17+E17+H17+K17+N17+Q17+T17+W17 -> 0 | AA17: =D17+G17+J17+M17+P17+S17+V17+Y17 -> 0
D19: =B19*C19 -> 0 | G19: =E19*F19 -> 0 | J19: =H19*I19 -> 0 | M19: =K19*L19 -> 0 | P19: =N19*O19 -> 0 | S19: =Q19*R19 -> 0 | V19: =T19*U19 -> 0 | Y19: =W19*X19 -> 0 | Z19: =B19+E19+H19+K19+N19+Q19+T19+W19 -> 0 | AA19: =D19+G19+J19+M19+P19+S19+V19+Y19 -> 0
D21: =B21*C21 -> 0 | G21: =E21*F21 -> 0 | J21: =H21*I21 -> 0 | M21: =K21*L21 -> 0 | P21: =N21*O21 -> 0 | S21: =Q21*R21 -> 0 | V21: =T21*U21 -> 0 | Y21: =W21*X21 -> 0 | Z21: =B21+E21+H21+K21+N21+Q21+T21+W21 -> 0 | AA21: =D21+G21+J21+M21+P21+S21+V21+Y21 -> 0
D23: =B23*C23 -> 0 | G23: =E23*F23 -> 0 | J23: =H23*I23 -> 0 | M23: =K23*L23 -> 0 | P23: =N23*O23 -> 0 | S23: =Q23*R23 -> 0 | V23: =T23*U23 -> 0 | Y23: =W23*X23 -> 0 | Z23: =B23+E23+H23+K23+N23+Q23+T23+W23 -> 0 | AA23: =D23+G23+J23+M23+P23+S23+V23+Y23 -> 0
A25: Document Capture | D25: =B25*C25 -> 0 | G25: =E25*F25 -> 0 | J25: =H25*I25 -> 0 | M25: =K25*L25 -> 0 | P25: =N25*O25 -> 0 | S25: =Q25*R25 -> 0 | V25: =T25*U25 -> 0 | Y25: =W25*X25 -> 0 | Z25: =B25+E25+H25+K25+N25+Q25+T25+W25 -> 0 | AA25: =D25+G25+J25+M25+P25+S25+V25+Y25 -> 0
A27: Other Hardware | D27: =B27*C27 -> 0 | G27: =E27*F27 -> 0 | J27: =H27*I27 -> 0 | M27: =K27*L27 -> 0 | P27: =N27*O27 -> 0 | S27: =Q27*R27 -> 0 | V27: =T27*U27 -> 0 | Y27: =W27*X27 -> 0 | Z27: =B27+E27+H27+K27+N27+Q27+T27+W27 -> 0 | AA27: =D27+G27+J27+M27+P27+S27+V27+Y27 -> 0
D29: =B29*C29 -> 0 | G29: =E29*F29 -> 0 | J29: =H29*I29 -> 0 | M29: =K29*L29 -> 0 | P29: =N29*O29 -> 0 | S29: =Q29*R29 -> 0 | V29: =T29*U29 -> 0 | Y29: =W29*X29 -> 0 | Z29: =B29+E29+H29+K29+N29+Q29+T29+W29 -> 0 | AA29: =D29+G29+J29+M29+P29+S29+V29+Y29 -> 0
D31: =B31*C31 -> 0 | G31: =E31*F31 -> 0 | J31: =H31*I31 -> 0 | M31: =K31*L31 -> 0 | P31: =N31*O31 -> 0 | S31: =Q31*R31 -> 0 | V31: =T31*U31 -> 0 | Y31: =W31*X31 -> 0 | Z31: =B31+E31+H31+K31+N31+Q31+T31+W31 -> 0 | AA31: =D31+G31+J31+M31+P31+S31+V31+Y31 -> 0
D33: =B33*C33 -> 0 | G33: =E33*F33 -> 0 | J33: =H33*I33 -> 0 | M33: =K33*L33 -> 0 | P33: =N33*O33 -> 0 | S33: =Q33*R33 -> 0 | V33: =T33*U33 -> 0 | Y33: =W33*X33 -> 0 | Z33: =B33+E33+H33+K33+N33+Q33+T33+W33 -> 0 | AA33: =D33+G33+J33+M33+P33+S33+V33+Y33 -> 0
A35: Document Capture | D35: =B35*C35 -> 0 | G35: =E35*F35 -> 0 | J35: =H35*I35 -> 0 | M35: =K35*L35 -> 0 | P35: =N35*O35 -> 0 | S35: =Q35*R35 -> 0 | V35: =T35*U35 -> 0 | Y35: =W35*X35 -> 0 | Z35: =B35+E35+H35+K35+N35+Q35+T35+W35 -> 0 | AA35: =D35+G35+J35+M35+P35+S35+V35+Y35 -> 0
A37: Other Hardware | D37: =B37*C37 -> 0 | G37: =E37*F37 -> 0 | J37: =H37*I37 -> 0 | M37: =K37*L37 -> 0 | P37: =N37*O37 -> 0 | S37: =Q37*R37 -> 0 | V37: =T37*U37 -> 0 | Y37: =W37*X37 -> 0 | Z37: =B37+E37+H37+K37+N37+Q37+T37+W37 -> 0 | AA37: =D37+G37+J37+M37+P37+S37+V37+Y37 -> 0
D39: =B39*C39 -> 0 | G39: =E39*F39 -> 0 | J39: =H39*I39 -> 0 | M39: =K39*L39 -> 0 | P39: =N39*O39 -> 0 | S39: =Q39*R39 -> 0 | V39: =T39*U39 -> 0 | Y39: =W39*X39 -> 0 | Z39: =B39+E39+H39+K39+N39+Q39+T39+W39 -> 0 | AA39: =D39+G39+J39+M39+P39+S39+V39+Y39 -> 0
D41: =B41*C41 -> 0 | G41: =E41*F41 -> 0 | J41: =H41*I41 -> 0 | M41: =K41*L41 -> 0 | P41: =N41*O41 -> 0 | S41: =Q41*R41 -> 0 | V41: =T41*U41 -> 0 | Y41: =W41*X41 -> 0 | Z41: =B41+E41+H41+K41+N41+Q41+T41+W41 -> 0 | AA41: =D41+G41+J41+M41+P41+S41+V41+Y41 -> 0
A43: Total Hardware Acquisition Costs | D43: =SUM(D14:D42) -> 0 | G43: =SUM(G14:G42) -> 0 | J43: =SUM(J14:J42) -> 0 | M43: =SUM(M14:M42) -> 0 | P43: =SUM(P14:P42) -> 0 | S43: =SUM(S14:S42) -> 0 | V43: =SUM(V14:V42) -> 0 | Y43: =SUM(Y14:Y42) -> 0 | Z43: =SUM(Z14:Z42) -> 0 | AA43: =SUM(AA14:AA42) -> 0
A45: Proposed Hardware Maintenance Costs
A47: Document Capture | D47: =B47*C47 -> 0 | G47: =E47*F47 -> 0 | J47: =H47*I47 -> 0 | M47: =K47*L47 -> 0 | P47: =N47*O47 -> 0 | S47: =Q47*R47 -> 0 | V47: =T47*U47 -> 0 | Y47: =W47*X47 -> 0 | Z47: =X47*Y47 -> 0 | AA47: =D47+G47+J47+M47+P47+S47+V47+Y47 -> 0
A49: Other Hardware | D49: =B49*C49 -> 0 | G49: =E49*F49 -> 0 | J49: =H49*I49 -> 0 | M49: =K49*L49 -> 0 | P49: =N49*O49 -> 0 | S49: =Q49*R49 -> 0 | V49: =T49*U49 -> 0 | Y49: =W49*X49 -> 0 | Z49: =X49*Y49 -> 0 | AA49: =D49+G49+J49+M49+P49+S49+V49+Y49 -> 0
D51: =B51*C51 -> 0 | G51: =E51*F51 -> 0 | J51: =H51*I51 -> 0 | M51: =K51*L51 -> 0 | P51: =N51*O51 -> 0 | S51: =Q51*R51 -> 0 | V51: =T51*U51 -> 0 | Y51: =W51*X51 -> 0 | Z51: =X51*Y51 -> 0 | AA51: =D51+G51+J51+M51+P51+S51+V51+Y51 -> 0
D53: =B53*C53 -> 0 | G53: =E53*F53 -> 0 | J53: =H53*I53 -> 0 | M53: =K53*L53 -> 0 | P53: =N53*O53 -> 0 | S53: =Q53*R53 -> 0 | V53: =T53*U53 -> 0 | Y53: =W53*X53 -> 0 | Z53: =X53*Y53 -> 0 | AA53: =D53+G53+J53+M53+P53+S53+V53+Y53 -> 0
D55: =B55*C55 -> 0 | G55: =E55*F55 -> 0 | J55: =H55*I55 -> 0 | M55: =K55*L55 -> 0 | P55: =N55*O55 -> 0 | S55: =Q55*R55 -> 0 | V55: =T55*U55 -> 0 | Y55: =W55*X55 -> 0 | Z55: =X55*Y55 -> 0 | AA55: =D55+G55+J55+M55+P55+S55+V55+Y55 -> 0
A57: Document Capture | D57: =B57*C57 -> 0 | G57: =E57*F57 -> 0 | J57: =H57*I57 -> 0 | M57: =K57*L57 -> 0 | P57: =N57*O57 -> 0 | S57: =Q57*R57 -> 0 | V57: =T57*U57 -> 0 | Y57: =W57*X57 -> 0 | Z57: =X57*Y57 -> 0 | AA57: =D57+G57+J57+M57+P57+S57+V57+Y57 -> 0
A59: Other Hardware | D59: =B59*C59 -> 0 | G59: =E59*F59 -> 0 | J59: =H59*I59 -> 0 | M59: =K59*L59 -> 0 | P59: =N59*O59 -> 0 | S59: =Q59*R59 -> 0 | V59: =T59*U59 -> 0 | Y59: =W59*X59 -> 0 | Z59: =X59*Y59 -> 0 | AA59: =D59+G59+J59+M59+P59+S59+V59+Y59 -> 0
D61: =B61*C61 -> 0 | G61: =E61*F61 -> 0 | J61: =H61*I61 -> 0 | M61: =K61*L61 -> 0 | P61: =N61*O61 -> 0 | S61: =Q61*R61 -> 0 | V61: =T61*U61 -> 0 | Y61: =W61*X61 -> 0 | Z61: =X61*Y61 -> 0 | AA61: =D61+G61+J61+M61+P61+S61+V61+Y61 -> 0
D63: =B63*C63 -> 0 | G63: =E63*F63 -> 0 | J63: =H63*I63 -> 0 | M63: =K63*L63 -> 0 | P63: =N63*O63 -> 0 | S63: =Q63*R63 -> 0 | V63: =T63*U63 -> 0 | Y63: =W63*X63 -> 0 | Z63: =X63*Y63 -> 0 | AA63: =D63+G63+J63+M63+P63+S63+V63+Y63 -> 0
D65: =B65*C65 -> 0 | G65: =E65*F65 -> 0 | J65: =H65*I65 -> 0 | M65: =K65*L65 -> 0 | P65: =N65*O65 -> 0 | S65: =Q65*R65 -> 0 | V65: =T65*U65 -> 0 | Y65: =W65*X65 -> 0 | Z65: =X65*Y65 -> 0 | AA65: =D65+G65+J65+M65+P65+S65+V65+Y65 -> 0
A67: Other Hardware | D67: =B67*C67 -> 0 | G67: =E67*F67 -> 0 | J67: =H67*I67 -> 0 | M67: =K67*L67 -> 0 | P67: =N67*O67 -> 0 | S67: =Q67*R67 -> 0 | V67: =T67*U67 -> 0 | Y67: =W67*X67 -> 0 | Z67: =X67*Y67 -> 0 | AA67: =D67+G67+J67+M67+P67+S67+V67+Y67 -> 0
D69: =B69*C69 -> 0 | G69: =E69*F69 -> 0 | J69: =H69*I69 -> 0 | M69: =K69*L69 -> 0 | P69: =N69*O69 -> 0 | S69: =Q69*R69 -> 0 | V69: =T69*U69 -> 0 | Y69: =W69*X69 -> 0 | Z69: =X69*Y69 -> 0 | AA69: =D69+G69+J69+M69+P69+S69+V69+Y69 -> 0
D71: =B71*C71 -> 0 | G71: =E71*F71 -> 0 | J71: =H71*I71 -> 0 | M71: =K71*L71 -> 0 | P71: =N71*O71 -> 0 | S71: =Q71*R71 -> 0 | V71: =T71*U71 -> 0 | Y71: =W71*X71 -> 0 | Z71: =X71*Y71 -> 0 | AA71: =D71+G71+J71+M71+P71+S71+V71+Y71 -> 0
D73: =B73*C73 -> 0 | G73: =E73*F73 -> 0 | J73: =H73*I73 -> 0 | M73: =K73*L73 -> 0 | P73: =N73*O73 -> 0 | S73: =Q73*R73 -> 0 | V73: =T73*U73 -> 0 | Y73: =W73*X73 -> 0 | Z73: =X73*Y73 -> 0 | AA73: =D73+G73+J73+M73+P73+S73+V73+Y73 -> 0
...

Sheet Proposed Software
A1: RFP # | B1: =Instructions!B1 -> 6100034489
A2: RFP Title | B2: =Instructions!B2 -> Department of Labor and Industry Unemployment Compensation Benefits Modernization (UC Ben Mod)
A3: Vendor Name | B3: =Instructions!B3 -> 0
C4: SOFTWARE | M4: SOFTWARE
A5: Name of Product including licensing model | B5: Calendar Year 1 Quantity | C5: Calendar Year 1 Unit Cost | D5: Calendar Year 1 Total Cost | E5: Calendar Year 2 Quantity | F5: Calendar Year 2 Unit Cost | G5: Calendar Year 2 Total Cost | H5: Calendar Year 3 Quantity | I5: Calendar Year 3 Unit Cost | J5: Calendar Year 3 Total Cost | K5: Calendar Year 4 Quantity | L5: Calendar Year 4 Unit Price | M5: Calendar Year 4 Total Cost | N5: Calendar Year 5 Quantity | O5: Calendar Year 5 Unit Price | P5: Calendar Year 5 Total Cost | Q5: Option Year 6 Quantity | R5: Option Year 6 Unit Price | S5: Option Year 6 Total Cost | T5: Option Year 7 Quantity | U5: Option Year 7 Unit Price | V5: Option Year 7 Total Cost | W5: Option Year 8 Quantity | X5: Option Year 8 Unit Price | Y5: Option Year 8 Total Cost | Z5: Total Quantity | AA5: Total Cost
A7: Proposed Software Acquisition Costs
A8: ex. Microsoft SQL Server 2015, priced by socket | B8: 4 | C8: 2000 | D8: =B8*C8 -> 8000 | E8: 4 | F8: 2100 | G8: =E8*F8 -> 8400 | H8: 4 | I8: 2205 | J8: =H8*I8 -> 8820 | K8: 4 | L8: 2315 | M8: =K8*L8 -> 9260 | N8: 0 | O8: 2430 | P8: =N8*O8 -> 0 | Q8: 0 | R8: 2550 | S8: =Q8*R8 -> 0 | T8: 0 | U8: 2680 | V8: =T8*U8 -> 0 | W8: 0 | X8: 2815 | Y8: =W8*X8 -> 0 | Z8: =B8+E8+H8+K8+N8+Q8+T8+W8 -> 16 | AA8: =D8+G8+J8+M8+P8+S8+V8+Y8 -> 34480
A10: Proposed Software Maintenance Costs
A11: ex. Microsoft SQL Server 2015, priced by socket | B11: 0 | C11: 400 | D11: =B11*C11 -> 0 | E11: 4 | F11: 420 | G11: =E11*F11 -> 1680 | H11: 8 | I11: 440 | J11: =H11*I11 -> 3520 | K11: 16 | L11: 460 | M11: =K11*L11 -> 7360 | N11: 16 | O11: 485 | P11: =N11*O11 -> 7760 | Q11: 16 | R11: 510 | S11: =Q11*R11 -> 8160 | T11: 16 | U11: 535 | V11: =T11*U11 -> 8560 | W11: 16 | X11: 560 | Y11: =W11*X11 -> 8960 | Z11: =B11+E11+H11+K11+N11+Q11+T11+W11 -> 92 | AA11: =D11+G11+J11+M11+P11+S11+V11+Y11 -> 46000
A13: Proposed Software Costs | R13: Optional Years
A15: COTS / Solution Software | D15: =B15*C15 -> 0 | G15: =E15*F15 -> 0 | J15: =H15*I15 -> 0 | M15: =K15*L15 -> 0 | P15: =N15*O15 -> 0 | S15: =Q15*R15 -> 0 | V15: =T15*U15 -> 0 | Y15: =W15*X15 -> 0 | Z15: =B15+E15+H15+K15+N15+Q15+T15+W15 -> 0 | AA15: =D15+G15+J15+M15+P15+S15+V15+Y15 -> 0
A17: Application Development Software | D17: =B17*C17 -> 0 | G17: =E17*F17 -> 0 | J17: =H17*I17 -> 0 | M17: =K17*L17 -> 0 | P17: =N17*O17 -> 0 | S17: =Q17*R17 -> 0 | V17: =T17*U17 -> 0 | Y17: =W17*X17 -> 0 | Z17: =B17+E17+H17+K17+N17+Q17+T17+W17 -> 0 | AA17: =D17+G17+J17+M17+P17+S17+V17+Y17 -> 0
A19: Application Middleware | D19: =B19*C19 -> 0 | G19: =E19*F19 -> 0 | J19: =H19*I19 -> 0 | M19: =K19*L19 -> 0 | P19: =N19*O19 -> 0 | S19: =Q19*R19 -> 0 | V19: =T19*U19 -> 0 | Y19: =W19*X19 -> 0 | Z19: =B19+E19+H19+K19+N19+Q19+T19+W19 -> 0 | AA19: =D19+G19+J19+M19+P19+S19+V19+Y19 -> 0
A21: Application Infrastruture Software | D21: =B21*C21 -> 0 | G21: =E21*F21 -> 0 | J21: =H21*I21 -> 0 | M21: =K21*L21 -> 0 | P21: =N21*O21 -> 0 | S21: =Q21*R21 -> 0 | V21: =T21*U21 -> 0 | Y21: =W21*X21 -> 0 | Z21: =B21+E21+H21+K21+N21+Q21+T21+W21 -> 0 | AA21: =D21+G21+J21+M21+P21+S21+V21+Y21 -> 0
A23: Document Capture Software | D23: =B23*C23 -> 0 | G23: =E23*F23 -> 0 | J23: =H23*I23 -> 0 | M23: =K23*L23 -> 0 | P23: =N23*O23 -> 0 | S23: =Q23*R23 -> 0 | V23: =T23*U23 -> 0 | Y23: =W23*X23 -> 0 | Z23: =B23+E23+H23+K23+N23+Q23+T23+W23 -> 0 | AA23: =D23+G23+J23+M23+P23+S23+V23+Y23 -> 0
A25: FileNet Software | D25: =B25*C25 -> 0 | G25: =E25*F25 -> 0 | J25: =H25*I25 -> 0 | M25: =K25*L25 -> 0 | P25: =N25*O25 -> 0 | S25: =Q25*R25 -> 0 | V25: =T25*U25 -> 0 | Y25: =W25*X25 -> 0 | Z25: =B25+E25+H25+K25+N25+Q25+T25+W25 -> 0 | AA25: =D25+G25+J25+M25+P25+S25+V25+Y25 -> 0
A27: CA's SiteMinder and IdentityMinder (IAM) | D27: =B27*C27 -> 0 | G27: =E27*F27 -> 0 | J27: =H27*I27 -> 0 | M27: =K27*L27 -> 0 | P27: =N27*O27 -> 0 | S27: =Q27*R27 -> 0 | V27: =T27*U27 -> 0 | Y27: =W27*X27 -> 0 | Z27: =B27+E27+H27+K27+N27+Q27+T27+W27 -> 0 | AA27: =D27+G27+J27+M27+P27+S27+V27+Y27 -> 0
A29: System Center Operations Manager (SCOM) | D29: =B29*C29 -> 0 | G29: =E29*F29 -> 0 | J29: =H29*I29 -> 0 | M29: =K29*L29 -> 0 | P29: =N29*O29 -> 0 | S29: =Q29*R29 -> 0 | V29: =T29*U29 -> 0 | Y29: =W29*X29 -> 0 | Z29: =B29+E29+H29+K29+N29+Q29+T29+W29 -> 0 | AA29: =D29+G29+J29+M29+P29+S29+V29+Y29 -> 0
A31: ServiceNow | D31: =B31*C31 -> 0 | G31: =E31*F31 -> 0 | J31: =H31*I31 -> 0 | M31: =K31*L31 -> 0 | P31: =N31*O31 -> 0 | S31: =Q31*R31 -> 0 | V31: =T31*U31 -> 0 | Y31: =W31*X31 -> 0 | Z31: =B31+E31+H31+K31+N31+Q31+T31+W31 -> 0 | AA31: =D31+G31+J31+M31+P31+S31+V31+Y31 -> 0
A33: webMethods (wM) | D33: =B33*C33 -> 0 | G33: =E33*F33 -> 0 | J33: =H33*I33 -> 0 | M33: =K33*L33 -> 0 | P33: =N33*O33 -> 0 | S33: =Q33*R33 -> 0 | V33: =T33*U33 -> 0 | Y33: =W33*X33 -> 0 | Z33: =B33+E33+H33+K33+N33+Q33+T33+W33 -> 0 | AA33: =D33+G33+J33+M33+P33+S33+V33+Y33 -> 0
A35: CentraSite Active SOA | D35: =B35*C35 -> 0 | G35: =E35*F35 -> 0 | J35: =H35*I35 -> 0 | M35: =K35*L35 -> 0 | P35: =N35*O35 -> 0 | S35: =Q35*R35 -> 0 | V35: =T35*U35 -> 0 | Y35: =W35*X35 -> 0 | Z35: =B35+E35+H35+K35+N35+Q35+T35+W35 -> 0 | AA35: =D35+G35+J35+M35+P35+S35+V35+Y35 -> 0
A37: Adobe Experience Manager | D37: =B37*C37 -> 0 | G37: =E37*F37 -> 0 | J37: =H37*I37 -> 0 | M37: =K37*L37 -> 0 | P37: =N37*O37 -> 0 | S37: =Q37*R37 -> 0 | V37: =T37*U37 -> 0 | Y37: =W37*X37 -> 0 | Z37: =B37+E37+H37+K37+N37+Q37+T37+W37 -> 0 | AA37: =D37+G37+J37+M37+P37+S37+V37+Y37 -> 0
... A77: Other Software - enter product name/description | D77: =B77*C77 -> 0 | G77: =E77*F77 -> 0 | J77: =H77*I77 -> 0 | M77: =K77*L77 -> 0 | P77: =N77*O77 -> 0 | S77: =Q77*R77 -> 0 | V77: =T77*U77 -> 0 | Y77: =W77*X77 -> 0 | Z77: =B77+E77+H77+K77+N77+Q77+T77+W77 -> 0 | AA77: =D77+G77+J77+M77+P77+S77+V77+Y77 -> 0
A79: Total Software Acquisition Costs | D79: =SUM(D14:D78) -> 0 | G79: =SUM(G14:G78) -> 0 | J79: =SUM(J14:J78) -> 0 | M79: =SUM(M14:M78) -> 0 | P79: =SUM(P14:P78) -> 0 | S79: =SUM(S14:S78) -> 0 | V79: =SUM(V14:V78) -> 0 | Y79: =SUM(Y14:Y78) -> 0 | AA79: =SUM(AA14:AA78) -> 0
A81: Proposed Software Maintenance Costs | R81: Optional Years
A83: COTS / Solution Software | D83: =B83*C83 -> 0 | G83: =E83*F83 -> 0 | J83: =H83*I83 -> 0 | M83: =K83*L83 -> 0 | P83: =N83*O83 -> 0 | S83: =Q83*R83 -> 0 | V83: =T83*U83 -> 0 | Y83: =W83*X83 -> 0 | Z83: =B83+E83+H83+K83+N83+Q83+T83+W83 -> 0 | AA83: =D83+G83+J83+M83+P83+S83+V83+Y83 -> 0
A85: Application Development Software | D85: =B85*C85 -> 0 | G85: =E85*F85 -> 0 | J85: =H85*I85 -> 0 | M85: =K85*L85 -> 0 | P85: =N85*O85 -> 0 | S85: =Q85*R85 -> 0 | V85: =T85*U85 -> 0 | Y85: =W85*X85 -> 0 | Z85: =B85+E85+H85+K85+N85+Q85+T85+W85 -> 0 | AA85: =D85+G85+J85+M85+P85+S85+V85+Y85 -> 0
A87: Application Middleware | D87: =B87*C87 -> 0 | G87: =E87*F87 -> 0 | J87: =H87*I87 -> 0 | M87: =K87*L87 -> 0 | P87: =N87*O87 -> 0 | S87: =Q87*R87 -> 0 | V87: =T87*U87 -> 0 | Y87: =W87*X87 -> 0 | Z87: =B87+E87+H87+K87+N87+Q87+T87+W87 -> 0 | AA87: =D87+G87+J87+M87+P87+S87+V87+Y87 -> 0
A89: Application Infrastruture Software | D89: =B89*C89 -> 0 | G89: =E89*F89 -> 0 | J89: =H89*I89 -> 0 | M89: =K89*L89 -> 0 | P89: =N89*O89 -> 0 | S89: =Q89*R89 -> 0 | V89: =T89*U89 -> 0 | Y89: =W89*X89 -> 0 | Z89: =B89+E89+H89+K89+N89+Q89+T89+W89 -> 0 | AA89: =D89+G89+J89+M89+P89+S89+V89+Y89 -> 0
A91: Document Capture Software | D91: =B91*C91 -> 0 | G91: =E91*F91 -> 0 | J91: =H91*I91 -> 0 | M91: =K91*L91 -> 0 | P91: =N91*O91 -> 0 | S91: =Q91*R91 -> 0 | V91: =T91*U91 -> 0 | Y91: =W91*X91 -> 0 | Z91: =B91+E91+H91+K91+N91+Q91+T91+W91 -> 0 | AA91: =D91+G91+J91+M91+P91+S91+V91+Y91 -> 0
A93: FileNet Software | D93: =B93*C93 -> 0 | G93: =E93*F93 -> 0 | J93: =H93*I93 -> 0 | M93: =K93*L93 -> 0 | P93: =N93*O93 -> 0 | S93: =Q93*R93 -> 0 | V93: =T93*U93 -> 0 | Y93: =W93*X93 -> 0 | Z93: =B93+E93+H93+K93+N93+Q93+T93+W93 -> 0 | AA93: =D93+G93+J93+M93+P93+S93+V93+Y93 -> 0
A95: CA's SiteMinder and IdentityMinder (IAM) | D95: =B95*C95 -> 0 | G95: =E95*F95 -> 0 | J95: =H95*I95 -> 0 | M95: =K95*L95 -> 0 | P95: =N95*O95 -> 0 | S95: =Q95*R95 -> 0 | V95: =T95*U95 -> 0 | Y95: =W95*X95 -> 0 | Z95: =B95+E95+H95+K95+N95+Q95+T95+W95 -> 0 | AA95: =D95+G95+J95+M95+P95+S95+V95+Y95 -> 0
A97: System Center Operations Manager (SCOM) | D97: =B97*C97 -> 0 | G97: =E97*F97 -> 0 | J97: =H97*I97 -> 0 | M97: =K97*L97 -> 0 | P97: =N97*O97 -> 0 | S97: =Q97*R97 -> 0 | V97: =T97*U97 -> 0 | Y97: =W97*X97 -> 0 | Z97: =B97+E97+H97+K97+N97+Q97+T97+W97 -> 0 | AA97: =D97+G97+J97+M97+P97+S97+V97+Y97 -> 0
A99: ServiceNow | D99: =B99*C99 -> 0 | G99: =E99*F99 -> 0 | J99: =H99*I99 -> 0 | M99: =K99*L99 -> 0 | P99: =N99*O99 -> 0 | S99: =Q99*R99 -> 0 | V99: =T99*U99 -> 0 | Y99: =W99*X99 -> 0 | Z99: =B99+E99+H99+K99+N99+Q99+T99+W99 -> 0 | AA99: =D99+G99+J99+M99+P99+S99+V99+Y99 -> 0
A101: webMethods (wM) | D101: =B101*C101 -> 0 | G101: =E101*F101 -> 0 | J101: =H101*I101 -> 0 | M101: =K101*L101 -> 0 | P101: =N101*O101 -> 0 | S101: =Q101*R101 -> 0 | V101: =T101*U101 -> 0 | Y101: =W101*X101 -> 0 | Z101: =B101+E101+H101+K101+N101+Q101+T101+W101 -> 0 | AA101: =D101+G101+J101+M101+P101+S101+V101+Y101 -> 0
A103: CentraSite Active SOA | D103: =B103*C103 -> 0 | G103: =E103*F103 -> 0 | J103: =H103*I103 -> 0 | M103: =K103*L103 -> 0 | P103: =N103*O103 -> 0 | S103: =Q103*R103 -> 0 | V103: =T103*U103 -> 0 | Y103: =W103*X103 -> 0 | Z103: =B103+E103+H103+K103+N103+Q103+T103+W103 -> 0 | AA103: =D103+G103+J103+M103+P103+S103+V103+Y103 -> 0
A105: Adobe Experience Manager | D105: =B105*C105 -> 0 | G105: =E105*F105 -> 0 | J105: =H105*I105 -> 0 | M105: =K105*L105 -> 0 | P105: =N105*O105 -> 0 | S105: =Q105*R105 -> 0 | V105: =T105*U105 -> 0 | Y105: =W105*X105 -> 0 | Z105: =B105+E105+H105+K105+N105+Q105+T105+W105 -> 0 | AA105: =D105+G105+J105+M105+P105+S105+V105+Y105 -> 0
... A127: Other Software - enter product name/description | D127: =B127*C127 -> 0 | G127: =E127*F127 -> 0 | J127: =H127*I127 -> 0 | M127: =K127*L127 -> 0 | P127: =N127*O127 -> 0 | S127: =Q127*R127 -> 0 | V127: =T127*U127 -> 0 | Y127: =W127*X127 -> 0 | Z127: =B127+E127+H127+K127+N127+Q127+T127+W127 -> 0 | AA127: =D127+G127+J127+M127+P127+S127+V127+Y127 -> 0
AA128: =D128+G128+J128+M128+P128+S128+V128+Y128 -> 0
A129: Other Software - enter product name/description | D129: =B129*C129 -> 0 | G129: =E129*F129 -> 0 | J129: =H129*I129 -> 0 | M129: =K129*L129 -> 0 | P129: =N129*O129 -> 0 | S129: =Q129*R129 -> 0 | V129: =T129*U129 -> 0 | Y129: =W129*X129 -> 0 | Z129: =B129+E129+H129+K129+N129+Q129+T129+W129 -> 0 | AA129: =D129+G129+J129+M129+P129+S129+V129+Y129 -> 0
...

Sheet Deliverables
A1: RFP # | B1: =Instructions!B1 -> 6100034489
A2: RFP Title | B2: =Instructions!B2 -> Department of Labor and Industry Unemployment Compensation Benefits Modernization (UC Ben Mod)
A3: Vendor Name | B3: =Instructions!B3 -> 0
A4: Deliverables Worksheet | C4: Cost by Year
A5: Deliverable | B5: Total Cost | C5: Base Year 1 | D5: Base Year 2 | E5: Base Year 3 | F5: Base Year 4 | G5: Base Year 5 | H5: Optional Year 6 | I5: Optional Year 7 | J5: Optional Year 8 | K5: RFP Reference
A6: Project Initiation and Planning | K6: IV-4.1
A7: Deliverable Approval Plan | B7: =SUM(C7:J7) -> 0 | C7: 0 | D7: 0 | E7: 0 | F7: 0 | G7: 0 | H7: 0 | I7: 0 | J7: 0
A8: Completion of Business Continuity Testing | B8: =SUM(C8:J8) -> 0 | C8: 0 | D8: 0 | E8: 0 | F8: 0 | G8: 0 | H8: 0 | I8: 0 | J8: 0
A9: Source Code Escrow Package | B9: =SUM(C9:J9) -> 0 | C9: 0 | D9: 0 | E9: 0 | F9: 0 | G9: 0 | H9: 0 | I9: 0 | J9: 0
A10: Inventory of Tools and Software | B10: =SUM(C10:J10) -> 0 | C10: 0 | D10: 0 | E10: 0 | F10: 0 | G10: 0 | H10: 0 | I10: 0 | J10: 0
A12: Subtotal | B12: =SUM(B6:B11) -> 0 | C12: =SUM(C6:C11) -> 0 | D12: =SUM(D6:D11) -> 0 | E12: =SUM(E6:E11) -> 0 | F12: =SUM(F6:F11) -> 0 | G12: =SUM(G6:G11) -> 0 | H12: =SUM(H6:H11) -> 0 | I12: =SUM(I6:I11) -> 0 | J12: =SUM(J6:J11) -> 0
A13: Requirements Validation and Management | K13: IV-4.2
A14: Requirements Traceability Matrix | B14: =SUM(C14:J14) -> 0 | C14: 0 | D14: 0 | E14: 0 | F14: 0 | G14: 0 | H14: 0 | I14: 0 | J14: 0
A15: Gap Analysis Report | B15: =SUM(C15:J15) -> 0 | C15: 0 | D15: 0 | E15: 0 | F15: 0 | G15: 0 | H15: 0 | I15: 0 | J15: 0
A16: Gap Analysis Plan | B16: =SUM(C16:J16) -> 0 | C16: 0 | D16: 0 | E16: 0 | F16: 0 | G16: 0 | H16: 0 | I16: 0 | J16: 0
A18: Subtotal | B18: =SUM(B13:B17) -> 0 | C18: =SUM(C13:C17) -> 0 | D18: =SUM(D13:D17) -> 0 | E18: =SUM(E13:E17) -> 0 | F18: =SUM(F13:F17) -> 0 | G18: =SUM(G13:G17) -> 0 | H18: =SUM(H13:H17) -> 0 | I18: =SUM(I13:I17) -> 0 | J18: =SUM(J13:J17) -> 0
A19: Solution Design | K19: IV-4.3
A20: Functional Design Specifications | B20: =SUM(C20:J20) -> 0 | C20: 0 | D20: 0 | E20: 0 | F20: 0 | G20: 0 | H20: 0 | I20: 0 | J20: 0
A21: System Design Specifications | B21: =SUM(C21:J21) -> 0 | C21: 0 | D21: 0 | E21: 0 | F21: 0 | G21: 0 | H21: 0 | I21: 0 | J21: 0
A23: Subtotal | B23: =SUM(B19:B22) -> 0 | C23: =SUM(C19:C22) -> 0 | D23: =SUM(D19:D22) -> 0 | E23: =SUM(E19:E22) -> 0 | F23: =SUM(F19:F22) -> 0 | G23: =SUM(G19:G22) -> 0 | H23: =SUM(H19:H22) -> 0 | I23: =SUM(I19:I22) -> 0 | J23: =SUM(J19:J22) -> 0
A24: Solution Configuration | K24: IV-4.4
A25: None | B25: =SUM(C25:J25) -> 0 | C25: 0 | D25: 0 | E25: 0 | F25: 0 | G25: 0 | H25: 0 | I25: 0 | J25: 0
A27: Subtotal | B27: =SUM(B24:B26) -> 0 | C27: =SUM(C24:C26) -> 0 | D27: =SUM(D24:D26) -> 0 | E27: =SUM(E24:E26) -> 0 | F27: =SUM(F24:F26) -> 0 | G27: =SUM(G24:G26) -> 0 | H27: =SUM(H24:H26) -> 0 | I27: =SUM(I24:I26) -> 0 | J27: =SUM(J24:J26) -> 0
A28: System Development | K28: IV-4.5
A29: Environment Configuration (Major Deliverable) | B29: =SUM(C29:J29) -> 0 | C29: 0 | D29: 0 | E29: 0 | F29: 0 | G29: 0 | H29: 0 | I29: 0 | J29: 0
A30: Delivery of PA DLI Custom Configuration and Code (Major Deliverable) | B30: =SUM(C30:J30) -> 0 | C30: 0 | D30: 0 | E30: 0 | F30: 0 | G30: 0 | H30: 0 | I30: 0 | J30: 0
A31: Deploy Releases to UAT Environment (Major Deliverable) | B31: =SUM(C31:J31) -> 0 | C31: 0 | D31: 0 | E31: 0 | F31: 0 | G31: 0 | H31: 0 | I31: 0 | J31: 0
A32: System Documentation | B32: =SUM(C32:J32) -> 0 | C32: 0 | D32: 0 | E32: 0 | F32: 0 | G32: 0 | H32: 0 | I32: 0 | J32: 0
A34: Subtotal | B34: =SUM(B28:B33) -> 0 | C34: =SUM(C28:C33) -> 0 | D34: =SUM(D28:D33) -> 0 | E34: =SUM(E28:E33) -> 0 | F34: =SUM(F28:F33) -> 0 | G34: =SUM(G28:G33) -> 0 | H34: =SUM(H28:H33) -> 0 | I34: =SUM(I28:I33) -> 0 | J34: =SUM(J28:J33) -> 0
A35: Release Management | K35: IV-4.6
A36: Post-Release Report(s) (per release) (Major Deliverable) | B36: =SUM(C36:J36) -> 0 | C36: 0 | D36: 0 | E36: 0 | F36: 0 | G36: 0 | H36: 0 | I36: 0 | J36: 0
A38: Subtotal | B38: =SUM(B35:B37) -> 0 | C38: =SUM(C35:C37) -> 0 | D38: =SUM(D35:D37) -> 0 | E38: =SUM(E35:E37) -> 0 | F38: =SUM(F35:F37) -> 0 | G38: =SUM(G35:G37) -> 0 | H38: =SUM(H35:H37) -> 0 | I38: =SUM(I35:I37) -> 0 | J38: =SUM(J35:J37) -> 0
A39: Data Conversion and Migration | K39: IV-4.7
A40: Conversion Test Results | B40: =SUM(C40:J40) -> 0 | C40: 0 | D40: 0 | E40: 0 | F40: 0 | G40: 0 | H40: 0 | I40: 0 | J40: 0
A41: Successful Execution of the Data Conversion and Migration Plan (Major Deliverable) | B41: =SUM(C41:J41) -> 0 | C41: 0 | D41: 0 | E41: 0 | F41: 0 | G41: 0 | H41: 0 | I41: 0 | J41: 0
A43: Subtotal | B43: =SUM(B39:B42) -> 0 | C43: =SUM(C39:C42) -> 0 | D43: =SUM(D39:D42) -> 0 | E43: =SUM(E39:E42) -> 0 | F43: =SUM(F39:F42) -> 0 | G43: =SUM(G39:G42) -> 0 | H43: =SUM(H39:H42) -> 0 | I43: =SUM(I39:I42) -> 0 | J43: =SUM(J39:J42) -> 0
A44: Testing | K44: IV-4.8
A45: Successful System and Component Integration Test Results | B45: =SUM(C45:J45) -> 0 | C45: 0 | D45: 0 | E45: 0 | F45: 0 | G45: 0 | H45: 0 | I45: 0 | J45: 0
A47: Subtotal | B47: =SUM(B44:B46) -> 0 | C47: =SUM(C44:C46) -> 0 | D47: =SUM(D44:D46) -> 0 | E47: =SUM(E44:E46) -> 0 | F47: =SUM(F44:F46) -> 0 | G47: =SUM(G44:G46) -> 0 | H47: =SUM(H44:H46) -> 0 | I47: =SUM(I44:I46) -> 0 | J47: =SUM(J44:J46) -> 0
A48: Implementation | K48: IV-4.9
...
