Workbook

Sheet Combined
A1: Desktop Thin Client | B1: Laptop Thin Client | D1: Requirements | E1: Standard PC with Monitor | F1: High End PC with Monitor | G1: Standard Notebook | H1: High End Notebook | I1: Ultrabook | J1: Ultrabook | K1: Rugged Notebook | L1: Rugged Notebook
A2: Desktop | B2: Laptop | C2: Chassis | D2: Form Factor | E2: Desktop or Smaller | F2: Desktop or Smaller | G2: Clamshell Notebook | H2: Clamshell Notebook | I2: Clamshell Notebook | J2: Convertible Notebook | K2: Clamshell Notebook | L2: Convertible Notebook
D3: Maximum Size | E3: 16.5 x 14.5 x 4.5 | F3: 16.5 x 14.5 x 4.5
D4: IP65 | K4: x | L4: x
D5: Mil-Std-810G | K5: x | L5: x
C6: Weight | D6: including standard battery | G6: none specified | H6: none specified | I6: none specified | J6: none specified | K6: none specified | L6: none specified
A7: none specified | B7: none specified | C7: Processor | D7: Processor Brand | E7: Intel | F7: Intel | G7: Intel | H7: Intel | I7: Intel | J7: Intel | K7: Intel | L7: Intel
A8: none specified | B8: none specified | D8: Minimum Processor Class | E8: Core i3 | F8: Core i5 | G8: Core i3 | H8: Core i5 | I8: Core i5 | J8: Core i5 | K8: Core i5 | L8: Core i5
A9: none specified | B9: none specified | D9: Minimum Base Processor Speed | E9: 3.1 GHz | F9: 3.1 GHz | G9: 2.3 GHz | H9: 2.5 GHz | I9: none specified | J9: none specified | K9: none specified | L9: none specified
A10: 512 MB | B10: 2 GB | C10: Memory and Storage | D10: Minimum Memory Size | E10: 4 GB | F10: 4 GB | G10: 4 GB | H10: 4 GB | I10: 4 GB | J10: 4 GB | K10: 4 GB | L10: 4 GB
D11: Minimum Hard Drive Capacity | E11: 500 GB | F11: 500 GB | G11: 500 GB | H11: 500 GB | K11: show baseline | L11: show baseline
D12: Minimum Solid State Drive | I12: 128 GB | J12: 128 GB | K12: show baseline | L12: show baseline
A13: 32 MB | B13: 2 GB flash or SSD | D13: Minimum Flash Memory
D14: Optical Drive Type | E14: DVD+/-RW | F14: DVD+/-RW | G14: DVD+/-RW | H14: DVD+/-RW
D15: Minimum Optical Drive Speed | E15: 16X | F15: 16X | G15: 8x | H15: 8x
A16: External | B16: Integrated | C16: Display | D16: Flat Panel Display | E16: External | F16: External | G16: Integrated | H16: Integrated | I16: Integrated | J16: Integrated | K16: Integrated | L16: Integrated
A17: 23 inch | B17: 14 inch | D17: Minimum Size | E17: 23 inch | F17: 23 inch | G17: 15.6 inch | H17: 15.6 inch | I17: 13 inch | J17: 11.6 inch | K17: 13 | L17: 10
A18: 1920 x 1080 | B18: none specified | D18: Minimum Resolution | E18: 1920 x 1080 | F18: 1920 x 1080 | G18: 1366x768 | H18: 1366x768 | I18: 1366x768 | J18: 1366x768 | K18: 1024x768 | L18: 1024x768
A19: x | D19: Tilt Capability | E19: x | F19: x
A20: x | D20: VGA Interface | E20: x | F20: x
A21: x | D21: DVI Interface | E21: x | F21: x
D22: DisplayPort Interface
A23: USB | B23: Integrated English | C23: Input Devices | D23: Keyboard | E23: USB | F23: USB | G23: Integrated English | H23: Integrated English | I23: Integrated English | J23: Integrated English | K23: Integrated English | L23: Integrated English
A24: USB 2-Button Optical w/Scroll | D24: Mouse | E24: USB 2-Button Optical w/Scroll | F24: USB 2-Button Optical w/Scroll
B25: x | D25: Touchpad | G25: x | H25: x | I25: x | J25: x | K25: x | L25: none specified
D26: Touchscreen | J26: x | K26: none specified | L26: x
A27: 4 | B27: 3 | C27: I/O | D27: Minimum total USB Ports | E27: 6 | F27: 6 | G27: 3 | H27: 3 | I27: 2 | J27: 2 | K27: 2 | L27: 2
A28: none specified | B28: 1 | D28: Minimum USB 3.0 Ports | E28: none specified | F28: 2 | G28: none specified | H28: 1 | I28: 1 | J28: 1 | K28: none specified | L28: none specified
A29: none specified | B29: show baseline | D29: VGA Port | E29: 1 | F29: 1 | G29: 1 | H29: 1 | I29: none specified | J29: none specified | K29: none specified | L29: none specified
A30: 1 | B30: show baseline | D30: DVI Port | E30: 1 | F30: 1 | G30: none specified | H30: none specified | I30: none specified | J30: none specified | K30: none specified | L30: none specified
A31: 1 | B31: show baseline | D31: DisplayPort
A32: 1 | B32: 1 | D32: RJ-45 Port | E32: 1 | F32: 1 | G32: 1 | H32: 1 | I32: none specified | J32: none specified | K32: 1 | L32: 1
A33: x | B33: x | D33: Audio In/Out Ports | E33: 1/1 | F33: 1/1 | G33: 1/1 | H33: 1/1 | I33: 1/1 | J33: 1/1 | K33: 1/1 | L33: 1/1
B34: none specified | D34: Mic | E34: 1 | F34: 1 | G34: Internal | H34: Internal | I34: Internal | J34: Internal | K34: Internal | L34: Internal
A35: 1 GB NIC | B35: 1 GB NIC | D35: LAN | E35: 1 GB NIC | F35: 1 GB NIC | G35: 1 GB NIC | H35: 1 GB NIC | I35: none specified | J35: none specified | K35: 1 GB NIC | L35: 1 GB NIC
B36: 802.11 n | D36: Wi-Fi | G36: 802.11 n | H36: 802.11 n | I36: 802.11 n | J36: 802.11 n | K36: 802.11 n | L36: 802.11 n
D37: Bluetooth | I37: version 4 | J37: version 4
B38: Internal | D38: Speakers | E38: Internal | F38: Internal | G38: Internal | H38: Internal | I38: Internal | J38: Internal | K38: Internal | L38: Internal
B39: 6-Cell Lithium Ion | C39: Power | D39: Minimum Battery | G39: 6-Cell Lithium Ion | H39: 6-Cell Lithium Ion | I39: no minimum capacity specified | J39: no minimum capacity specified | K39: no minimum capacity specified | L39: no minimum capacity specified
B40: x | D40: AC Adapter | G40: x | H40: x | I40: x | J40: x | K40: x | L40: x
...

Sheet Instructions
A1: Appendix A - Cost Submittal Instructions
A2: GENERAL INSTRUCTIONS FOR COMPLETING THIS WORKBOOK (Tab 1)
A3: The Cost Submittal Worksheets contained in this workbook shall constitute the Cost Submittal.
A4: COST SUBMITTAL SUMMARY (Tab 2)
A5: 1. Select the Summary Tab at the bottom of this page. 2. Complete the highlighted cells in the top portion of the form (all contact information). 3. All data entered on the Cost Submittal Worksheet will automatically populate into the Summary tab. 4. Services, Options, & Upgrades will not be evaluated, therefore will not appear on the Summary tab. The Bidder must provide a cost for each service, options, and upgrades. 5. Discount off of Optional Products will not be scored as a part of the cost evaluation.
A6: COST SUBMITTAL BREAKDOWN (Tab 3 through Tab 7)
A7: 1. Please review every tab in this cost submittal. 2. The OEM must be the same for all 4 workstations. 3. Any bid submitted containing a workstation that does not meet or exceed the minimum configuration requirements may result in the bid being rejected. 4. Cells that are highlighted in yellow must be completed in order to provide the equipment/service requested. The Proposed Model and Proposed Option, Columns (D) must be completed with detail of how the Bidder's device meets or exceeds the miniumum requirements, an "X" or any other form of confirmation is not acceptable as a response. 5. If the model can be upgraded to the optional capability, under "Options" enter the available configuration in the "Proposed Option" column(s), enter the purchase price, monthly lease price, and total lease price for the option. 6. If the model already includes the optional capability in the base model price, under "Options" enter "Included" in the appropriate "Proposed Option" column(s). 7. If the model cannot be upgraded to the optional capability, under "Options" enter "Not available" in the appropriate "Proposed Option" column(s). 8. The Bidder must be able to provide a price in each cell of the Base Workstation Models. If the price is left blank, a zero dollar amount will be calculated. 9. Services, Options, & Upgrades will not be evaluated in the total cost summary. The Bidder must provide a cost for each services, options, & upgrades. Addtionally, the bidder has the option to include Miscellaneous Options & Upgrades. 10. Discount off of Optional Services will not be scored as a part of the cost evaluation. **Formulas are embedded within the worksheets, do not attempt to unlock cells. Any estimates provided within this appendix are not a guarantee of equipment/service to be performed and/or payment under the contract resulting from this IFB.
A8: NOTES:
A9: • Pricing data is defined as any information related to, directly or indirectly, the Bidder’s proposed charges for services and deliverables. Pricing data consists of, but is not limited to, costs, fees, prices, rates, bonuses, discounts, rebates, or the identification of free services, labor or materials. • The cost submittal must be submitted as presented by the Commonwealth and should not be altered in any way. • Bidder shall submit only 1 cost submittal for this IFB. • Unless the Bidder is the OEM, Bidder must provide a current LOA for the OEM for which a bid is submitted. The LOA must be on OEM letterhead and must be dated no earlier than 6 months prior to the opening date of the bid.

Sheet Summary
A1: Appendix A, Cost Submittal
A2: Commonwealth of Pennsylvania
A3: Computer-Aided Drafting and Design (CADD) - 6100063324
A4: Bidder Contact Information
A5: BIDDER NAME | B5: CONTACT PERSON
A7: BIDDER ADDRESS | B7: EMAIL ADDRESS
B9: PHONE NUMBER
B11: SAP VENDOR NUMBER (IF AVAILABLE)
B13: FEDERAL TAX ID
A16: Cost Evalution
A17: Workstation 1 | B17: =SUM('Workstation 1 '!E2*25)+('Workstation 1 '!F2*25*36) -> 0
A18: Workstation 2 | B18: =SUM('Workstation 2 '!E2*25)+('Workstation 2 '!F2*25*36) -> 0
A19: Workstation 3 (Mobile) | B19: =SUM('Mobile Workstation 3'!E2*25)+('Mobile Workstation 3'!F2*25*36) -> 0
A20: Workstation 4 (Mobile) | B20: =SUM('Mobile Workstation 4'!E2*25)+('Mobile Workstation 4'!F2*25*36) -> 0
A21: Optional Services (not evaluated) | B21: n/a
A22: Total Cost for Evaluation Purposes for the 3 year Base Contract Term | B22: =SUM(B17:B20) -> 0

Sheet Workstation 1  
A1: Appendix A- Workstation 1 Requirements | C1: Requirements for | D1: Proposed Model and Capability | E1: Purchase Cost | F1: Monthly Lease Cost | G1: Total Lease Cost (48 month term)
C2: Workstation 1 with Monitor | G2: =F2*48 -> 0
A3: Chassis | B3: =Combined!$D2 -> Form Factor | C3: Desktop-MiniTower
A4: Processor | B4: =Combined!$D7 -> Processor Brand | C4: Intel
B5: =Combined!$D8 -> Minimum Processor Class | C5: Ultra 7
B6: =Combined!$D9 -> Minimum Base Processor Speed | C6: 1.7GHz
A7: Memory and Storage | B7: =Combined!$D10 -> Minimum Memory Size | C7: 16GB DDR5 5600 MHz
B8: =Combined!$D11 -> Minimum Hard Drive Capacity | C8: 512 SSD
A9: Input Devices | B9: =Combined!$D23 -> Keyboard | C9: USB Multimedia
B10: =Combined!$D24 -> Mouse | C10: Full sized, laser USB mouse two buttons with scroll wheel
A11: I/O | B11: =Combined!$D27 -> Minimum total USB Ports | C11: 6
B12: =Combined!$D28 -> Minimum USB 3.0 Ports | C12: 4 (2 Front Mount)
B13: Minimum USB 3.1 Type-C | C13: 2
B14: =Combined!$D32 -> RJ-45 Port | C14: 1
B15: =Combined!$D33 -> Audio In/Out Ports | C15: 1/1
B16: =Combined!$D34 -> Mic | C16: 1
B17: =Combined!$D35 -> LAN | C17: 1 GB NIC
A18: Other | B18: =Combined!$D41 -> Operating System | C18: Windows 11 Pro 64-bit
B19: =Combined!$D42 -> Video/Graphics Card | C19: Nvidia ISV Cerified Card (8GB)
B20: Chipset | C20: W880
B21: Certification | C21: Please list all Independent Software Vendor (ISV) certifications for proposed machine.
B22: =Combined!$D43 -> Sound Card | C22: Integrated
B23: =Combined!$D45 -> EPEAT Silver | C23: Meet or exceed
B24: =Combined!$D46 -> Energy Star | C24: Meet or exceed
B25: =Combined!$D47 -> Warranty | C25: 4 Year on-site
B26: =Combined!$D48 -> Service | C26: On-site service. 12 business-hour response, second business-day fix
A27: Display | B27: Flat Panel Display | C27: External
B28: Minim Size | C28: 24 inch
B29: Minimum Resolution | C29: 1920 x 1080
B30: Tilt Capability | C30: Yes
B31: DP Interface | C31: 1 minimum
B32: DVI Interface | C32: 1 minimum
A34: Options Workstation 1 | D34: Proposed Option | E34: Purchase Cost | F34: Monthly Lease Cost | G34: Total Lease Cost (48mo)
A35: CPU | C35: Intel Ultra 9 | E35: 0 | F35: 0 | G35: =F35*48 -> 0
A36: Memory | C36: 32GB DDR5, 5600 mhz | G36: =F36*48 -> 0
A37: Hard Drive | C37: 1TB SSD | G37: =F37*48 -> 0
A38: CD/DVD | C38: 16x CD/DVD RW | G38: =F38*48 -> 0
A39: Warranty | C39: 5th year of on-site warranty | G39: =F39*48 -> 0

Sheet Workstation 2 
A1: Appendix A- Workstation 2 Requirements | C1: Requirements for | D1: Proposed Model and Capability | E1: Purchase Cost | F1: Monthly Lease Cost | G1: Total Lease Cost (48 month term)
C2: Workstation 2 with Monitor | G2: =F2*48 -> 0
A3: Chassis | B3: =Combined!$D2 -> Form Factor | C3: Desktop-MiniTower
A4: Processor | B4: =Combined!$D7 -> Processor Brand | C4: Intel
B5: =Combined!$D8 -> Minimum Processor Class | C5: Ultra 7
B6: =Combined!$D9 -> Minimum Base Processor Speed | C6: 3.7 GHz
A7: Memory and Storage | B7: =Combined!$D10 -> Minimum Memory Size | C7: 32GB DDR5, 5600 MHz
B8: =Combined!$D11 -> Minimum Hard Drive Capacity | C8: 1TB M.2 PCIe
A9: Input Devices | B9: =Combined!$D23 -> Keyboard | C9: USB Multimedia
B10: =Combined!$D24 -> Mouse | C10: Full sized, laser USB mouse two buttons with scroll wheel
A11: I/O | B11: =Combined!$D27 -> Minimum total USB Ports | C11: 6
B12: =Combined!$D28 -> Minimum USB 3.0 Ports | C12: 4 (2 Front Mount)
B13: Minimum USB 3.1 Type-C | C13: 2
B14: =Combined!$D32 -> RJ-45 Port | C14: 1
B15: =Combined!$D33 -> Audio In/Out Ports | C15: 1/1
B16: =Combined!$D34 -> Mic | C16: 1
B17: =Combined!$D35 -> LAN | C17: 1 GB NIC
A18: Other | B18: =Combined!$D41 -> Operating System | C18: Windows 11 Pro 64 bit
B19: =Combined!$D42 -> Video/Graphics Card | C19: Nvidia ISV Cerified Card (12GB)
B20: Chipset | C20: W880
B21: Certification | C21: Please list all Independent Software Vendor (ISV) certifications for proposed machine.
B22: =Combined!$D43 -> Sound Card | C22: Integrated
B23: =Combined!$D45 -> EPEAT Silver | C23: Meet or exceed
B24: =Combined!$D46 -> Energy Star | C24: Meet or exceed
B25: =Combined!$D47 -> Warranty | C25: 4 Year on-site
B26: =Combined!$D48 -> Service | C26: On-site service. 12 business-hour response, second business-day fix
A27: Display | B27: Flat Panel Display | C27: External
B28: Minim Size | C28: 24 inch
B29: Minimum Resolution | C29: 1920 x 1080
B30: Tilt Capability | C30: Yes
B31: DP Interface | C31: 1 minimum
B32: HDMI Interface | C32: 1 minimum
A34: Options Workstation 2 | D34: Proposed Option | E34: Purchase Cost | F34: Monthly Lease Cost | G34: Total Lease Cost (48mo)
A35: CPU | C35: Ultra 9 | G35: =F35*48 -> 0
A36: Memory | C36: 64GB DDR5 5600 MHz | G36: =F36*48 -> 0
A37: Memory | C37: 128GB DDR5 5600 MHz | G37: =F37*48 -> 0
A38: Hard Drive | C38: 2TB M.2 PCIe | G38: =F38*48 -> 0
A39: CD/DVD | C39: 16x CD/DVD RW | G39: =F39*48 -> 0
A40: Warranty | C40: 5th year of on-site warranty | E40: 0 | F40: 0 | G40: =F40*48 -> 0

Sheet Mobile Workstation 3
A1: Appendix A- Workstation 3 Requirements | C1: Requirements for | D1: Proposed Model and Capability | E1: Purchase Cost | F1: Monthly Lease Cost | G1: Total Lease Cost (48 month term)
C2: Workstation 3 with Monitor | G2: =F2*48 -> 0
A3: Chassis | B3: =Combined!$D2 -> Form Factor | C3: 16" Mobile Workstation
B4: =Combined!$D3 -> Maximum Size | C4: 15.5 x 11 x 1.5
A5: Processor | B5: =Combined!$D7 -> Processor Brand | C5: Intel
B6: =Combined!$D8 -> Minimum Processor Class | C6: Ultra 7
B7: =Combined!$D9 -> Minimum Base Processor Speed | C7: 1.7 GHz
A8: Memory and Storage | B8: =Combined!$D10 -> Minimum Memory Size | C8: 16GB DDR5 5600 MHz
B9: =Combined!$D11 -> Minimum Hard Drive Capacity | C9: 256 SSD
A10: Input Devices | B10: =Combined!$D23 -> Keyboard | C10: Backlit
B11: Trackpad/Pointer | C11: Built in
A12: I/O | B12: =Combined!$D28 -> Minimum USB 3.0 Ports | C12: 3
B13: Minimum Thunderbolt Ports | C13: Minimum 1
B14: HDMI Port | C14: 1
B15: =Combined!$D32 -> RJ-45 Port | C15: 1
B16: =Combined!$D33 -> Audio In/Out Ports | C16: 1/1 or combo
B17: =Combined!$D34 -> Mic | C17: 1
B18: Wireless | C18: Intel® Wi-Fi 7 BE200, 2x2, 802.11be, MU-MIMO, Bluetooth® wireless card
B19: =Combined!$D35 -> LAN | C19: 1 GB NIC
B20: =Combined!$D38 -> Speakers | C20: Internal
A21: Other | B21: =Combined!$D41 -> Operating System | C21: Windows 11 Pro 64-bit
B22: =Combined!$D42 -> Video/Graphics Card | C22: Nvidia Quadro P1000 4GB Intel® Arc™ Pro Graphics
B23: Certification | C23: Please list all Independent Software Vendor (ISV) certifications for proposed machine.
B24: =Combined!$D43 -> Sound Card | C24: Integrated
B25: =Combined!$D45 -> EPEAT Silver | C25: Meet or exceed
B26: =Combined!$D46 -> Energy Star | C26: Meet or exceed
B27: Webcam | C27: 1080p
B28: =Combined!$D47 -> Warranty | C28: 4 Year on-site
B29: =Combined!$D48 -> Service | C29: On-site service. 12 business-hour response, second business-day fix
A30: Display | B30: Flat Panel Display | C30: Internal
B31: Minim Size | C31: 15 inch
B32: Minimum Resolution | C32: 1920 x 1080
A34: Options Mobile Workstation 3 | D34: Proposed Option | E34: Purchase Cost | F34: Monthly Lease Cost | G34: Total Lease Cost (48mo)
A35: CPU | C35: Ultra 7 up to 4.8 GHz | G35: =F35*48 -> 0
A36: Memory | C36: Up to 64GB DDR5-5600 | G36: =F36*48 -> 0
A37: Hard Drive | C37: Up to 1TB SSD | G37: =F37*48 -> 0
A38: Network | C38: LTE WWAN Card - non-carrier specific | G38: =F38*48 -> 0
A39: Video Card | C39: NVIDIA® RTX™ 2000 Ada 8GB GDDR6 | G39: =F39*48 -> 0
A40: Monitor | C40: 27" monitor (1920 x 1080) | G40: =F40*48 -> 0
A41: Monitor | C41: 32" Monitor (4K) | G41: =F41*48 -> 0
...

Sheet Mobile Workstation 4
A1: Appendix A- Workstation 4 Requirements | C1: Requirements for | D1: Proposed Model and Capability | E1: Purchase Cost | F1: Monthly Lease Cost | G1: Total Lease Cost (48 month term)
C2: Workstation 4 with Monitor | G2: =F2*48 -> 0
A3: Chassis | B3: =Combined!$D2 -> Form Factor | C3: 17" Mobile Workstation
B4: =Combined!$D3 -> Maximum Size | C4: 17 x 12 x 2
A5: Processor | B5: =Combined!$D7 -> Processor Brand | C5: Intel
B6: =Combined!$D8 -> Minimum Processor Class | C6: Ultra 7
B7: =Combined!$D9 -> Minimum Base Processor Speed | C7: 1.7GHZ
A8: Memory and Storage | B8: =Combined!$D10 -> Minimum Memory Size | C8: 32GB DDR5 5600 MHz
B9: =Combined!$D11 -> Minimum Hard Drive Capacity | C9: 1TB SSD
A10: Input Devices | B10: =Combined!$D23 -> Keyboard | C10: Backlit
B11: Trackpad/Touchpad | C11: Built in
A12: I/O | B12: =Combined!$D28 -> Minimum USB 3.0 Ports | C12: 3
B13: Minimum Thunderbolt Ports | C13: 2
B14: HDMI Port | C14: 1
B15: =Combined!$D32 -> RJ-45 Port | C15: 1
B16: =Combined!$D33 -> Audio In/Out Ports | C16: 1/1 or combo
B17: =Combined!$D34 -> Mic | C17: 1
B18: Wireless | C18: Intel® Wi-Fi 7 BE200, 2x2, 802.11be, MU-MIMO, Bluetooth® wireless card
B19: =Combined!$D35 -> LAN | C19: 1 GB NIC
B20: =Combined!$D38 -> Speakers | C20: Internal
A21: Other | B21: =Combined!$D41 -> Operating System | C21: Windows 11 Pro 64-bit
B22: =Combined!$D42 -> Video/Graphics Card | C22: Nvidia Quadro P3200 6GB NVIDIA® RTX™ 2000 Ada, 8 GB GDDR6
B23: Certification | C23: Please list all Independent Software Vendor (ISV) certifications for proposed machine.
B24: =Combined!$D43 -> Sound Card | C24: Integrated
B25: =Combined!$D45 -> EPEAT Silver | C25: Meet or exceed
B26: =Combined!$D46 -> Energy Star | C26: Meet or exceed
B27: Webcam | C27: 1080p
B28: =Combined!$D47 -> Warranty | C28: 4 Year on-site
B29: =Combined!$D48 -> Service | C29: On-site service. 12 business-hour response, second business-day fix
A30: Display | B30: Flat Panel Display | C30: Internal
B31: Minimum Size | C31: 15 inch
B32: Minimum Resolution | C32: 1920 x 1080
A34: Options Mobile Workstation 4 | D34: Proposed Option | E34: Purchase Cost | F34: Monthly Lease Cost | G34: Total Lease Cost (48mo)
A35: CPU | C35: 13th Gen Intel® Core™ i9-13950HX | E35: 0 | F35: 0 | G35: =F35*48 -> 0
A36: Memory | C36: 64GB DDR5 5600 MHz | E36: 0 | F36: 0 | G36: =F36*48 -> 0
A37: Hard Drive | C37: 2TB SSD | E37: 0 | F37: 0 | G37: =F37*48 -> 0
A38: Network | C38: LTE WWAN Card - non-carrier specific | E38: 0 | F38: 0 | G38: =F38*48 -> 0
A39: Laptop Display | C39: UHD Display Panel | E39: 0 | F39: 0 | G39: =F39*48 -> 0
A40: Video Card | C40: NVIDIA RTX™ 3500 Ada 12GB GDDR6 | E40: 0 | F40: 0 | G40: =F40*48 -> 0
A41: Video Card | C41: NVIDIA RTX™ 4000 Ada 12GB GDDR6 | E41: 0 | F41: 0 | G41: =F41*48 -> 0
...

Sheet Services, Options, & Upgrades
A1: Optional Services
B2: Measure | C2: Cost Per Unit (Purchase)
A3: Installation | B3: Per Machine
A4: Onsite Image Deployment | B4: Per Machine
A5: Offsite Image Development | B5: Per Machine
A6: Onsite Asset Tagging | B6: Per Machine
A7: Offsite Asset Tagging | B7: Per Machine
A8: Bundle - Install, Image Deploy, Tag | B8: Per Machine
A9: Data Transfer | B9: Per 10 GB
A10: On-premise Disk Wipe | B10: Per Machine
A11: Off-premise Disk Wipe | B11: Per Machine
A12: Preparation for shipment | B12: Per Machine
A13: Relocation in same building | B13: Per Machine
A14: Relocation within 25 miles | B14: Per Machine
... A16: Transport to DGS Warehouse | B16: Per Machine
A17: Note: Service costs will not be scored as a part of the cost evaluation.
A19: Additional Upgrades/Options | D19: Minimum Catalog Discount off of List Price
A20: WIRELESS CARD 802.11 DUAL BAND AC+Blue Tooth 4.0
A21: Nvidia GeForce RTX 5060 (8GB)
A22: Nvidia GeForce RTX 5060 Ti (8GB)
A23: Nvidia GeForce RTX 5060 Ti (16GB)
A24: Nvidia GeForce RTX 5070 (12GB)
A25: Nvidia GeForce RTX 5070 Ti (16GB)
A26: Nvidia GeForce RTX 5080 (16GB)
A27: Nvidia GeForce RTX 5090 (32GB)
A28: 27" monitor (1920 x 1080)
A29: 32" Monitor (4K)
A30: 43" monitor (4K)
A31: All other additional upgrades/options/catalog items
A32: Note: Discount off of Additonal Upgrades/Optional Products will not be scored as a part of the cost evaluation.
A34: Miscellaneous Options & Upgrades | B34: Measure | C34: SKU | D34: Cost Per Unit (Purchase)
