Workbook

Sheet Instructions - READ ME
A1: INSTRUCTIONS
A2: GENERAL INSTRUCTIONS FOR COMPLETING THIS WORKBOOK
A3: The Cost Submittal Worksheets contained in this workbook shall constitute the Cost Submittal. This portion of the proposal must be bound and sealed separately from the remainder of the proposal and clearly labeled “Cost Submittal.” All costs submitted must be inclusive of any overhead, travel, subsistence, supplies and other expenses. The selected Offeror will only be reimbursed for the charges as outlined in the Cost Submittal (Appendix E). Monthly payments will be made in the amount of 1/12th of the total annual costs for each of the categories (PSSA/Keystone/CDT). For the two categories (1. Production, Manufacturing, Shipping and Distribution & 2. Receiving, Scanning, Editing and Scoring) under PSSA & Keystone, an end of year reconciliaition will be conducted by PDE (as outlined in the appropriate worksheets Tab 2A. PSSA Production Detail, Tab 2B. PSSA Receiving Detail, Tab 3A. Keystone Production Detail & Tab 3B. Keystone Production Detail). If the selected offeror exceeds the number of test administrations estimated in the above worksheets, the selected offeror will be reimbursed for the difference. If the selected offeror administers less tests than what was estimated in the worksheets, then the Commonwealth will be reimbursed for the difference.
A4: COST SUBMITTAL OVERVIEW (tab 1 of this workbook)
A5: 1. Select the Cost Submittal Overview Tab at the bottom of this page. 2. Complete the top portion of the form to include all contact information. NOTE: The information you supply here must match the information you provided to Vendor Registration. 3. This tab requires no entry of cost data. All data entered on the Cost Submittal Tabs for PSSA, Keystone & CDT (tabs 2-4) will automatically populate on this tab. 4. The Cost Submittal will be evaluated based on the total development and administration of the PSSA, Keystone & CDT for the inital term of the Contract (5 1/2 Years).
A6: COST SUBMITTAL BREAKDOWN FOR PSSA, KEYSTONE AND CDT (tabs 2-4 of this workbook)
A7: Offerors must enter a single blended rate in the cells (yellow highlighted cells) for each of the task listed for the development and administration of the PSSA, Keystone and CDT as outlined in this workbook. On the PSSA & Keystone, there are two categories (1. Production, Manufacturing, Shipping and Distribution & 2. Receiving, Scanning, Editing and Scoring) where a single blended rate may not be entered (non-highlighted cells) on the main cost worksheet (Tab 2. PSSA Dev. & Admin and Tab 3. Keystone Dev. & Admin). For these two categories, the Offeror must fill-out the appropriate per unit worksheet as outlined below: 1. Tab 2A. PSSA Production Detail & Tab 2B. PSSA Receiving Detail 2. Tab 3A. Keystone Production Detail & Tab 3B. Keystone Receiving Detail Once the per unit blended rate is entered in the appropriate worksheet/highlighted cells, the total cost of the test administration will automatically populate to the appropriate cost worksheet (Tab 2. PSSA Dev. & Admin OR Tab 3. Keystone Dev. & Admin). Blended Rates may only be entered in the “yellow highlighted cells” and shall include all costs to develop and administer each of the exams as outlined in the RFP. **Any figures presented in the RFP are based on historical usage and may fluctuate based on future needs. All costs will remain in effect for the term of the contract (5 1/2 Years).**
A8: COST SUBMITTAL BREAKDOWN FOR OPTIONAL SERVICES (tabs 5-8 of this workbook).
A9: The following services listed in this workbook are Optional (refer to Part IV-6 of the RFP): Option 1 - English Composition Option 2 - Civics & Government Exams Option 3 - Peformance Assessments (PA) Option 4 - Expansion of CDT to include Kindergarten through Grade 2. Currently, funding is not available for these services. In the event funding becomes available in the future, the Commonwealth may elect to incorporate select options into the contract. The cost for optional services submitted in the Optional Services Tab of Appendix E - Cost Submittal will not be included as part of the cost evaluation for this RFP. The Optional Services Tab costs will, however, be discussed and negotiated during contract negotiations with the Selected Offeror in order to establish the cost to be charged for any optional services that might ultimately be utilized. In the event the Commonwealth decides to utilize an optional service after the Contract has been executed, an amendment will be processed to implement the optional service at the price that will have been established during contract negotiations. If an Offeror elects to provide pricing for the Optional Services, Offerors must enter a single blended rate for each of the task listed for the development and administration of the respective Optional Service of this workbook). Blended Rates may only be entered in the “yellow highlighted cells” and shall include all costs to develop and administer each of the exams as outlined in the RFP. **Any figures presented in the RFP are based on historical usage and may fluctuate based on future needs.**
A10: Note:
A11: Do not include any pricing data in any portion of the Technical Submittal. Pricing data is defined as any information related to, directly or indirectly, the Offeror's proposed charges for services and deliverables. Pricing data consists of, but is not limited to, costs, fees, prices, rates, bonuses, discounts, rebates, or the identification of free services, labor or materials. The cost submittal must be submitted as presented by the Commonwealth and should not be altered in any way. Do not include any reiteration of the technical proposal in the cost submittal

Sheet 1. Cost Submittal Overview
A1: APPENDIX E COST SUBMITTAL WORKSHEET RFP 6100032526
A2: OFFEROR NAME | C2: CONTACT PERSON
A4: OFFEROR ADDRESS | C4: EMAIL ADDRESS
C6: PHONE NUMBER | D6: FAX NUMBER
C8: VENDOR NUMBER | D8: FEDERAL ID OR SSN
A10: COST SUMMARY
A11: TOTAL 5 1/2 -YEAR COST FOR DEVELOPMENT AND ADMINISTRATION OF THE PSSA, KEYSTONE AND CDT
A12: PSSA | B12: =+'2. PSSA Dev. & Admin.'!C13 -> 0
A13: KEYSTONE | B13: =+'3. Keystone Dev. & Admin.'!C13 -> 0
A14: CDT | B14: =+'4. CDT Dev. & Admin.'!C13 -> 0
A15: TOTAL COST | B15: =SUM(B12:C14) -> 0

Sheet 2. PSSA Dev. & Admin.
A1: PENNSYLVANIA SYSTEM OF SCHOOL ASSESSMENT (PSSA) - DEVELOPMENT AND ADMINISTRATION
A2: Tasks | B2: January 1, 2016 - June 30, 2016 | C2: July 1, 2016 - June 30, 2017 | D2: July 1, 2017 - June 30, 2018 | E2: July 1, 2018 - June 30, 2019 | F2: July 1, 2019 - June 30, 2020 | G2: July 1, 2020 - June 30, 2021
A3: Project Management - including, but not limited to: Program Director, Project Manager, Program Administrator/Coordinator, Toll Free Support Line, Customer Service, Web/Email Support Line, Center for Assessement Subcontract, Assessment Update Bulletins, Training Activities, QA eTesting, General QA Testing, Development Travel, Program Management Travel, Meetings, Transition Related Activities
A4: Information Technology/ Test Delivery System (CBTs) - including, but not limited to: Online Order and Inventory System, File Linkage, Item Banking and Transfer of all items into New Bank, Report Design and Programming, Reporting System Maintenance, Systems Operation and Maintenance, Set Up Costs, Annaul Fixed Costs, Per Student Fees, Tests System Maintenance and Support, Transition Related Activities
A5: Test Development - including, but not limited to: Test Design, Item Development, Forms Construction, Item Copyright, Item Scoring Guide, Item Review Meeting Prep Time, Translations, Transition Related Activities
A6: Psychometrics - including, but not limited to: Linking Studies, Third Party Equating Check/Verification, Validity Studies, Alignment Studies, Data Foresensics, Technical Report, Work Associated with Standard Setting Meetings (exclude travel), Validation, Transition Related Activities
A7: Production, Manufacturing, Shipping and Distribution - including, but not limited to: Accommodations, Design and Composition, Print and Binding, Freight, Warehouse/Distribution, Pre-ID Labels, Item and Scoring Samplers, One Page Sheets for Math Formulas and Open Ended Item Scoring Guidelines, Test Administrator Training Manual, All Other Manuals (including Spanish), Modified Ancillaries for Special Populations, Large Print/Braille - Composition and Printing, Large Print/Braille - Other, Itemand scoring samplers in Braille, Transition Related Activities | C7: =+'2A. PSSA Production Detail'!I24 -> 0 | D7: =+'2A. PSSA Production Detail'!L24 -> 0 | E7: =+'2A. PSSA Production Detail'!O24 -> 0 | F7: =+'2A. PSSA Production Detail'!R24 -> 0 | G7: =+'2A. PSSA Production Detail'!U24 -> 0
A8: Receiving, Scanning, Editing and Scoring - including, but not limited to: Receiving/Staging, Scanning, Editing, Supplier Scoring ECR, Supplier Scoring SCR, Supplier Scoring Management Labor, Facilities and Equipment Rental, Transition Related Activities | C8: =+'2B. PSSA Receiving Detail'!I26 -> 0 | D8: =+'2B. PSSA Receiving Detail'!L26 -> 0 | E8: =+'2B. PSSA Receiving Detail'!O26 -> 0 | F8: =+'2B. PSSA Receiving Detail'!R26 -> 0 | G8: =+'2B. PSSA Receiving Detail'!U26 -> 0
A9: Reporting - including, but not limited to: Report Printing and Delivery, On-line Reporting, On-Line Reports Preparation, Data Query and Reporting Tool, Production of Student Data Files, Management Reports, Transition Related Activities
A11: Yearly Total for PSSA Development and Administration (Excludes any Optional Services) | B11: =SUM(B3:B9) -> 0 | C11: =SUM(C3:C9) -> 0 | D11: =SUM(D3:D9) -> 0 | E11: =SUM(E3:E9) -> 0 | F11: =SUM(F3:F9) -> 0 | G11: =SUM(G3:G9) -> 0
A13: Total 5 1/2 -Year Costs for PSSA Development and Administration (Excludes any Optional Services) | C13: =SUM(B11:G11) -> 0
A14: **Any figures presented in the RFP are based on historical usage and may fluctuate based on future needs. All costs will remain in effect for the term of the contract (5 1/2 years).**
A15: ***Fiscal Year runs July 1 - June 30***

Sheet 2A. PSSA Production Detail
C3: Unit Cost Submittal - PSSA Production, Manufacturing, Shipping and Distribution | Y3: Annual Reconciliation - PSSA Production, Manufacturing, Shipping and Distribution (To be performed by PDE at the end of each fiscal year)
G5: Fiscal Year 2016-2017 | J5: Fiscal Year 2017-2018 | M5: Fiscal Year 2018-2019 | P5: Fiscal Year 2019-2020 | S5: Fiscal Year 2020-2021 | AC5: Fiscal Year 2016-2017 | AG5: Fiscal Year 2017-2018 | AK5: Fiscal Year 2018-2019 | AO5: Fiscal Year 2019-2020 | AS5: Fiscal Year 2020-2021
F6: UOM | G6: Estimated Volume | H6: Unit Price | I6: Total Cost | J6: Estimated Volume | K6: Unit Price | L6: Total Cost | M6: Estimated Volume | N6: Unit Price | O6: Total Cost | P6: Estimated Volume | Q6: Unit Price | R6: Total Cost | S6: Estimated Volume | T6: Unit Price | U6: Total Cost | AB6: UOM | AC6: Estimated Volume | AD6: Actual Volume | AE6: Unit Price | AF6: Amount / (Credit) Due | AG6: Estimated Volume | AH6: Actual Volume | AI6: Unit Price | AJ6: Amount / (Credit) Due | AK6: Estimated Volume | AL6: Actual Volume | AM6: Unit Price | AN6: Amount / (Credit) Due | AO6: Estimated Volume | AP6: Actual Volume | AQ6: Unit Price | AR6: Amount / (Credit) Due | AS6: Estimated Volume | AT6: Actual Volume | AU6: Unit Price | AV6: Amount / (Credit) Due
C7: Grades 3-8 | Y7: Grades 3-8
D8: Math tests | Z8: Math tests
E9: Standard | F9: Per Test | G9: 950400 | I9: =ROUND(+$G9*H9,2) -> 0 | J9: 940500 | L9: =ROUND(+$J9*K9,2) -> 0 | M9: 920700 | O9: =ROUND(+$M9*N9,2) -> 0 | P9: 891000 | R9: =ROUND(+$P9*Q9,2) -> 0 | S9: 871200 | U9: =ROUND(+$S9*T9,2) -> 0 | AA9: Standard | AB9: Per Test | AC9: =+G9 -> 950400 | AE9: =+H9 -> 0 | AF9: =ROUND((+AD9-$AC9)*AE9,2) -> 0 | AG9: 940500 | AI9: =+K9 -> 0 | AJ9: =ROUND((+AH9-$AG9)*AI9,2) -> 0 | AK9: 920700 | AM9: =+N9 -> 0 | AN9: =ROUND((+AL9-$AK9)*AM9,2) -> 0 | AO9: 891000 | AQ9: =+Q9 -> 0 | AR9: =ROUND((+AP9-$AO9)*AQ9,2) -> 0 | AS9: 871200 | AU9: =+T9 -> 0 | AV9: =ROUND((+AT9-$AS9)*AU9,2) -> 0
E10: Large Print | F10: Per Test | G10: 778 | I10: =ROUND(+$G10*H10,2) -> 0 | J10: 778 | L10: =ROUND(+$J10*K10,2) -> 0 | M10: 778 | O10: =ROUND(+$M10*N10,2) -> 0 | P10: 778 | R10: =ROUND(+$P10*Q10,2) -> 0 | S10: 778 | U10: =ROUND(+$S10*T10,2) -> 0 | AA10: Large Print | AB10: Per Test | AC10: =+G10 -> 778 | AE10: =+H10 -> 0 | AF10: =ROUND((+AD10-$AC10)*AE10,2) -> 0 | AG10: 778 | AI10: =+K10 -> 0 | AJ10: =ROUND((+AH10-$AG10)*AI10,2) -> 0 | AK10: 778 | AM10: =+N10 -> 0 | AN10: =ROUND((+AL10-$AK10)*AM10,2) -> 0 | AO10: 778 | AQ10: =+Q10 -> 0 | AR10: =ROUND((+AP10-$AO10)*AQ10,2) -> 0 | AS10: 778 | AU10: =+T10 -> 0 | AV10: =ROUND((+AT10-$AS10)*AU10,2) -> 0
E11: Spanish | F11: Per Test | G11: 4890 | I11: =ROUND(+$G11*H11,2) -> 0 | J11: 4890 | L11: =ROUND(+$J11*K11,2) -> 0 | M11: 4890 | O11: =ROUND(+$M11*N11,2) -> 0 | P11: 4890 | R11: =ROUND(+$P11*Q11,2) -> 0 | S11: 4890 | U11: =ROUND(+$S11*T11,2) -> 0 | AA11: Spanish | AB11: Per Test | AC11: =+G11 -> 4890 | AE11: =+H11 -> 0 | AF11: =ROUND((+AD11-$AC11)*AE11,2) -> 0 | AG11: 4890 | AI11: =+K11 -> 0 | AJ11: =ROUND((+AH11-$AG11)*AI11,2) -> 0 | AK11: 4890 | AM11: =+N11 -> 0 | AN11: =ROUND((+AL11-$AK11)*AM11,2) -> 0 | AO11: 4890 | AQ11: =+Q11 -> 0 | AR11: =ROUND((+AP11-$AO11)*AQ11,2) -> 0 | AS11: 4890 | AU11: =+T11 -> 0 | AV11: =ROUND((+AT11-$AS11)*AU11,2) -> 0
E12: Braille | F12: Per Test | G12: 32 | I12: =ROUND(+$G12*H12,2) -> 0 | J12: 32 | L12: =ROUND(+$J12*K12,2) -> 0 | M12: 32 | O12: =ROUND(+$M12*N12,2) -> 0 | P12: 32 | R12: =ROUND(+$P12*Q12,2) -> 0 | S12: 32 | U12: =ROUND(+$S12*T12,2) -> 0 | AA12: Braille | AB12: Per Test | AC12: =+G12 -> 32 | AE12: =+H12 -> 0 | AF12: =ROUND((+AD12-$AC12)*AE12,2) -> 0 | AG12: 32 | AI12: =+K12 -> 0 | AJ12: =ROUND((+AH12-$AG12)*AI12,2) -> 0 | AK12: 32 | AM12: =+N12 -> 0 | AN12: =ROUND((+AL12-$AK12)*AM12,2) -> 0 | AO12: 32 | AQ12: =+Q12 -> 0 | AR12: =ROUND((+AP12-$AO12)*AQ12,2) -> 0 | AS12: 32 | AU12: =+T12 -> 0 | AV12: =ROUND((+AT12-$AS12)*AU12,2) -> 0
D13: ELA tests | L13: =ROUND(+$J13*K13,2) -> 0 | Z13: ELA tests | AE13: =+H13 -> 0 | AI13: =+K13 -> 0 | AU13: =+T13 -> 0
E14: Standard | F14: Per Test | G14: 950400 | I14: =ROUND(+$G14*H14,2) -> 0 | J14: 940500 | L14: =ROUND(+$J14*K14,2) -> 0 | M14: 920700 | O14: =ROUND(+$M14*N14,2) -> 0 | P14: 891000 | R14: =ROUND(+$P14*Q14,2) -> 0 | S14: 871200 | U14: =ROUND(+$S14*T14,2) -> 0 | AA14: Standard | AB14: Per Test | AC14: =+G14 -> 950400 | AE14: =+H14 -> 0 | AF14: =ROUND((+AD14-$AC14)*AE14,2) -> 0 | AG14: 940500 | AI14: =+K14 -> 0 | AJ14: =ROUND((+AH14-$AG14)*AI14,2) -> 0 | AK14: 920700 | AM14: =+N14 -> 0 | AN14: =ROUND((+AL14-$AK14)*AM14,2) -> 0 | AO14: 891000 | AQ14: =+Q14 -> 0 | AR14: =ROUND((+AP14-$AO14)*AQ14,2) -> 0 | AS14: 871200 | AU14: =+T14 -> 0 | AV14: =ROUND((+AT14-$AS14)*AU14,2) -> 0
E15: Large Print | F15: Per Test | G15: 777 | I15: =ROUND(+$G15*H15,2) -> 0 | J15: 777 | L15: =ROUND(+$J15*K15,2) -> 0 | M15: 777 | O15: =ROUND(+$M15*N15,2) -> 0 | P15: 777 | R15: =ROUND(+$P15*Q15,2) -> 0 | S15: 777 | U15: =ROUND(+$S15*T15,2) -> 0 | AA15: Large Print | AB15: Per Test | AC15: =+G15 -> 777 | AE15: =+H15 -> 0 | AF15: =ROUND((+AD15-$AC15)*AE15,2) -> 0 | AG15: 777 | AI15: =+K15 -> 0 | AJ15: =ROUND((+AH15-$AG15)*AI15,2) -> 0 | AK15: 777 | AM15: =+N15 -> 0 | AN15: =ROUND((+AL15-$AK15)*AM15,2) -> 0 | AO15: 777 | AQ15: =+Q15 -> 0 | AR15: =ROUND((+AP15-$AO15)*AQ15,2) -> 0 | AS15: 777 | AU15: =+T15 -> 0 | AV15: =ROUND((+AT15-$AS15)*AU15,2) -> 0
E16: Spanish | F16: Per Test | G16: N/A | J16: N/A | M16: N/A | P16: N/A | S16: N/A | AA16: Spanish | AB16: Per Test | AC16: N/A | AE16: =+H16 -> 0 | AG16: N/A | AI16: =+K16 -> 0 | AK16: N/A | AO16: N/A | AS16: N/A
E17: Braille | F17: Per Test | G17: 32 | I17: =ROUND(+$G17*H17,2) -> 0 | J17: 32 | L17: =ROUND(+$J17*K17,2) -> 0 | M17: 32 | O17: =ROUND(+$M17*N17,2) -> 0 | P17: 32 | R17: =ROUND(+$P17*Q17,2) -> 0 | S17: 32 | U17: =ROUND(+$S17*T17,2) -> 0 | AA17: Braille | AB17: Per Test | AC17: =+G17 -> 32 | AE17: =+H17 -> 0 | AF17: =ROUND((+AD17-$AC17)*AE17,2) -> 0 | AG17: 32 | AI17: =+K17 -> 0 | AJ17: =ROUND((+AH17-$AG17)*AI17,2) -> 0 | AK17: 32 | AM17: =+N17 -> 0 | AN17: =ROUND((+AL17-$AK17)*AM17,2) -> 0 | AO17: 32 | AQ17: =+Q17 -> 0 | AR17: =ROUND((+AP17-$AO17)*AQ17,2) -> 0 | AS17: 32 | AU17: =+T17 -> 0 | AV17: =ROUND((+AT17-$AS17)*AU17,2) -> 0
C18: Grades 4 & 8 | L18: =ROUND(+$J18*K18,2) -> 0 | Y18: Grades 4 & 8 | AE18: =+H18 -> 0 | AI18: =+K18 -> 0
D19: Science tests | L19: =ROUND(+$J19*K19,2) -> 0 | Z19: Science tests | AE19: =+H19 -> 0 | AI19: =+K19 -> 0
E20: Standard | F20: Per Test | G20: 316800 | I20: =ROUND(+$G20*H20,2) -> 0 | J20: 313500 | L20: =ROUND(+$J20*K20,2) -> 0 | M20: 306900 | O20: =ROUND(+$M20*N20,2) -> 0 | P20: 297000 | R20: =ROUND(+$P20*Q20,2) -> 0 | S20: 290400 | U20: =ROUND(+$S20*T20,2) -> 0 | AA20: Standard | AB20: Per Test | AC20: =+G20 -> 316800 | AE20: =+H20 -> 0 | AF20: =ROUND((+AD20-$AC20)*AE20,2) -> 0 | AG20: 313500 | AI20: =+K20 -> 0 | AJ20: =ROUND((+AH20-$AG20)*AI20,2) -> 0 | AK20: 306900 | AM20: =+N20 -> 0 | AN20: =ROUND((+AL20-$AK20)*AM20,2) -> 0 | AO20: 297000 | AQ20: =+Q20 -> 0 | AR20: =ROUND((+AP20-$AO20)*AQ20,2) -> 0 | AS20: 290400 | AU20: =+T20 -> 0 | AV20: =ROUND((+AT20-$AS20)*AU20,2) -> 0
E21: Large Print | F21: Per Test | G21: 270 | I21: =ROUND(+$G21*H21,2) -> 0 | J21: 270 | L21: =ROUND(+$J21*K21,2) -> 0 | M21: 270 | O21: =ROUND(+$M21*N21,2) -> 0 | P21: 270 | R21: =ROUND(+$P21*Q21,2) -> 0 | S21: 270 | U21: =ROUND(+$S21*T21,2) -> 0 | AA21: Large Print | AB21: Per Test | AC21: =+G21 -> 270 | AE21: =+H21 -> 0 | AF21: =ROUND((+AD21-$AC21)*AE21,2) -> 0 | AG21: 270 | AI21: =+K21 -> 0 | AJ21: =ROUND((+AH21-$AG21)*AI21,2) -> 0 | AK21: 270 | AM21: =+N21 -> 0 | AN21: =ROUND((+AL21-$AK21)*AM21,2) -> 0 | AO21: 270 | AQ21: =+Q21 -> 0 | AR21: =ROUND((+AP21-$AO21)*AQ21,2) -> 0 | AS21: 270 | AU21: =+T21 -> 0 | AV21: =ROUND((+AT21-$AS21)*AU21,2) -> 0
E22: Spanish | F22: Per Test | G22: 1595 | I22: =ROUND(+$G22*H22,2) -> 0 | J22: 1595 | L22: =ROUND(+$J22*K22,2) -> 0 | M22: 1595 | O22: =ROUND(+$M22*N22,2) -> 0 | P22: 1595 | R22: =ROUND(+$P22*Q22,2) -> 0 | S22: 1595 | U22: =ROUND(+$S22*T22,2) -> 0 | AA22: Spanish | AB22: Per Test | AC22: =+G22 -> 1595 | AE22: =+H22 -> 0 | AF22: =ROUND((+AD22-$AC22)*AE22,2) -> 0 | AG22: 1595 | AI22: =+K22 -> 0 | AJ22: =ROUND((+AH22-$AG22)*AI22,2) -> 0 | AK22: 1595 | AM22: =+N22 -> 0 | AN22: =ROUND((+AL22-$AK22)*AM22,2) -> 0 | AO22: 1595 | AQ22: =+Q22 -> 0 | AR22: =ROUND((+AP22-$AO22)*AQ22,2) -> 0 | AS22: 1595 | AU22: =+T22 -> 0 | AV22: =ROUND((+AT22-$AS22)*AU22,2) -> 0
E23: Braille | F23: Per Test | G23: 10 | I23: =ROUND(+$G23*H23,2) -> 0 | J23: 10 | L23: =ROUND(+$J23*K23,2) -> 0 | M23: 10 | O23: =ROUND(+$M23*N23,2) -> 0 | P23: 10 | R23: =ROUND(+$P23*Q23,2) -> 0 | S23: 10 | U23: =ROUND(+$S23*T23,2) -> 0 | AA23: Braille | AB23: Per Test | AC23: =+G23 -> 10 | AE23: =+H23 -> 0 | AF23: =ROUND((+AD23-$AC23)*AE23,2) -> 0 | AG23: 10 | AI23: =+K23 -> 0 | AJ23: =ROUND((+AH23-$AG23)*AI23,2) -> 0 | AK23: 10 | AM23: =+N23 -> 0 | AN23: =ROUND((+AL23-$AK23)*AM23,2) -> 0 | AO23: 10 | AQ23: =+Q23 -> 0 | AR23: =ROUND((+AP23-$AO23)*AQ23,2) -> 0 | AS23: 10 | AU23: =+T23 -> 0 | AV23: =ROUND((+AT23-$AS23)*AU23,2) -> 0
E24: Total Annual Cost | I24: =SUM(I9:I23) -> 0 | L24: =SUM(L9:L23) -> 0 | O24: =SUM(O9:O23) -> 0 | R24: =SUM(R9:R23) -> 0 | U24: =SUM(U9:U23) -> 0 | AA24: Total Annual Amount/(Credit) Due | AF24: =SUM(AF9:AF23) -> 0 | AJ24: =SUM(AJ9:AJ23) -> 0 | AN24: =SUM(AN9:AN23) -> 0 | AR24: =SUM(AR9:AR23) -> 0 | AV24: =SUM(AV9:AV23) -> 0
C26: Instructions: | Y26: Instructions:
C27: 1) | D27: Offerors should enter their unit prices (blended rate) into the yellow highlighted cells. The blended rate must be inclusive of all the tasks listed in the category PSSA Production, Manufacturing, Shipping and Distribution (see Tab 2). The total annual cost will populate on Tab "2. PSSA Dev. & Admin." spreadsheet. | Y27: 1) | Z27: At the end of each year, the Selected Offeror and the Commonwealth will enter the actual volume of tests in the green highlighted cells to determine any over or under charges.
C28: 2) | D28: Although there are formulas embedded in the spreadsheet, it is the Offeror's responsibility to ensure all calculations are correct. | Y28: 2) | Z28: The Selected Offeror will be reimbursed for any under charges and the Commonwealth will be credited for any over charges.
C29: 3) | D29: Estimated Volume is used for evaluation and reconciliation purposes only and is not a guarantee of work to be performed by the Selected Offeror.

Sheet 2B. PSSA Receiving Detail
C3: Unit Cost Submittal - PSSA Receiving, Scanning, Editing and Scoring | Y3: Annual Reconciliation - PSSA Receiving, Scanning, Editing and Scoring (To be performed by PDE at the end of each fiscal year)
G5: Fiscal Year 2016-2017 | J5: Fiscal Year 2017-2018 | M5: Fiscal Year 2018-2019 | P5: Fiscal Year 2019-2020 | S5: Fiscal Year 2020-2021 | AC5: Fiscal Year 2016-2017 | AG5: Fiscal Year 2017-2018 | AK5: Fiscal Year 2018-2019 | AO5: Fiscal Year 2019-2020 | AS5: Fiscal Year 2020-2021
F6: UOM | G6: Estimated Volume | H6: Unit Price | I6: Total Cost | J6: Estimated Volume | K6: Unit Price | L6: Total Cost | M6: Estimated Volume | N6: Unit Price | O6: Total Cost | P6: Estimated Volume | Q6: Unit Price | R6: Total Cost | S6: Estimated Volume | T6: Unit Price | U6: Total Cost | AB6: UOM | AC6: Estimated Volume | AD6: Actual Volume | AE6: Unit Price | AF6: Amount / (Credit) Due | AG6: Estimated Volume | AH6: Actual Volume | AI6: Unit Price | AJ6: Amount / (Credit) Due | AK6: Estimated Volume | AL6: Actual Volume | AM6: Unit Price | AN6: Amount / (Credit) Due | AO6: Estimated Volume | AP6: Actual Volume | AQ6: Unit Price | AR6: Amount / (Credit) Due | AS6: Estimated Volume | AT6: Actual Volume | AU6: Unit Price | AV6: Amount / (Credit) Due
C7: Grades 3-8 | Y7: Grades 3-8
D8: Math tests | Z8: Math tests
E9: Standard | F9: Per Test | G9: 864000 | I9: =ROUND(+$G9*H9,2) -> 0 | J9: 855000 | L9: =ROUND(+$J9*K9,2) -> 0 | M9: 837000 | O9: =ROUND(+$M9*N9,2) -> 0 | P9: 810000 | R9: =ROUND(+$P9*Q9,2) -> 0 | S9: 792000 | U9: =ROUND(+$S9*T9,2) -> 0 | AA9: Standard | AB9: Per Test | AC9: =+G9 -> 864000 | AE9: =+H9 -> 0 | AF9: =ROUND((+AD9-$AC9)*AE9,2) -> 0 | AG9: =+J9 -> 855000 | AI9: =+K9 -> 0 | AJ9: =ROUND((+AH9-$AC9)*AI9,2) -> 0 | AK9: =+M9 -> 837000 | AM9: =+N9 -> 0 | AN9: =ROUND((+AL9-$AC9)*AM9,2) -> 0 | AO9: =+P9 -> 810000 | AQ9: =+Q9 -> 0 | AR9: =ROUND((+AP9-$AC9)*AQ9,2) -> 0 | AS9: =+S9 -> 792000 | AU9: =+T9 -> 0 | AV9: =ROUND((+AT9-$AC9)*AU9,2) -> 0
E10: Large Print | F10: Per Test | G10: 778 | I10: =ROUND(+$G10*H10,2) -> 0 | J10: 778 | L10: =ROUND(+$J10*K10,2) -> 0 | M10: 778 | O10: =ROUND(+$M10*N10,2) -> 0 | P10: 778 | R10: =ROUND(+$P10*Q10,2) -> 0 | S10: 778 | U10: =ROUND(+$S10*T10,2) -> 0 | AA10: Large Print | AB10: Per Test | AC10: =+G10 -> 778 | AE10: =+H10 -> 0 | AF10: =ROUND((+AD10-$AC10)*AE10,2) -> 0 | AG10: =+J10 -> 778 | AI10: =+K10 -> 0 | AJ10: =ROUND((+AH10-$AC10)*AI10,2) -> 0 | AK10: =+M10 -> 778 | AM10: =+N10 -> 0 | AN10: =ROUND((+AL10-$AC10)*AM10,2) -> 0 | AO10: =+P10 -> 778 | AQ10: =+Q10 -> 0 | AR10: =ROUND((+AP10-$AC10)*AQ10,2) -> 0 | AS10: =+S10 -> 778 | AU10: =+T10 -> 0 | AV10: =ROUND((+AT10-$AC10)*AU10,2) -> 0
E11: Spanish | F11: Per Test | G11: 4890 | I11: =ROUND(+$G11*H11,2) -> 0 | J11: 4890 | L11: =ROUND(+$J11*K11,2) -> 0 | M11: 4890 | O11: =ROUND(+$M11*N11,2) -> 0 | P11: 4890 | R11: =ROUND(+$P11*Q11,2) -> 0 | S11: 4890 | U11: =ROUND(+$S11*T11,2) -> 0 | AA11: Spanish | AB11: Per Test | AC11: =+G11 -> 4890 | AE11: =+H11 -> 0 | AF11: =ROUND((+AD11-$AC11)*AE11,2) -> 0 | AG11: =+J11 -> 4890 | AI11: =+K11 -> 0 | AJ11: =ROUND((+AH11-$AC11)*AI11,2) -> 0 | AK11: =+M11 -> 4890 | AM11: =+N11 -> 0 | AN11: =ROUND((+AL11-$AC11)*AM11,2) -> 0 | AO11: =+P11 -> 4890 | AQ11: =+Q11 -> 0 | AR11: =ROUND((+AP11-$AC11)*AQ11,2) -> 0 | AS11: =+S11 -> 4890 | AU11: =+T11 -> 0 | AV11: =ROUND((+AT11-$AC11)*AU11,2) -> 0
E12: Braille | F12: Per Test | G12: 32 | I12: =ROUND(+$G12*H12,2) -> 0 | J12: 32 | L12: =ROUND(+$J12*K12,2) -> 0 | M12: 32 | O12: =ROUND(+$M12*N12,2) -> 0 | P12: 32 | R12: =ROUND(+$P12*Q12,2) -> 0 | S12: 32 | U12: =ROUND(+$S12*T12,2) -> 0 | AA12: Braille | AB12: Per Test | AC12: =+G12 -> 32 | AE12: =+H12 -> 0 | AF12: =ROUND((+AD12-$AC12)*AE12,2) -> 0 | AG12: =+J12 -> 32 | AI12: =+K12 -> 0 | AJ12: =ROUND((+AH12-$AC12)*AI12,2) -> 0 | AK12: =+M12 -> 32 | AM12: =+N12 -> 0 | AN12: =ROUND((+AL12-$AC12)*AM12,2) -> 0 | AO12: =+P12 -> 32 | AQ12: =+Q12 -> 0 | AR12: =ROUND((+AP12-$AC12)*AQ12,2) -> 0 | AS12: =+S12 -> 32 | AU12: =+T12 -> 0 | AV12: =ROUND((+AT12-$AC12)*AU12,2) -> 0
D13: ELA tests | Z13: ELA tests | AK13: =+M13 -> 0 | AO13: =+P13 -> 0 | AS13: =+S13 -> 0
E14: Standard | F14: Per Test | G14: 864000 | I14: =ROUND(+$G14*H14,2) -> 0 | J14: 855000 | L14: =ROUND(+$J14*K14,2) -> 0 | M14: 837000 | O14: =ROUND(+$M14*N14,2) -> 0 | P14: 810000 | R14: =ROUND(+$P14*Q14,2) -> 0 | S14: 792000 | U14: =ROUND(+$S14*T14,2) -> 0 | AA14: Standard | AB14: Per Test | AC14: =+G14 -> 864000 | AE14: =+H14 -> 0 | AF14: =ROUND((+AD14-$AC14)*AE14,2) -> 0 | AG14: =+J14 -> 855000 | AI14: =+K14 -> 0 | AJ14: =ROUND((+AH14-$AC14)*AI14,2) -> 0 | AK14: =+M14 -> 837000 | AM14: =+N14 -> 0 | AN14: =ROUND((+AL14-$AC14)*AM14,2) -> 0 | AO14: =+P14 -> 810000 | AQ14: =+Q14 -> 0 | AR14: =ROUND((+AP14-$AC14)*AQ14,2) -> 0 | AS14: =+S14 -> 792000 | AU14: =+T14 -> 0 | AV14: =ROUND((+AT14-$AC14)*AU14,2) -> 0
E15: Large Print | F15: Per Test | G15: 777 | I15: =ROUND(+$G15*H15,2) -> 0 | J15: 777 | L15: =ROUND(+$J15*K15,2) -> 0 | M15: 777 | O15: =ROUND(+$M15*N15,2) -> 0 | P15: 777 | R15: =ROUND(+$P15*Q15,2) -> 0 | S15: 777 | U15: =ROUND(+$S15*T15,2) -> 0 | AA15: Large Print | AB15: Per Test | AC15: =+G15 -> 777 | AE15: =+H15 -> 0 | AF15: =ROUND((+AD15-$AC15)*AE15,2) -> 0 | AG15: =+J15 -> 777 | AI15: =+K15 -> 0 | AJ15: =ROUND((+AH15-$AC15)*AI15,2) -> 0 | AK15: =+M15 -> 777 | AM15: =+N15 -> 0 | AN15: =ROUND((+AL15-$AC15)*AM15,2) -> 0 | AO15: =+P15 -> 777 | AQ15: =+Q15 -> 0 | AR15: =ROUND((+AP15-$AC15)*AQ15,2) -> 0 | AS15: =+S15 -> 777 | AU15: =+T15 -> 0 | AV15: =ROUND((+AT15-$AC15)*AU15,2) -> 0
E16: Spanish | F16: Per Test | G16: N/A | J16: N/A | M16: N/A | P16: N/A | S16: N/A | AA16: Spanish | AB16: Per Test | AC16: N/A | AG16: =+J16 -> N/A | AK16: =+M16 -> N/A | AO16: =+P16 -> N/A | AS16: =+S16 -> N/A
E17: Braille | F17: Per Test | G17: 32 | I17: =ROUND(+$G17*H17,2) -> 0 | J17: 32 | L17: =ROUND(+$J17*K17,2) -> 0 | M17: 32 | O17: =ROUND(+$M17*N17,2) -> 0 | P17: 32 | R17: =ROUND(+$P17*Q17,2) -> 0 | S17: 32 | U17: =ROUND(+$S17*T17,2) -> 0 | AA17: Braille | AB17: Per Test | AC17: =+G17 -> 32 | AE17: =+H17 -> 0 | AF17: =ROUND((+AD17-$AC17)*AE17,2) -> 0 | AG17: =+J17 -> 32 | AI17: =+K17 -> 0 | AJ17: =ROUND((+AH17-$AC17)*AI17,2) -> 0 | AK17: =+M17 -> 32 | AM17: =+N17 -> 0 | AN17: =ROUND((+AL17-$AC17)*AM17,2) -> 0 | AO17: =+P17 -> 32 | AQ17: =+Q17 -> 0 | AR17: =ROUND((+AP17-$AC17)*AQ17,2) -> 0 | AS17: =+S17 -> 32 | AU17: =+T17 -> 0 | AV17: =ROUND((+AT17-$AC17)*AU17,2) -> 0
C18: Grades 4 & 8 | Y18: Grades 4 & 8 | AK18: =+M18 -> 0 | AO18: =+P18 -> 0 | AS18: =+S18 -> 0
D19: Science tests | Z19: Science tests | AK19: =+M19 -> 0 | AO19: =+P19 -> 0 | AS19: =+S19 -> 0
E20: Standard | F20: Per Test | G20: 288000 | I20: =ROUND(+$G20*H20,2) -> 0 | J20: 285000 | L20: =ROUND(+$J20*K20,2) -> 0 | M20: 279000 | O20: =ROUND(+$M20*N20,2) -> 0 | P20: 270000 | R20: =ROUND(+$P20*Q20,2) -> 0 | S20: 264000 | U20: =ROUND(+$S20*T20,2) -> 0 | AA20: Standard | AB20: Per Test | AC20: =+G20 -> 288000 | AE20: =+H20 -> 0 | AF20: =ROUND((+AD20-$AC20)*AE20,2) -> 0 | AG20: =+J20 -> 285000 | AI20: =+K20 -> 0 | AJ20: =ROUND((+AH20-$AC20)*AI20,2) -> 0 | AK20: =+M20 -> 279000 | AM20: =+N20 -> 0 | AN20: =ROUND((+AL20-$AC20)*AM20,2) -> 0 | AO20: =+P20 -> 270000 | AQ20: =+Q20 -> 0 | AR20: =ROUND((+AP20-$AC20)*AQ20,2) -> 0 | AS20: =+S20 -> 264000 | AU20: =+T20 -> 0 | AV20: =ROUND((+AT20-$AC20)*AU20,2) -> 0
E21: Large Print | F21: Per Test | G21: 270 | I21: =ROUND(+$G21*H21,2) -> 0 | J21: 270 | L21: =ROUND(+$J21*K21,2) -> 0 | M21: 270 | O21: =ROUND(+$M21*N21,2) -> 0 | P21: 270 | R21: =ROUND(+$P21*Q21,2) -> 0 | S21: 270 | U21: =ROUND(+$S21*T21,2) -> 0 | AA21: Large Print | AB21: Per Test | AC21: =+G21 -> 270 | AE21: =+H21 -> 0 | AF21: =ROUND((+AD21-$AC21)*AE21,2) -> 0 | AG21: =+J21 -> 270 | AI21: =+K21 -> 0 | AJ21: =ROUND((+AH21-$AC21)*AI21,2) -> 0 | AK21: =+M21 -> 270 | AM21: =+N21 -> 0 | AN21: =ROUND((+AL21-$AC21)*AM21,2) -> 0 | AO21: =+P21 -> 270 | AQ21: =+Q21 -> 0 | AR21: =ROUND((+AP21-$AC21)*AQ21,2) -> 0 | AS21: =+S21 -> 270 | AU21: =+T21 -> 0 | AV21: =ROUND((+AT21-$AC21)*AU21,2) -> 0
E22: Spanish | F22: Per Test | G22: 1595 | I22: =ROUND(+$G22*H22,2) -> 0 | J22: 1595 | L22: =ROUND(+$J22*K22,2) -> 0 | M22: 1595 | O22: =ROUND(+$M22*N22,2) -> 0 | P22: 1595 | R22: =ROUND(+$P22*Q22,2) -> 0 | S22: 1595 | U22: =ROUND(+$S22*T22,2) -> 0 | AA22: Spanish | AB22: Per Test | AC22: =+G22 -> 1595 | AE22: =+H22 -> 0 | AF22: =ROUND((+AD22-$AC22)*AE22,2) -> 0 | AG22: =+J22 -> 1595 | AI22: =+K22 -> 0 | AJ22: =ROUND((+AH22-$AC22)*AI22,2) -> 0 | AK22: =+M22 -> 1595 | AM22: =+N22 -> 0 | AN22: =ROUND((+AL22-$AC22)*AM22,2) -> 0 | AO22: =+P22 -> 1595 | AQ22: =+Q22 -> 0 | AR22: =ROUND((+AP22-$AC22)*AQ22,2) -> 0 | AS22: =+S22 -> 1595 | AU22: =+T22 -> 0 | AV22: =ROUND((+AT22-$AC22)*AU22,2) -> 0
E23: Braille | F23: Per Test | G23: 10 | I23: =ROUND(+$G23*H23,2) -> 0 | J23: 10 | L23: =ROUND(+$J23*K23,2) -> 0 | M23: 10 | O23: =ROUND(+$M23*N23,2) -> 0 | P23: 10 | R23: =ROUND(+$P23*Q23,2) -> 0 | S23: 10 | U23: =ROUND(+$S23*T23,2) -> 0 | AA23: Braille | AB23: Per Test | AC23: =+G23 -> 10 | AE23: =+H23 -> 0 | AF23: =ROUND((+AD23-$AC23)*AE23,2) -> 0 | AG23: =+J23 -> 10 | AI23: =+K23 -> 0 | AJ23: =ROUND((+AH23-$AC23)*AI23,2) -> 0 | AK23: =+M23 -> 10 | AM23: =+N23 -> 0 | AN23: =ROUND((+AL23-$AC23)*AM23,2) -> 0 | AO23: =+P23 -> 10 | AQ23: =+Q23 -> 0 | AR23: =ROUND((+AP23-$AC23)*AQ23,2) -> 0 | AS23: =+S23 -> 10 | AU23: =+T23 -> 0 | AV23: =ROUND((+AT23-$AC23)*AU23,2) -> 0
D24: Online Testing: All Test Types | F24: Per Test | G24: 84000 | I24: =ROUND(+$G24*H24,2) -> 0 | J24: 105000 | L24: =ROUND(+$J24*K24,2) -> 0 | M24: 147000 | O24: =ROUND(+$M24*N24,2) -> 0 | P24: 210000 | R24: =ROUND(+$P24*Q24,2) -> 0 | S24: 252000 | U24: =ROUND(+$S24*T24,2) -> 0 | Z24: Online Testing: All Test Types | AB24: Per Test | AC24: =+G24 -> 84000 | AE24: =+H24 -> 0 | AF24: =ROUND((+AD24-$AC24)*AE24,2) -> 0 | AG24: =+J24 -> 105000 | AI24: =+K24 -> 0 | AJ24: =ROUND((+AH24-$AC24)*AI24,2) -> 0 | AK24: =+M24 -> 147000 | AM24: =+N24 -> 0 | AN24: =ROUND((+AL24-$AC24)*AM24,2) -> 0 | AO24: =+P24 -> 210000 | AQ24: =+Q24 -> 0 | AR24: =ROUND((+AP24-$AC24)*AQ24,2) -> 0 | AS24: =+S24 -> 252000 | AU24: =+T24 -> 0 | AV24: =ROUND((+AT24-$AC24)*AU24,2) -> 0
E26: Total Annual Cost | I26: =SUM(I9:I25) -> 0 | L26: =SUM(L9:L25) -> 0 | O26: =SUM(O9:O25) -> 0 | R26: =SUM(R9:R25) -> 0 | U26: =SUM(U9:U25) -> 0 | AA26: Total Annual Amount/(Credit) Due | AF26: =SUM(AF9:AF25) -> 0 | AJ26: =SUM(AJ9:AJ25) -> 0 | AN26: =SUM(AN9:AN25) -> 0 | AR26: =SUM(AR9:AR25) -> 0 | AV26: =SUM(AV9:AV25) -> 0
C28: Instructions: | Y28: Instructions:
C29: 1) | D29: Offerors should enter their unit prices (blended rate) into the yellow highlighted cells. The blended rate must be inclusive of all the tasks listed in the category PSSA Receiving, Scanning, Editing and Scoring (see Tab 2). The total annual cost will populate on Tab "2. PSSA Dev. & Admin." spreadsheet. | Y29: 1) | Z29: At the end of each year, the Selected Offeror and the Commonwealth will enter the actual volume of tests in the green highlighted cells to determine any over or under charges.
C30: 2) | D30: Although there are formulas embedded in the spreadsheet, it is the Offeror's responsibility to ensure all calculations are correct. | Y30: 2) | Z30: The Selected Offeror will be reimbursed for any under charges and the Commonwealth will be credited for any over charges.
C31: 3) | D31: Estimated Volume is used for evaluation and reconciliation purposes only and is not a guarantee of work to be performed by the Selected Offeror.

Sheet 3. Keystone Dev. & Admin.
A1: KEYSTONE EXAMS - DEVELOPMENT AND ADMINISTRATION
A2: Tasks | B2: January 1, 2016 - June 30, 2016 | C2: July 1, 2016 - June 30, 2017 | D2: July 1, 2017 - June 30, 2018 | E2: July 1, 2018 - June 30, 2019 | F2: July 1, 2019 - June 30, 2020 | G2: July 1, 2020 - June 30, 2021
A3: Project Management - including, but not limited to: Program Director, Project Manager, Program Administrator/Coordinator, Toll Free Support Line, Customer Service, Web/Email Support Line, Center for Assessement Subcontract, Assessment Update Bulletins, Training Activities, QA eTesting, General QA Testing, Development Travel, Program Management Travel, Meetings, Transition Related Activities
A4: Information Technology/ Test Delivery System (CBTs) - including, but not limited to: Online Order and Inventory System, File Linkage, Item Banking and Transfer of all items into New Bank, Report Design and Programming, Reporting System Maintenance, Systems Operation and Maintenance, Set Up Costs, Annaul Fixed Costs, Per Student Fees, Tests System Maintenance and Support, Transition Related Activities
A5: Test Development - including, but not limited to: Test Design, Item Development, Forms Construction, Item Copyright, Item Scoring Guide, Item Review Meeting Prep Time, Translations, Transition Related Activities
A6: Psychometrics - including, but not limited to: Linking Studies, Third Party Equating Check/Verification, Validity Studies, Alignment Studies, Data Foresensics, Technical Report, Work Associated with Standard Setting Meetings (exclude travel), Validation, Transition Related Activities
A7: Production, Manufacturing, Shipping and Distribution - including, but not limited to: Accommodations, Design and Composition, Print and Binding, Freight, Warehouse/Distribution, Pre-ID Labels, Item and Scoring Samplers, One Page Sheets for Math Formulas and Open Ended Item Scoring Guidelines, Test Administrator Training Manual, All Other Manuals (including Spanish), Modified Ancillaries for Special Populations, Large Print/Braille - Composition and Printing, Large Print/Braille - Other, Itemand scoring samplers in Braille, Transition Related Activities | C7: =+'3A. Keystone Production Detail'!I23 -> 0 | D7: =+'3A. Keystone Production Detail'!L23 -> 0 | E7: =+'3A. Keystone Production Detail'!O23 -> 0 | F7: =+'3A. Keystone Production Detail'!R23 -> 0 | G7: =+'3A. Keystone Production Detail'!U23 -> 0
A8: Receiving, Scanning, Editing and Scoring - including, but not limited to: Receiving/Staging, Scanning, Editiing, Supplier Scoring ECR, Supplier Scoring SCR, Supplier Scoring Management Labor, Facilities and Equipment Rental, Transition Related Activities | C8: =+'3B. Keystone Receiving Detail'!I24 -> 0 | D8: =+'3B. Keystone Receiving Detail'!L24 -> 0 | E8: =+'3B. Keystone Receiving Detail'!O24 -> 0 | F8: =+'3B. Keystone Receiving Detail'!R24 -> 0 | G8: =+'3B. Keystone Receiving Detail'!U24 -> 0
A9: Reporting - including, but not limited to: Report Printing and Delivery, On-line Reporting, On-Line Reports Preparation, Data Query and Reporting Tool, Production of Student Data Files, Management Reports, Transition Related Activities
A11: Yearly Total for Keystone Development and Administration (Excludes any Optional Services) | B11: =SUM(B3:B9) -> 0 | C11: =SUM(C3:C9) -> 0 | D11: =SUM(D3:D9) -> 0 | E11: =SUM(E3:E9) -> 0 | F11: =SUM(F3:F9) -> 0 | G11: =SUM(G3:G9) -> 0
A13: Total 5-Year Costs for Keystone Development and Administration (Excludes any Optional Services) | C13: =SUM(B11:G11) -> 0
A14: **Any figures presented in the RFP are based on historical usage and may fluctuate based on future needs. All costs will remain in effect for the term of the contract (5 1/2 years).**
A15: ***Fiscal Year runs July 1 - June 30***

Sheet 3A. Keystone Production Detail
C3: Unit Cost Submittal - Keystone Production, Manufacturing, Shipping and Distribution | Y3: Annual Reconciliation - Keystone Production, Manufacturing, Shipping and Distribution (To be performed by PDE at the end of each fiscal year)
G5: Fiscal Year 2016-2017 | J5: Fiscal Year 2017-2018 | M5: Fiscal Year 2018-2019 | P5: Fiscal Year 2019-2020 | S5: Fiscal Year 2020-2021 | AC5: Fiscal Year 2016-2017 | AG5: Fiscal Year 2017-2018 | AK5: Fiscal Year 2018-2019 | AO5: Fiscal Year 2019-2020 | AS5: Fiscal Year 2019-2020
F6: UOM | G6: Estimated Volume | H6: Unit Price | I6: Total Cost | J6: Estimated Volume | K6: Unit Price | L6: Total Cost | M6: Estimated Volume | N6: Unit Price | O6: Total Cost | P6: Estimated Volume | Q6: Unit Price | R6: Total Cost | S6: Estimated Volume | T6: Unit Price | U6: Total Cost | AB6: UOM | AC6: Estimated Volume | AD6: Actual Volume | AE6: Unit Price | AF6: Amount / (Credit) Due | AG6: Estimated Volume | AH6: Actual Volume | AI6: Unit Price | AJ6: Amount / (Credit) Due | AK6: Estimated Volume | AL6: Actual Volume | AM6: Unit Price | AN6: Amount / (Credit) Due | AO6: Estimated Volume | AP6: Actual Volume | AQ6: Unit Price | AR6: Amount / (Credit) Due | AS6: Estimated Volume | AT6: Actual Volume | AU6: Unit Price | AV6: Amount / (Credit) Due
D7: Algebra I | Z7: Math tests
E8: Standard | F8: Per Test | G8: 231000 | I8: =ROUND(+G8*H8,2) -> 0 | J8: 215600 | L8: =ROUND(+J8*K8,2) -> 0 | M8: 200200 | O8: =ROUND(+M8*N8,2) -> 0 | P8: 184800 | R8: =ROUND(+P8*Q8,2) -> 0 | S8: 169400 | U8: =ROUND(+S8*T8,2) -> 0 | AA8: Standard | AB8: Per Test | AC8: =+G8 -> 231000 | AE8: =+H8 -> 0 | AF8: =ROUND((+AD8-AC8)*AE8,2) -> 0 | AG8: =+J8 -> 215600 | AI8: =+K8 -> 0 | AJ8: =ROUND((+AH8-AG8)*AI8,2) -> 0 | AK8: =+M8 -> 200200 | AM8: =+N8 -> 0 | AN8: =ROUND((+AL8-AK8)*AM8,2) -> 0 | AO8: =+P8 -> 184800 | AQ8: =+Q8 -> 0 | AR8: =ROUND((+AP8-AO8)*AQ8,2) -> 0 | AS8: =+S8 -> 169400 | AU8: =+T8 -> 0 | AV8: =ROUND((+AT8-AS8)*AU8,2) -> 0
E9: Large Print | F9: Per Test | G9: 369 | I9: =ROUND(+G9*H9,2) -> 0 | J9: 369 | L9: =ROUND(+J9*K9,2) -> 0 | M9: 369 | O9: =ROUND(+M9*N9,2) -> 0 | P9: 369 | R9: =ROUND(+P9*Q9,2) -> 0 | S9: 369 | U9: =ROUND(+S9*T9,2) -> 0 | AA9: Large Print | AB9: Per Test | AC9: =+G9 -> 369 | AE9: =+H9 -> 0 | AF9: =ROUND((+AD9-AC9)*AE9,2) -> 0 | AG9: =+J9 -> 369 | AI9: =+K9 -> 0 | AJ9: =ROUND((+AH9-AG9)*AI9,2) -> 0 | AK9: =+M9 -> 369 | AM9: =+N9 -> 0 | AN9: =ROUND((+AL9-AK9)*AM9,2) -> 0 | AO9: =+P9 -> 369 | AQ9: =+Q9 -> 0 | AR9: =ROUND((+AP9-AO9)*AQ9,2) -> 0 | AS9: =+S9 -> 369 | AU9: =+T9 -> 0 | AV9: =ROUND((+AT9-AS9)*AU9,2) -> 0
E10: Spanish | F10: Per Test | G10: 3271 | I10: =ROUND(+G10*H10,2) -> 0 | J10: 3271 | L10: =ROUND(+J10*K10,2) -> 0 | M10: 3271 | O10: =ROUND(+M10*N10,2) -> 0 | P10: 3271 | R10: =ROUND(+P10*Q10,2) -> 0 | S10: 3271 | U10: =ROUND(+S10*T10,2) -> 0 | AA10: Spanish | AB10: Per Test | AC10: =+G10 -> 3271 | AE10: =+H10 -> 0 | AF10: =ROUND((+AD10-AC10)*AE10,2) -> 0 | AG10: =+J10 -> 3271 | AI10: =+K10 -> 0 | AJ10: =ROUND((+AH10-AG10)*AI10,2) -> 0 | AK10: =+M10 -> 3271 | AM10: =+N10 -> 0 | AN10: =ROUND((+AL10-AK10)*AM10,2) -> 0 | AO10: =+P10 -> 3271 | AQ10: =+Q10 -> 0 | AR10: =ROUND((+AP10-AO10)*AQ10,2) -> 0 | AS10: =+S10 -> 3271 | AU10: =+T10 -> 0 | AV10: =ROUND((+AT10-AS10)*AU10,2) -> 0
E11: Braille | F11: Per Test | G11: 29 | I11: =ROUND(+G11*H11,2) -> 0 | J11: 29 | L11: =ROUND(+J11*K11,2) -> 0 | M11: 29 | O11: =ROUND(+M11*N11,2) -> 0 | P11: 29 | R11: =ROUND(+P11*Q11,2) -> 0 | S11: 29 | U11: =ROUND(+S11*T11,2) -> 0 | AA11: Braille | AB11: Per Test | AC11: =+G11 -> 29 | AE11: =+H11 -> 0 | AF11: =ROUND((+AD11-AC11)*AE11,2) -> 0 | AG11: =+J11 -> 29 | AI11: =+K11 -> 0 | AJ11: =ROUND((+AH11-AG11)*AI11,2) -> 0 | AK11: =+M11 -> 29 | AM11: =+N11 -> 0 | AN11: =ROUND((+AL11-AK11)*AM11,2) -> 0 | AO11: =+P11 -> 29 | AQ11: =+Q11 -> 0 | AR11: =ROUND((+AP11-AO11)*AQ11,2) -> 0 | AS11: =+S11 -> 29 | AU11: =+T11 -> 0 | AV11: =ROUND((+AT11-AS11)*AU11,2) -> 0
D12: Literature | Z12: ELA tests | AE12: =+H12 -> 0
E13: Standard | F13: Per Test | G13: 231000 | I13: =ROUND(+G13*H13,2) -> 0 | J13: 215600 | L13: =ROUND(+J13*K13,2) -> 0 | M13: 200200 | O13: =ROUND(+M13*N13,2) -> 0 | P13: 184800 | R13: =ROUND(+P13*Q13,2) -> 0 | S13: 169400 | U13: =ROUND(+S13*T13,2) -> 0 | AA13: Standard | AB13: Per Test | AC13: =+G13 -> 231000 | AE13: =+H13 -> 0 | AF13: =ROUND((+AD13-AC13)*AE13,2) -> 0 | AG13: =+J13 -> 215600 | AI13: =+K13 -> 0 | AJ13: =ROUND((+AH13-AG13)*AI13,2) -> 0 | AK13: =+M13 -> 200200 | AM13: =+N13 -> 0 | AN13: =ROUND((+AL13-AK13)*AM13,2) -> 0 | AO13: =+P13 -> 184800 | AQ13: =+Q13 -> 0 | AR13: =ROUND((+AP13-AO13)*AQ13,2) -> 0 | AS13: =+S13 -> 169400 | AU13: =+T13 -> 0 | AV13: =ROUND((+AT13-AS13)*AU13,2) -> 0
E14: Large Print | F14: Per Test | G14: 287 | I14: =ROUND(+G14*H14,2) -> 0 | J14: 287 | L14: =ROUND(+J14*K14,2) -> 0 | M14: 287 | O14: =ROUND(+M14*N14,2) -> 0 | P14: 287 | R14: =ROUND(+P14*Q14,2) -> 0 | S14: 287 | U14: =ROUND(+S14*T14,2) -> 0 | AA14: Large Print | AB14: Per Test | AC14: =+G14 -> 287 | AE14: =+H14 -> 0 | AF14: =ROUND((+AD14-AC14)*AE14,2) -> 0 | AG14: =+J14 -> 287 | AI14: =+K14 -> 0 | AJ14: =ROUND((+AH14-AG14)*AI14,2) -> 0 | AK14: =+M14 -> 287 | AM14: =+N14 -> 0 | AN14: =ROUND((+AL14-AK14)*AM14,2) -> 0 | AO14: =+P14 -> 287 | AQ14: =+Q14 -> 0 | AR14: =ROUND((+AP14-AO14)*AQ14,2) -> 0 | AS14: =+S14 -> 287 | AU14: =+T14 -> 0 | AV14: =ROUND((+AT14-AS14)*AU14,2) -> 0
E15: Spanish | F15: Per Test | G15: N/A | J15: N/A | M15: N/A | P15: N/A | S15: N/A | AA15: Spanish | AB15: Per Test | AC15: N/A | AE15: =+H15 -> 0
E16: Braille | F16: Per Test | G16: 28 | I16: =ROUND(+G16*H16,2) -> 0 | J16: 28 | L16: =ROUND(+J16*K16,2) -> 0 | M16: 28 | O16: =ROUND(+M16*N16,2) -> 0 | P16: 28 | R16: =ROUND(+P16*Q16,2) -> 0 | S16: 28 | U16: =ROUND(+S16*T16,2) -> 0 | AA16: Braille | AB16: Per Test | AC16: =+G16 -> 28 | AE16: =+H16 -> 0 | AF16: =ROUND((+AD16-AC16)*AE16,2) -> 0 | AG16: =+J16 -> 28 | AI16: =+K16 -> 0 | AJ16: =ROUND((+AH16-AG16)*AI16,2) -> 0 | AK16: =+M16 -> 28 | AM16: =+N16 -> 0 | AN16: =ROUND((+AL16-AK16)*AM16,2) -> 0 | AO16: =+P16 -> 28 | AQ16: =+Q16 -> 0 | AR16: =ROUND((+AP16-AO16)*AQ16,2) -> 0 | AS16: =+S16 -> 28 | AU16: =+T16 -> 0 | AV16: =ROUND((+AT16-AS16)*AU16,2) -> 0
D17: Biology | Z17: Science tests | AE17: =+H17 -> 0
E18: Standard | F18: Per Test | G18: 231000 | I18: =ROUND(+G18*H18,2) -> 0 | J18: 215600 | L18: =ROUND(+J18*K18,2) -> 0 | M18: 200200 | O18: =ROUND(+M18*N18,2) -> 0 | P18: 184800 | R18: =ROUND(+P18*Q18,2) -> 0 | S18: 169400 | U18: =ROUND(+S18*T18,2) -> 0 | AA18: Standard | AB18: Per Test | AC18: =+G18 -> 231000 | AE18: =+H18 -> 0 | AF18: =ROUND((+AD18-AC18)*AE18,2) -> 0 | AG18: =+J18 -> 215600 | AI18: =+K18 -> 0 | AJ18: =ROUND((+AH18-AG18)*AI18,2) -> 0 | AK18: =+M18 -> 200200 | AM18: =+N18 -> 0 | AN18: =ROUND((+AL18-AK18)*AM18,2) -> 0 | AO18: =+P18 -> 184800 | AQ18: =+Q18 -> 0 | AR18: =ROUND((+AP18-AO18)*AQ18,2) -> 0 | AS18: =+S18 -> 169400 | AU18: =+T18 -> 0 | AV18: =ROUND((+AT18-AS18)*AU18,2) -> 0
E19: Large Print | F19: Per Test | G19: 328 | I19: =ROUND(+G19*H19,2) -> 0 | J19: 328 | L19: =ROUND(+J19*K19,2) -> 0 | M19: 328 | O19: =ROUND(+M19*N19,2) -> 0 | P19: 328 | R19: =ROUND(+P19*Q19,2) -> 0 | S19: 328 | U19: =ROUND(+S19*T19,2) -> 0 | AA19: Large Print | AB19: Per Test | AC19: =+G19 -> 328 | AE19: =+H19 -> 0 | AF19: =ROUND((+AD19-AC19)*AE19,2) -> 0 | AG19: =+J19 -> 328 | AI19: =+K19 -> 0 | AJ19: =ROUND((+AH19-AG19)*AI19,2) -> 0 | AK19: =+M19 -> 328 | AM19: =+N19 -> 0 | AN19: =ROUND((+AL19-AK19)*AM19,2) -> 0 | AO19: =+P19 -> 328 | AQ19: =+Q19 -> 0 | AR19: =ROUND((+AP19-AO19)*AQ19,2) -> 0 | AS19: =+S19 -> 328 | AU19: =+T19 -> 0 | AV19: =ROUND((+AT19-AS19)*AU19,2) -> 0
E20: Spanish | F20: Per Test | G20: 2714 | I20: =ROUND(+G20*H20,2) -> 0 | J20: 2714 | L20: =ROUND(+J20*K20,2) -> 0 | M20: 2714 | O20: =ROUND(+M20*N20,2) -> 0 | P20: 2714 | R20: =ROUND(+P20*Q20,2) -> 0 | S20: 2714 | U20: =ROUND(+S20*T20,2) -> 0 | AA20: Spanish | AB20: Per Test | AC20: =+G20 -> 2714 | AE20: =+H20 -> 0 | AF20: =ROUND((+AD20-AC20)*AE20,2) -> 0 | AG20: =+J20 -> 2714 | AI20: =+K20 -> 0 | AJ20: =ROUND((+AH20-AG20)*AI20,2) -> 0 | AK20: =+M20 -> 2714 | AM20: =+N20 -> 0 | AN20: =ROUND((+AL20-AK20)*AM20,2) -> 0 | AO20: =+P20 -> 2714 | AQ20: =+Q20 -> 0 | AR20: =ROUND((+AP20-AO20)*AQ20,2) -> 0 | AS20: =+S20 -> 2714 | AU20: =+T20 -> 0 | AV20: =ROUND((+AT20-AS20)*AU20,2) -> 0
E21: Braille | F21: Per Test | G21: 28 | I21: =ROUND(+G21*H21,2) -> 0 | J21: 28 | L21: =ROUND(+J21*K21,2) -> 0 | M21: 28 | O21: =ROUND(+M21*N21,2) -> 0 | P21: 28 | R21: =ROUND(+P21*Q21,2) -> 0 | S21: 28 | U21: =ROUND(+S21*T21,2) -> 0 | AA21: Braille | AB21: Per Test | AC21: =+G21 -> 28 | AE21: =+H21 -> 0 | AF21: =ROUND((+AD21-AC21)*AE21,2) -> 0 | AG21: =+J21 -> 28 | AI21: =+K21 -> 0 | AJ21: =ROUND((+AH21-AG21)*AI21,2) -> 0 | AK21: =+M21 -> 28 | AM21: =+N21 -> 0 | AN21: =ROUND((+AL21-AK21)*AM21,2) -> 0 | AO21: =+P21 -> 28 | AQ21: =+Q21 -> 0 | AR21: =ROUND((+AP21-AO21)*AQ21,2) -> 0 | AS21: =+S21 -> 28 | AU21: =+T21 -> 0 | AV21: =ROUND((+AT21-AS21)*AU21,2) -> 0
E23: Total Annual Cost | I23: =SUM(I8:I22) -> 0 | L23: =SUM(L8:L22) -> 0 | O23: =SUM(O8:O22) -> 0 | R23: =SUM(R8:R22) -> 0 | U23: =SUM(U8:U22) -> 0 | AA23: Total Annual Amount/(Credit) Due | AF23: =SUM(AF8:AF22) -> 0 | AJ23: =SUM(AJ8:AJ22) -> 0 | AN23: =SUM(AN8:AN22) -> 0 | AR23: =SUM(AR8:AR22) -> 0 | AV23: =SUM(AV8:AV22) -> 0
C27: Instructions: | Z27: Instructions:
C28: 1) | D28: Offerors should enter their unit prices (blended rate) into the yellow highlighted cells. The blended rate must be inclusive of all the tasks listed in the category Keystone Production, Manufacturing, Shipping and Distribution (see Tab 3). The total annual cost will populate on Tab "3. Keystone Dev. & Admin." spreadsheet. | Z28: 1) | AA28: At the end of each year, the Selected Offeror and the Commonwealth will enter the actual volume of tests in the green highlighted cells to determine any over or under charges.
C29: 2) | D29: Although there are formulas embedded in the spreadsheet, it is the Offeror's responsibility to ensure all calculations are correct. | Z29: 2) | AA29: The Selected Offeror will be reimbursed for any under charges and the Commonwealth will be credited for any over charges.
C30: 3) | D30: Estimated Volume is used for evaluation and reconciliation purposes only and is not a guarantee of work to be performed by the Selected Offeror.

Sheet 3B. Keystone Receiving Detail
C3: Unit Cost Submittal - Keystone Receiving, Scanning, Editing and Scoring | Y3: Annual Reconciliation - Keystone Receiving, Scanning, Editing and Scoring (To be performed by PDE at the end of each fiscal year)
G5: Fiscal Year 2016-2017 | J5: Fiscal Year 2017-2018 | M5: Fiscal Year 2018-2019 | P5: Fiscal Year 2019-2020 | S5: Fiscal Year 2020-2021 | AC5: Fiscal Year 2016-2017 | AG5: Fiscal Year 2017-2018 | AK5: Fiscal Year 2018-2019 | AO5: Fiscal Year 2019-2020 | AS5: Fiscal Year 2019-2020
F6: UOM | G6: Estimated Volume | H6: Unit Price | I6: Total Cost | J6: Estimated Volume | K6: Unit Price | L6: Total Cost | M6: Estimated Volume | N6: Unit Price | O6: Total Cost | P6: Estimated Volume | Q6: Unit Price | R6: Total Cost | S6: Estimated Volume | T6: Unit Price | U6: Total Cost | AB6: UOM | AC6: Estimated Volume | AD6: Actual Volume | AE6: Unit Price | AF6: Amount / (Credit) Due | AG6: Estimated Volume | AH6: Actual Volume | AI6: Unit Price | AJ6: Amount / (Credit) Due | AK6: Estimated Volume | AL6: Actual Volume | AM6: Unit Price | AN6: Amount / (Credit) Due | AO6: Estimated Volume | AP6: Actual Volume | AQ6: Unit Price | AR6: Amount / (Credit) Due | AS6: Estimated Volume | AT6: Actual Volume | AU6: Unit Price | AV6: Amount / (Credit) Due
D7: Algebra I | Z7: Math tests
E8: Standard | F8: Per Test | G8: 210000 | I8: =ROUND(+G8*H8,2) -> 0 | J8: 196000 | L8: =ROUND(+J8*K8,2) -> 0 | M8: 182000 | O8: =ROUND(+M8*N8,2) -> 0 | P8: 168000 | R8: =ROUND(+P8*Q8,2) -> 0 | S8: 154000 | U8: =ROUND(+S8*T8,2) -> 0 | AA8: Standard | AB8: Per Test | AC8: =+G8 -> 210000 | AE8: =+H8 -> 0 | AF8: =ROUND((+AD8-AC8)*AE8,2) -> 0 | AG8: =+J8 -> 196000 | AI8: =+K8 -> 0 | AJ8: =ROUND((+AH8-AG8)*AI8,2) -> 0 | AK8: =+M8 -> 182000 | AM8: =+N8 -> 0 | AN8: =ROUND((+AL8-AK8)*AM8,2) -> 0 | AO8: =+P8 -> 168000 | AQ8: =+Q8 -> 0 | AR8: =ROUND((+AP8-AO8)*AQ8,2) -> 0 | AS8: =+S8 -> 154000 | AU8: =+T8 -> 0 | AV8: =ROUND((+AT8-AS8)*AU8,2) -> 0
E9: Large Print | F9: Per Test | G9: 369 | I9: =ROUND(+G9*H9,2) -> 0 | J9: 369 | L9: =ROUND(+J9*K9,2) -> 0 | M9: 369 | O9: =ROUND(+M9*N9,2) -> 0 | P9: 369 | R9: =ROUND(+P9*Q9,2) -> 0 | S9: 369 | U9: =ROUND(+S9*T9,2) -> 0 | AA9: Large Print | AB9: Per Test | AC9: =+G9 -> 369 | AE9: =+H9 -> 0 | AF9: =ROUND((+AD9-AC9)*AE9,2) -> 0 | AG9: =+J9 -> 369 | AI9: =+K9 -> 0 | AJ9: =ROUND((+AH9-AG9)*AI9,2) -> 0 | AK9: =+M9 -> 369 | AM9: =+N9 -> 0 | AN9: =ROUND((+AL9-AK9)*AM9,2) -> 0 | AO9: =+P9 -> 369 | AQ9: =+Q9 -> 0 | AR9: =ROUND((+AP9-AO9)*AQ9,2) -> 0 | AS9: =+S9 -> 369 | AU9: =+T9 -> 0 | AV9: =ROUND((+AT9-AS9)*AU9,2) -> 0
E10: Spanish | F10: Per Test | G10: 3271 | I10: =ROUND(+G10*H10,2) -> 0 | J10: 3271 | L10: =ROUND(+J10*K10,2) -> 0 | M10: 3271 | O10: =ROUND(+M10*N10,2) -> 0 | P10: 3271 | R10: =ROUND(+P10*Q10,2) -> 0 | S10: 3271 | U10: =ROUND(+S10*T10,2) -> 0 | AA10: Spanish | AB10: Per Test | AC10: =+G10 -> 3271 | AE10: =+H10 -> 0 | AF10: =ROUND((+AD10-AC10)*AE10,2) -> 0 | AG10: =+J10 -> 3271 | AI10: =+K10 -> 0 | AJ10: =ROUND((+AH10-AG10)*AI10,2) -> 0 | AK10: =+M10 -> 3271 | AM10: =+N10 -> 0 | AN10: =ROUND((+AL10-AK10)*AM10,2) -> 0 | AO10: =+P10 -> 3271 | AQ10: =+Q10 -> 0 | AR10: =ROUND((+AP10-AO10)*AQ10,2) -> 0 | AS10: =+S10 -> 3271 | AU10: =+T10 -> 0 | AV10: =ROUND((+AT10-AS10)*AU10,2) -> 0
E11: Braille | F11: Per Test | G11: 29 | I11: =ROUND(+G11*H11,2) -> 0 | J11: 29 | L11: =ROUND(+J11*K11,2) -> 0 | M11: 29 | O11: =ROUND(+M11*N11,2) -> 0 | P11: 29 | R11: =ROUND(+P11*Q11,2) -> 0 | S11: 29 | U11: =ROUND(+S11*T11,2) -> 0 | AA11: Braille | AB11: Per Test | AC11: =+G11 -> 29 | AE11: =+H11 -> 0 | AF11: =ROUND((+AD11-AC11)*AE11,2) -> 0 | AG11: =+J11 -> 29 | AI11: =+K11 -> 0 | AJ11: =ROUND((+AH11-AG11)*AI11,2) -> 0 | AK11: =+M11 -> 29 | AM11: =+N11 -> 0 | AN11: =ROUND((+AL11-AK11)*AM11,2) -> 0 | AO11: =+P11 -> 29 | AQ11: =+Q11 -> 0 | AR11: =ROUND((+AP11-AO11)*AQ11,2) -> 0 | AS11: =+S11 -> 29 | AU11: =+T11 -> 0 | AV11: =ROUND((+AT11-AS11)*AU11,2) -> 0
D12: Literature | Z12: ELA tests
E13: Standard | F13: Per Test | G13: 210000 | I13: =ROUND(+G13*H13,2) -> 0 | J13: 196000 | L13: =ROUND(+J13*K13,2) -> 0 | M13: 182000 | O13: =ROUND(+M13*N13,2) -> 0 | P13: 168000 | R13: =ROUND(+P13*Q13,2) -> 0 | S13: 154000 | U13: =ROUND(+S13*T13,2) -> 0 | AA13: Standard | AB13: Per Test | AC13: =+G13 -> 210000 | AE13: =+H13 -> 0 | AF13: =ROUND((+AD13-AC13)*AE13,2) -> 0 | AG13: =+J13 -> 196000 | AI13: =+K13 -> 0 | AJ13: =ROUND((+AH13-AG13)*AI13,2) -> 0 | AK13: =+M13 -> 182000 | AM13: =+N13 -> 0 | AN13: =ROUND((+AL13-AK13)*AM13,2) -> 0 | AO13: =+P13 -> 168000 | AQ13: =+Q13 -> 0 | AR13: =ROUND((+AP13-AO13)*AQ13,2) -> 0 | AS13: =+S13 -> 154000 | AU13: =+T13 -> 0 | AV13: =ROUND((+AT13-AS13)*AU13,2) -> 0
E14: Large Print | F14: Per Test | G14: 287 | I14: =ROUND(+G14*H14,2) -> 0 | J14: 287 | L14: =ROUND(+J14*K14,2) -> 0 | M14: 287 | O14: =ROUND(+M14*N14,2) -> 0 | P14: 287 | R14: =ROUND(+P14*Q14,2) -> 0 | S14: 287 | U14: =ROUND(+S14*T14,2) -> 0 | AA14: Large Print | AB14: Per Test | AC14: =+G14 -> 287 | AE14: =+H14 -> 0 | AF14: =ROUND((+AD14-AC14)*AE14,2) -> 0 | AG14: =+J14 -> 287 | AI14: =+K14 -> 0 | AJ14: =ROUND((+AH14-AG14)*AI14,2) -> 0 | AK14: =+M14 -> 287 | AM14: =+N14 -> 0 | AN14: =ROUND((+AL14-AK14)*AM14,2) -> 0 | AO14: =+P14 -> 287 | AQ14: =+Q14 -> 0 | AR14: =ROUND((+AP14-AO14)*AQ14,2) -> 0 | AS14: =+S14 -> 287 | AU14: =+T14 -> 0 | AV14: =ROUND((+AT14-AS14)*AU14,2) -> 0
E15: Spanish | F15: Per Test | G15: N/A | J15: N/A | M15: N/A | P15: N/A | S15: N/A | AA15: Spanish | AB15: Per Test | AC15: N/A | AQ15: =+Q15 -> 0
E16: Braille | F16: Per Test | G16: 28 | I16: =ROUND(+G16*H16,2) -> 0 | J16: 28 | L16: =ROUND(+J16*K16,2) -> 0 | M16: 28 | O16: =ROUND(+M16*N16,2) -> 0 | P16: 28 | R16: =ROUND(+P16*Q16,2) -> 0 | S16: 28 | U16: =ROUND(+S16*T16,2) -> 0 | AA16: Braille | AB16: Per Test | AC16: =+G16 -> 28 | AE16: =+H16 -> 0 | AF16: =ROUND((+AD16-AC16)*AE16,2) -> 0 | AG16: =+J16 -> 28 | AI16: =+K16 -> 0 | AJ16: =ROUND((+AH16-AG16)*AI16,2) -> 0 | AK16: =+M16 -> 28 | AM16: =+N16 -> 0 | AN16: =ROUND((+AL16-AK16)*AM16,2) -> 0 | AO16: =+P16 -> 28 | AQ16: =+Q16 -> 0 | AR16: =ROUND((+AP16-AO16)*AQ16,2) -> 0 | AS16: =+S16 -> 28 | AU16: =+T16 -> 0 | AV16: =ROUND((+AT16-AS16)*AU16,2) -> 0
D17: Biology | Z17: Science tests
E18: Standard | F18: Per Test | G18: 210000 | I18: =ROUND(+G18*H18,2) -> 0 | J18: 196000 | L18: =ROUND(+J18*K18,2) -> 0 | M18: 182000 | O18: =ROUND(+M18*N18,2) -> 0 | P18: 168000 | R18: =ROUND(+P18*Q18,2) -> 0 | S18: 154000 | U18: =ROUND(+S18*T18,2) -> 0 | AA18: Standard | AB18: Per Test | AC18: =+G18 -> 210000 | AE18: =+H18 -> 0 | AF18: =ROUND((+AD18-AC18)*AE18,2) -> 0 | AG18: =+J18 -> 196000 | AI18: =+K18 -> 0 | AJ18: =ROUND((+AH18-AG18)*AI18,2) -> 0 | AK18: =+M18 -> 182000 | AM18: =+N18 -> 0 | AN18: =ROUND((+AL18-AK18)*AM18,2) -> 0 | AO18: =+P18 -> 168000 | AQ18: =+Q18 -> 0 | AR18: =ROUND((+AP18-AO18)*AQ18,2) -> 0 | AS18: =+S18 -> 154000 | AU18: =+T18 -> 0 | AV18: =ROUND((+AT18-AS18)*AU18,2) -> 0
E19: Large Print | F19: Per Test | G19: 328 | I19: =ROUND(+G19*H19,2) -> 0 | J19: 328 | L19: =ROUND(+J19*K19,2) -> 0 | M19: 328 | O19: =ROUND(+M19*N19,2) -> 0 | P19: 328 | R19: =ROUND(+P19*Q19,2) -> 0 | S19: 328 | U19: =ROUND(+S19*T19,2) -> 0 | AA19: Large Print | AB19: Per Test | AC19: =+G19 -> 328 | AE19: =+H19 -> 0 | AF19: =ROUND((+AD19-AC19)*AE19,2) -> 0 | AG19: =+J19 -> 328 | AI19: =+K19 -> 0 | AJ19: =ROUND((+AH19-AG19)*AI19,2) -> 0 | AK19: =+M19 -> 328 | AM19: =+N19 -> 0 | AN19: =ROUND((+AL19-AK19)*AM19,2) -> 0 | AO19: =+P19 -> 328 | AQ19: =+Q19 -> 0 | AR19: =ROUND((+AP19-AO19)*AQ19,2) -> 0 | AS19: =+S19 -> 328 | AU19: =+T19 -> 0 | AV19: =ROUND((+AT19-AS19)*AU19,2) -> 0
E20: Spanish | F20: Per Test | G20: 2714 | I20: =ROUND(+G20*H20,2) -> 0 | J20: 2714 | L20: =ROUND(+J20*K20,2) -> 0 | M20: 2714 | O20: =ROUND(+M20*N20,2) -> 0 | P20: 2714 | R20: =ROUND(+P20*Q20,2) -> 0 | S20: 2714 | U20: =ROUND(+S20*T20,2) -> 0 | AA20: Spanish | AB20: Per Test | AC20: =+G20 -> 2714 | AE20: =+H20 -> 0 | AF20: =ROUND((+AD20-AC20)*AE20,2) -> 0 | AG20: =+J20 -> 2714 | AI20: =+K20 -> 0 | AJ20: =ROUND((+AH20-AG20)*AI20,2) -> 0 | AK20: =+M20 -> 2714 | AM20: =+N20 -> 0 | AN20: =ROUND((+AL20-AK20)*AM20,2) -> 0 | AO20: =+P20 -> 2714 | AQ20: =+Q20 -> 0 | AR20: =ROUND((+AP20-AO20)*AQ20,2) -> 0 | AS20: =+S20 -> 2714 | AU20: =+T20 -> 0 | AV20: =ROUND((+AT20-AS20)*AU20,2) -> 0
E21: Braille | F21: Per Test | G21: 28 | I21: =ROUND(+G21*H21,2) -> 0 | J21: 28 | L21: =ROUND(+J21*K21,2) -> 0 | M21: 28 | O21: =ROUND(+M21*N21,2) -> 0 | P21: 28 | R21: =ROUND(+P21*Q21,2) -> 0 | S21: 28 | U21: =ROUND(+S21*T21,2) -> 0 | AA21: Braille | AB21: Per Test | AC21: =+G21 -> 28 | AE21: =+H21 -> 0 | AF21: =ROUND((+AD21-AC21)*AE21,2) -> 0 | AG21: =+J21 -> 28 | AI21: =+K21 -> 0 | AJ21: =ROUND((+AH21-AG21)*AI21,2) -> 0 | AK21: =+M21 -> 28 | AM21: =+N21 -> 0 | AN21: =ROUND((+AL21-AK21)*AM21,2) -> 0 | AO21: =+P21 -> 28 | AQ21: =+Q21 -> 0 | AR21: =ROUND((+AP21-AO21)*AQ21,2) -> 0 | AS21: =+S21 -> 28 | AU21: =+T21 -> 0 | AV21: =ROUND((+AT21-AS21)*AU21,2) -> 0
D22: Online Testing: All Test Types | F22: Per Test | G22: 210000 | I22: =ROUND(+G22*H22,2) -> 0 | J22: 252000 | L22: =ROUND(+J22*K22,2) -> 0 | M22: 294000 | O22: =ROUND(+M22*N22,2) -> 0 | P22: 336000 | R22: =ROUND(+P22*Q22,2) -> 0 | S22: 378000 | U22: =ROUND(+S22*T22,2) -> 0 | Z22: Online Testing: All Test Types | AB22: Per Test | AC22: =+G22 -> 210000 | AE22: =+H22 -> 0 | AF22: =ROUND((+AD22-AC22)*AE22,2) -> 0 | AG22: =+J22 -> 252000 | AI22: =+K22 -> 0 | AJ22: =ROUND((+AH22-AG22)*AI22,2) -> 0 | AK22: =+M22 -> 294000 | AM22: =+N22 -> 0 | AN22: =ROUND((+AL22-AK22)*AM22,2) -> 0 | AO22: =+P22 -> 336000 | AQ22: =+Q22 -> 0 | AR22: =ROUND((+AP22-AO22)*AQ22,2) -> 0 | AS22: =+S22 -> 378000 | AU22: =+T22 -> 0 | AV22: =ROUND((+AT22-AS22)*AU22,2) -> 0
E24: Total Annual Cost | I24: =SUM(I8:I23) -> 0 | L24: =SUM(L8:L23) -> 0 | O24: =SUM(O8:O23) -> 0 | R24: =SUM(R8:R23) -> 0 | U24: =SUM(U8:U23) -> 0 | AA24: Total Annual Amount/(Credit) Due | AF24: =SUM(AF8:AF23) -> 0 | AJ24: =SUM(AJ8:AJ23) -> 0 | AN24: =SUM(AN8:AN23) -> 0 | AR24: =SUM(AR8:AR23) -> 0 | AV24: =SUM(AV8:AV23) -> 0
C28: Instructions: | Z28: Instructions:
C29: 1) | D29: Offerors should enter their unit prices (blended rate) into the yellow highlighted cells. The blended rate must be inclusive of all the tasks listed in the category Keystone Receiving, Scanning, Editing and Scoring (see Tab 3). The total annual cost will populate on Tab "3. Keystone Dev. & Admin." spreadsheet. | Z29: 1) | AA29: At the end of each year, the Selected Offeror and the Commonwealth will enter the actual volume of tests in the green highlighted cells to determine any over or under charges.
C30: 2) | D30: Although there are formulas embedded in the spreadsheet, it is the Offeror's responsibility to ensure all calculations are correct. | Z30: 2) | AA30: The Selected Offeror will be reimbursed for any under charges and the Commonwealth will be credited for any over charges.
C31: 3) | D31: Estimated Volume is used for evaluation and reconciliation purposes only and is not a guarantee of work to be performed by the Selected Offeror.

Sheet 4. CDT Dev. & Admin.
A1: CLASSROOM DIAGNOSTIC TOOLS (CDT) - DEVELOPMENT AND ADMINISTRATION
A2: Tasks | B2: January 1, 2016 - June 30, 2016 | C2: July 1, 2016 - June 30, 2017 | D2: July 1, 2017 - June 30, 2018 | E2: July 1, 2018 - June 30, 2019 | F2: July 1, 2019 - June 30, 2020 | G2: July 1, 2020 - June 30, 2021
A3: Project Management - including, but not limited to: Program Director, Project Manager, Program Administrator/Coordinator, Toll Free Support Line, Customer Service, Web/Email Support Line, Training Activities and Interactive Simulations, Professional Development Activities, Update and Maintenance of Professional Development Tools and Resources, Test and Technology Coordinator Training, QA eTesting, General QA Testing, Development Travel, Program Management Travel, Meetings, Transition Related Activities
A4: Information Technology/ Test Delivery System (CBTs) - including, but not limited to: Online Test Set Up, Online Accommodations, Item Banking and Transfer of all items into New Bank, Report Design and Programming, Reporting System Maintenance, Reporting Systems Operation, Set Up Costs, Annaul Fixed Costs, Per Student Fees, Tests System Maintenance and Support, Online Tools, Initial Set up and Programming, CAT System Compatibility Test, Transition Related Activities
A5: Test Development - including, but not limited to: Test Design, Item Development, Forms Construction, Item Copyright, Item Samplers, Item Review Meeting Prep Time, Transition Related Activities
A6: Psychometrics - including, but not limited to: General Psychometric Labor for Analysis, Scaling, Equating, etc., Various Studies1 (Correalation analysis with Keystone Exams), Various Studies 2, Technical Report, Transition Related Activities
A7: Production, Manufacturing, Shipping and Distribution - including, but not limited to: Design and Preparation of Online Manuals, Item Samplers, Transition Related Activities
A8: Receiving, Scanning, Editing and Scoring
A9: Reporting - including, but not limited to:On-line Reporting, On-Line Reports Preparation, Linkage to Classroom Resrouces and SAS, Transition Related Activities
A11: Yearly Total for Classroom Diagnostic Tool (Excludes any Optional Services) | B11: =SUM(B3:B9) -> 0 | C11: =SUM(C3:C9) -> 0 | D11: =SUM(D3:D9) -> 0 | E11: =SUM(E3:E9) -> 0 | F11: =SUM(F3:F9) -> 0 | G11: =SUM(G3:G9) -> 0
A13: Total 5 1/2 Year Costs for Classroom Diagnostic Tool (Excludes any Optional Services) | C13: =SUM(B11:G11) -> 0
A14: **Any figures presented in the RFP are based on historical usage and may fluctuate based on future needs. All costs will remain in effect for the life of the Contract.
